{"text_format":"1","workbook":"xlsx","n_sheets":17,"sheets":["Data","c design-col","bre charts","52.5 (0 SP + 0 PFA)","52.5 (SP, NO PFA)","52.5 (20% PFA, 0SP)","52.5 (20%PFA + SP)","52.5 (40% PFA, 0SP)","Sheet2 (2)","Sheet2 (4)","52.5 (40% PFA + SP)","Sheet1","Sheet2","Sheet3","Sheet2 (3)","Sheet5","Sheet4"],"not_rendered":{"charts":50,"images":0,"macros":1,"external_links":0,"defined_names":10,"comments":1,"pivot_tables":0},"unopened":[],"bounds":{"document_bytes":16777216,"sheet_cells":100000,"rows_first":2000,"rows_last":500,"rows_between":2000,"halvings":0,"cell_chars":16384,"cell_head_chars":4096},"cells_cut":0,"cells_raw":0,"read":"whole","date_system":"1900"}

{"sheet":"Data","index":0,"n_rows":11,"n_cols":10,"rows_kept":11,"cut":false,"hidden":false,"merged":[]}
["Material","ECO2 (EU or Flower & Sanjayan)","ECO2 (ICE)","ECO2eq (ICE)","EE","EE (ICE)","E H2O","Price"]
["CEM I",{"$f":"(-1.2241+885.107)/1000","v":0.88388289999999992},0.93,0.95,null,5.5,{"$f":"529.265-1302.59+0.0347726+1078.14+85.568-217.977","v":172.44077260000014},9.5000000000000001E-2,{"$f":"H2-(B2*0.004)","v":9.1464468399999999E-2},"http://elcd.jrc.ec.europa.eu/ELCD3/resource/processes/600573dd-dfa5-44e5-b458-8727e793ffd7?format=html&version=03.00.000"]
["PFA",2.7E-2,8.0000000000000002E-3,"-",null,0.1,null,4.4999999999999998E-2]
["crushed CA",{"$f":"-0.000207908+0.0130605","v":1.2852591999999999E-2},4.7999999999999996E-3,5.1999999999999998E-3,null,8.3000000000000004E-2,null,0.02,null,"http://elcd.jrc.ec.europa.eu/ELCD3/resource/processes/898618b3-3306-11dd-bd11-0800200c9a66?format=html&version=03.00.000"]
["rounded CA",{"$f":"-0.0000463838+0.0032336","v":3.1872162000000002E-3},4.7999999999999996E-3,5.1999999999999998E-3,null,8.3000000000000004E-2,null,0.02,null,"http://elcd.jrc.ec.europa.eu/ELCD3/resource/processes/898618b2-3306-11dd-bd11-0800200c9a66?format=html&version=03.00.000"]
["FA",{"$f":"-0.0000284193+0.00233987","v":2.3114506999999999E-3},4.7999999999999996E-3,5.1000000000000004E-3,null,8.1000000000000003E-2,{"$f":"0.00285238-0.0115009+0.0000137322+0.0128153+0.0000165527-1.0261","v":-1.0219029351},1.6E-2,null,"http://elcd.jrc.ec.europa.eu/ELCD3/resource/processes/898618b1-3306-11dd-bd11-0800200c9a66?format=html&version=03.00.000"]
["SP",5.2000000000000002E-6,null,null,3.7000000000000002E-3,null,null,1.5]
["Water",{"$f":"-0.00000032811+0.000554906","v":5.5457789000000002E-4},1E-3,null,null,6.9999999999999999E-4,null,2.5000000000000001E-3,null,"http://elcd.jrc.ec.europa.eu/ELCD3/resource/processes/db009013-338f-11dd-bd11-0800200c9a66?format=html&version=03.00.000"]
["ggbs",null,8.3000000000000004E-2,"-",null,1.6]
["timber (pine, at mill 40% water content)",{"$f":"0.0239392-1.12184","v":-1.0979007999999999},null,null,null,null,{"$f":"0.833067+0.0926075+0.000141705-0.0302247","v":0.89559150499999995},null,null,"http://elcd.jrc.ec.europa.eu/ELCD3/resource/processes/621e64d0-f471-4023-9ebc-a52cd8ee573f?format=html&version=03.00.000"]
["steel (sections including recycling)",null,null,null,null,null,{"$f":"1.03749-2.53943+4.89143+0.000000000000202228+0.386212+0.010902+0.206613+0.0000817738-0.00000305328-5.00064+0.348773-0.07712-0.972615","v":-1.7083062794797979},null,null,"http://elcd.jrc.ec.europa.eu/ELCD3/showProcess.xhtml?uuid=9c0c2f04-fd6a-4d3c-950c-f9dead3639fe&version=03.00.000"]

{"sheet":"c design-col","index":1,"n_rows":76,"n_cols":20,"rows_kept":76,"cut":false,"hidden":false,"merged":[]}
[]
[]
[null,"MIX DESIGN","Input",null,null,"Output",null,"kg","MJ",null,null,"MJ/kg",null,"Derived parameters"]
[null,"f-ck (cyl)",25,null,"w/b ratio",0.5,null,"CO2","Energy","E parameters","CO2","Energy","Ref","FA-a0.2",{"$f":"INDEX($C$40:$F$42, (LOOKUP($C$9, $B$40:$B$42,$G$40:$G$42)), (LOOKUP($C$8, $C$39:$F$39,$C$43:$F$43)))","v":45.65},null,null,"CEM I",null,5.5]
[null,"Margin (1.64SD)",6.6,null,"Water content",{"$f":"IF(C7=D21, O16*(INDEX(D28:G30, (LOOKUP(C9,C28:C30,B28:B30)), (LOOKUP(C8, D27:G27,D31:G31)))-$O$15), O16*(INDEX(H28:K30, (LOOKUP(C9,C28:C30,B28:B30)), (LOOKUP(C8, H27:K27,H31:K31)))-$O$15))","v":190},"kg/m3",{"$f":"$F5*K6","v":0.19},{"$f":"$F5*L6","v":0.13300000000000001},null,null,null,null,"FA-b0.2",{"$f":"INDEX($C$46:$F$48, (LOOKUP($C$9, $B$46:$B$48,$G$46:$G$48)), (LOOKUP($C$8, $C$45:$F$45,$C$49:$F$49)))","v":-8.5220000000000001E-3},null,null,"PFA",null,0.1]
[null,"Cement strength class",52.5,35,"Cement content",{"$f":"((100-$C$13)*$F$5)/((100-(1-$C$14)*$C$13)*$F$4)","v":266},"kg/m3",235.11285139999998,1463,"Water",1E-3,6.9999999999999999E-4,"EU","FA-a0.8",{"$f":"INDEX($C$52:$F$54, (LOOKUP($C$9, $B$52:$B$54,$G$52:$G$54)), (LOOKUP($C$8, $C$51:$F$51,$C$55:$F$55)))","v":65.900000000000006},null,null,"crushed CA",null,8.3000000000000004E-2]
[null,"Aggregate type","Crushed",null,"PFA content",{"$f":"($C$13*$F$6)/(100-$C$13)","v":114},"kg/m3",3.0779999999999998,11.4,"Cement",0.88388289999999992,5.5,"EU","FA-b0.8",{"$f":"INDEX($C$58:$F$60, (LOOKUP($C$9, $B$58:$B$60,$G$58:$G$60)), (LOOKUP($C$8, $C$57:$F$57,$C$61:$F$61)))","v":-9.1420000000000008E-3},null,null,"rounded CA",null,8.3000000000000004E-2]
[null,"Slump (mm)","c: 30 - 60",null,"Fine Agg",{"$f":"($O$10/100)*$O$14","v":627.61677428107475},"kg/m3",1.4507052322437322,50.836958716767057,"PFA",2.7E-2,0.1,"F&S","FA0.2",{"$f":"$O$4*EXP($O$5*$C$11)","v":29.811779690775897},null,null,"FA",null,8.1000000000000003E-2]
[null,"Max aggregate size (mm)",20,null,"Coarse Agg",{"$f":"O14-F8","v":1127.115500718925},"kg/m3",14.486355667616049,93.550586559670776,"FA",2.3114506999999999E-3,8.1000000000000003E-2,"EU","FA0.8",{"$f":"$O$6*EXP($O$7*$C$11)","v":41.722411960320819},null,null,"SP",3.7000000000000002E-3]
[null,"Aggregate rel. density",2.54,null,"Plasticiser dosage",{"$f":"LOOKUP(C12,B74:B76,D74:D76)*(F6+F7)","v":0},"ltr/m3",0,0,"CA",{"$f":"-0.000207908+0.0130605","v":1.2852591999999999E-2},8.3000000000000004E-2,"EU","%FA",{"$f":"(($F$4-0.2)*($O$9-$O$8))/0.6+$O$8","v":35.76709582554836},null,null,"Water",null,6.9999999999999999E-4]
[null,"% passing 600 micron",50,null,"Concrete",{"$f":"($D$35+F5*$B$35)*C10+($E$35+$C$35*F5)","v":2324.7322749999998},"kg/m3",null,null,"SP",5.2000000000000002E-6,3.7000000000000002E-3,"F&S","Fm",{"$f":"LOOKUP(C4,J34:J49,I34:I49)+C5","v":36.6}]
[null,"Plasticiser type","a: None",null,null,null,"per m3",{"$f":"SUM(H5:H10)","v":254.31791229985976},{"$f":"SUM(I5:I10)","v":1618.9205452764379},null,null,null,null,"WC-a",{"$f":"IF(C7=\"Crushed\", (LOOKUP(C6,B23:B24,C23:C24)), (LOOKUP(C6,B23:B24,E23:E24)))","v":169.75356700000009}]
[null,"PFA as % of binder",30,null,null,null,"per kg",{"$f":"H12/F11","v":0.10939664538354628},{"$f":"I12/F11","v":0.69639010164146231},null,null,null,null,"WC-b",{"$f":"IF(C7=\"Crushed\", (LOOKUP(C6,B23:B24,D23:D24)), (LOOKUP(C6,B23:B24,F23:F24)))","v":-2.3544494555100766}]
[null,"PFA k-factor",1,null,null,null,null,null,null,null,null,null,null,"AGG",{"$f":"F11-(F6+F7)-F5","v":1754.7322749999998}]
[null,null,null,null,null,null,null,null,null,null,null,null,null,"PFA -water",{"$f":"INDEX(C65:F70, (LOOKUP(C13,B65:B70,G65:G70)), (LOOKUP(C8,C64:F64,C71:F71)))","v":20}]
[null,"Target Mean",{"$f":"O11","v":36.6},null,null,null,null,null,null,null,null,null,null,"SP -water",{"$f":"LOOKUP(C12,B74:B76,C74:C76)","v":1},null,null,null,null,9.5000000000000001E-2]
[null,"Max cement content",null,null,null,null,null,null,null,null,null,null,null,null,null,null,null,null,null,4.4999999999999998E-2]
[null,"Min cement content",null,null,"Binder",{"$f":"F6+F7","v":380},null,null,null,null,null,null,null,null,null,null,null,null,null,0.02]
[null,"Max w/c",0.4,null,null,null,null,null,null,null,null,null,null,null,null,null,null,null,null,0.02]
[null,null,null,null,null,null,null,null,null,null,null,null,null,null,null,null,null,null,null,1.6E-2]
[null,"W/C RATIO","Crushed","Crushed","Uncrushed","Uncrushed",{"$f":"'bre charts'!N32","v":"fm = a.exp(b.w/c)"},null,null,null,null,null,null,null,null,null,null,null,null,1.5]
[null,"Cement class","a","b","a","b",null,null,null,null,null,null,null,null,null,null,null,null,null,2.5000000000000001E-3]
[null,42.5,{"$f":"'bre charts'!P33","v":166.17837699999995},{"$f":"'bre charts'!Q33","v":-2.5017399378791403},{"$f":"'bre charts'!P34","v":163.17012},{"$f":"'bre charts'!Q34","v":-2.6982974697268771}]
[null,52.5,{"$f":"'bre charts'!P35","v":169.75356700000009},{"$f":"'bre charts'!Q35","v":-2.3544494555100766},{"$f":"'bre charts'!P36","v":165.73206000000005},{"$f":"'bre charts'!Q36","v":-2.5280315909913487}]
[]
[null,"WATER CONTENT",null,"Slump: Crushed",null,null,null,"Slump: Uncrushed"]
[null,"index","max agg size","a: 0 - 10","b: 10 - 30","c: 30 - 60","d: 60 - 180","a: 0 - 10","b: 10 - 30","c: 30 - 60","d: 60 - 180"]
[null,1,10,180,205,230,250,150,180,205,225]
[null,2,20,170,190,210,225,135,160,180,195]
[null,3,40,155,175,190,205,115,140,160,175]
[null,null,"index",1,2,3,4,1,2,3,4]
[]
[null,"DENSITY",null,null,null,null,null,null,"fck cube","fck cyl","TMS cube",null,"TMScube","fck cyl"]
[null,{"$f":"'bre charts'!B89","v":"da/dw"},{"$f":"'bre charts'!C89","v":"db/dw"},{"$f":"'bre charts'!D89","v":"a0"},{"$f":"'bre charts'!E89","v":"b0"},null,null,null,10,8,{"$f":"I34+$C$5","v":16.600000000000001},null,20,{"$f":"((K35-M34)/(K35-K34))*(J35-J34)+J34","v":9.2800000000000011}]
[null,{"$f":"'bre charts'!B90","v":-1.6622499999999996},{"$f":"'bre charts'!C90","v":3.0745624999999999},{"$f":"'bre charts'!D90","v":1000.0249999999999},{"$f":"'bre charts'!E90","v":2.7037499999999},null,null,null,15,12,{"$f":"I35+$C$5","v":21.6},null,25,{"$f":"((K36-M35)/(K36-K35))*(J36-J35)+J35","v":13.280000000000001}]
[null,null,null,null,null,null,null,null,20,16,26.6,null,30,17.28]
[null,"FINE AGG FRACTION",null,null,null,null,null,null,25,20,31.6,null,35,21.6]
[null,"a0.2","Slump",null,null,null,null,null,30,25,36.6,null,40,27.571428571428573]
[null,"Max Agg size","a: 0 - 10","b: 10 - 30","c: 30 - 60","d: 60 - 180","index",null,37,30,43.6,null,50,31]
[null,10,{"$f":"'bre charts'!K100","v":53.75},{"$f":"'bre charts'!K102","v":55.55},{"$f":"'bre charts'!K104","v":61.45},{"$f":"'bre charts'!K106","v":68.53},1,null,45,35,51.6,null,55,36.6]
[null,20,{"$f":"'bre charts'!K108","v":38.94},{"$f":"'bre charts'!K110","v":41.39},{"$f":"'bre charts'!K112","v":45.65},{"$f":"'bre charts'!K114","v":53.8},2,null,50,40,56.6,null,60,41.6]
[null,40,{"$f":"'bre charts'!K116","v":31.63},{"$f":"'bre charts'!K118","v":32.82},{"$f":"'bre charts'!K120","v":39.14},{"$f":"'bre charts'!K122","v":46.31},3,null,55,45,61.6,null,65,46.599999999999994]
[null,"index",1,2,3,4,null,null,60,50,66.599999999999994,null,70,52.571428571428569]
[null,"b0.2","Slump",null,null,null,null,null,67,55,73.599999999999994,null,75,59.125]
[null,"Max Agg size","a: 0 - 10","b: 10 - 30","c: 30 - 60","d: 60 - 180","index",null,75,60,81.599999999999994,null,90,61.599999999999994]
[null,10,{"$f":"'bre charts'!J100","v":-8.8059999999999996E-3},{"$f":"'bre charts'!J102","v":-8.6800000000000002E-3},{"$f":"'bre charts'!J104","v":-9.0170000000000007E-3},{"$f":"'bre charts'!J106","v":-8.9709999999999998E-3},1,null,85,70,91.6,null,100,71.599999999999994]
[null,20,{"$f":"'bre charts'!J108","v":-8.8459999999999997E-3},{"$f":"'bre charts'!J110","v":-8.6829999999999997E-3},{"$f":"'bre charts'!J112","v":-8.5220000000000001E-3},{"$f":"'bre charts'!J114","v":-8.9859999999999992E-3},2,null,95,80,101.6,null,110,81.599999999999994]
[null,40,{"$f":"'bre charts'!J116","v":-9.2040000000000004E-3},{"$f":"'bre charts'!J118","v":-8.2400000000000008E-3},{"$f":"'bre charts'!J120","v":-8.548E-3},{"$f":"'bre charts'!J122","v":-8.8599999999999998E-3},3,null,105,90,111.6,null,120,91.6]
[null,"index",1,2,3,4,null,null,115,100,121.6]
[null,"a0.8","Slump"]
[null,"Max Agg size","a: 0 - 10","b: 10 - 30","c: 30 - 60","d: 60 - 180","index"]
[null,10,{"$f":"'bre charts'!K101","v":73.86},{"$f":"'bre charts'!K103","v":76.45},{"$f":"'bre charts'!K105","v":78.95},{"$f":"'bre charts'!K107","v":89.14},1]
[null,20,{"$f":"'bre charts'!K109","v":58.34},{"$f":"'bre charts'!K111","v":60.77},{"$f":"'bre charts'!K113","v":65.900000000000006},{"$f":"'bre charts'!K115","v":73.05},2]
[null,40,{"$f":"'bre charts'!K117","v":51.2},{"$f":"'bre charts'!K119","v":53.45},{"$f":"'bre charts'!K121","v":58.19},{"$f":"'bre charts'!K123","v":65.67},3]
[null,"index",1,2,3,4]
[null,"b0.8","Slump"]
[null,"Max Agg size","a: 0 - 10","b: 10 - 30","c: 30 - 60","d: 60 - 180","index"]
[null,10,{"$f":"'bre charts'!J101","v":-9.3360000000000005E-3},{"$f":"'bre charts'!J103","v":-9.3019999999999995E-3},{"$f":"'bre charts'!J105","v":-8.8889999999999993E-3},{"$f":"'bre charts'!J107","v":-9.2809999999999993E-3},1]
[null,20,{"$f":"'bre charts'!J109","v":-9.2309999999999996E-3},{"$f":"'bre charts'!J111","v":-8.8559999999999993E-3},{"$f":"'bre charts'!J113","v":-9.1420000000000008E-3},{"$f":"'bre charts'!J115","v":-8.8419999999999992E-3},2]
[null,40,{"$f":"'bre charts'!J117","v":-9.5289999999999993E-3},{"$f":"'bre charts'!J119","v":-9.4549999999999999E-3},{"$f":"'bre charts'!J121","v":-9.4179999999999993E-3},{"$f":"'bre charts'!J123","v":-9.0819999999999998E-3},3]
[null,"index",1,2,3,4]
[]
[null,"PFA - FREE WATER"]
[null,"PFA as % of binder","a: 0 - 10","b: 10 - 30","c: 30 - 60","d: 60 - 180","index"]
[null,0,0,0,0,0,1]
[null,10,5,5,5,10,2]
[null,20,10,10,10,15,3]
[null,30,15,15,20,20,4]
[null,40,20,20,25,25,5]
[null,50,25,25,30,30,6]
[null,"index",1,2,3,4]
[]
[null,"PLASTICISER","Effect","Dosage"]
[null,"a: None",1,0]
[null,"b: Normal (LS)",0.9,4.0000000000000001E-3]
[null,"c: High (PCE)",0.8,0.01]

{"sheet":"bre charts","index":2,"n_rows":123,"n_cols":22,"rows_kept":123,"cut":false,"hidden":false,"merged":[]}
["Strength"]
[null,{"$f":"10/19","v":0.52631578947368418}]
[null,null,"line 70","line 60","line 50","line 40","line 30","line 25","line 20","line 15"]
[null,0.3,null,169.5,152,132,114,101,87,69]
[null,0.4,162,141,122,101,81.5,70,58,44]
[null,0.5,133.5,115,95.5,76.5,56.5,48,38,28]
[null,0.6,108.5,90.5,71.5,57,40.5,33,26,18.5]
[null,0.7,88,72.5,57,43.5,30,24,19,13]
[null,0.8,71,58.5,45.5,33,23.5,18.5,14.5,10]
[null,"DATA",null,null,null,null,null,null,null,null,"power: fm@0.5"]
["fck at 0.5",null,70,60,50,40,30,25,20,15,"g","h"]
["w/c",0.3,null,{"$f":"D4*$B$2","v":89.210526315789465},{"$f":"E4*$B$2","v":80},69.473684210526315,60,53.157894736842103,45.78947368421052,{"$f":"J4*$B$2","v":36.315789473684205},6.7957999999999998,0.63219999999999998]
[null,0.4,{"$f":"C5*$B$2","v":85.263157894736835},{"$f":"D5*$B$2","v":74.210526315789465},64.210526315789465,53.157894736842103,42.89473684210526,36.84210526315789,30.526315789473681,{"$f":"J5*$B$2","v":23.157894736842103},2.5167000000000002,0.82889999999999997]
[null,0.5,70,60,50,40,30,25,20,15,1,1]
[null,0.6,{"$f":"C7*$B$2","v":57.105263157894733},{"$f":"D7*$B$2","v":47.631578947368418},37.631578947368418,30,21.315789473684209,17.368421052631579,13.684210526315789,{"$f":"J7*$B$2","v":9.7368421052631575},0.44330000000000003,1.1409]
[null,0.7,{"$f":"C8*$B$2","v":46.315789473684205},{"$f":"D8*$B$2","v":38.157894736842103},30,22.89473684210526,15.789473684210526,12.631578947368421,10,{"$f":"J8*$B$2","v":6.8421052631578947},0.24030000000000001,1.236]
[null,0.8,{"$f":"C9*$B$2","v":37.368421052631575},{"$f":"D9*$B$2","v":30.789473684210524},23.94736842105263,17.368421052631579,12.368421052631579,9.7368421052631575,7.6315789473684204,{"$f":"J9*$B$2","v":5.2631578947368416},0.16569999999999999,1.2716000000000001]
[null,0.38]
["exp: w/c","a",195.74,173.56,168.67,160.75,152.99,144.47,128.83000000000001,111.13]
[null,"b",-2.0630000000000002,-2.1560000000000001,-2.4569999999999999,-2.7850000000000001,-3.21,-3.4460000000000002,-3.625,-3.9279999999999999]
[null,"fck@50","a","b",null,null,null,null,null,null,"w/c","g","h"]
[null,70,195.74,-2.0630000000000002,null,null,null,null,null,null,0.3,6.7957999999999998,0.63219999999999998]
[null,60,173.56,-2.1560000000000001,null,null,null,null,null,null,0.4,2.5167000000000002,0.82889999999999997]
[null,50,168.67,-2.4569999999999999,null,null,null,null,null,null,0.5,1,1]
[null,40,160.75,-2.7850000000000001,null,null,null,null,null,null,0.6,0.44330000000000003,1.1409]
[null,30,152.99,-3.21,null,null,null,null,null,null,0.7,0.24030000000000001,1.236]
[null,25,144.47,-3.4460000000000002,null,null,null,null,null,null,0.8,0.16569999999999999,1.2716000000000001]
[null,20,128.83000000000001,-3.625,null,null,null,null,null,null,"i",6.4460000000000003E-2,-1.9812000000000001]
[null,15,111.13,-3.9279999999999999,null,null,null,null,null,null,"j",-3.90686,3.4820000000000002]
[null,"c",1.431E-3,1.2750999999999999,null,null,null,null,null,null,"k",null,-0.2397]
[null,"d",-0.19614799999999999,-7.4641999999999999,null,null,null,null,null,null,0.6,{"$f":"$L$28*$K$31^$L$29","v":0.47426634485194347},{"$f":"$M$28*$K$31^2+$M$29*$K$31+$M$30","v":1.1362679999999998}]
[null,"e",9.3741059999999994,null,null,null,null,null,null,null,null,null,null,"fm = a.exp(b.w/c)","28d-fm@0.5","a","b"]
["calc","f",9.442812,null,null,null,null,null,null,null,null,null,null,"42.5c",49,{"$f":"$C$30*$O33^3+$C$31*$O33^2+$C$32*$O33+$C$33","v":166.17837699999995},{"$f":"$D$30*LN($O33)+$D$31","v":-2.5017399378791403}]
[null,null,null,null,null,null,null,null,null,null,null,null,null,"42.5u",42,{"$f":"$C$30*$O34^3+$C$31*$O34^2+$C$32*$O34+$C$33","v":163.17012},{"$f":"$D$30*LN($O34)+$D$31","v":-2.6982974697268771}]
[null,null,null,null,null,null,null,null,null,null,null,null,null,"52.5c",55,169.75356700000009,-2.3544494555100766]
[null,null,null,null,null,null,null,null,null,null,null,null,null,"52.5u",48,165.73206000000005,-2.5280315909913487]
[]
[null,"Prediction on w/c",null,null,null,null,null,null,null,null,"calc","Prediction on strength@50"]
[null,"w/c",70,60,50,40,30,25,20,15,42,"g","h","w/c",70,60,50,40,30,25,20,15]
[null,0.3,{"$f":"C$46*EXP($B40*C$47)","v":105.70460304899449},{"$f":"D$46*EXP($B40*D$47)","v":89.200946874787945},79.290683596044431,70.837966900664043,59.78364898717075,52.395772696486013,43.535125576787365,33.245932096848001,{"$f":"K$46*EXP($B40*K$47)","v":72.624628265667695},{"$f":"$L$28*$B40^$L$29","v":7.1138443060351815},{"$f":"$M$28*$B40^2+$M$29*$B40+$M$30","v":0.62659199999999993},0.3,{"$f":"($L40*O$39^$M40)","v":101.91263416087736},92.529391097689512,82.540171882034485,71.769898171659449,59.931716600433646,53.461652894295284,46.485696562346448,38.818051346329284]
[null,0.4,{"$f":"C$46*EXP($B41*C$47)","v":86.138293484959433},71.27470742014907,61.900155520528607,53.750024983617678,43.72844796111368,37.443935868254272,30.239043453402953,22.260546533351221,55.449591659102609,{"$f":"$L$28*$B41^$L$29","v":2.3119913423273446},{"$f":"$M$28*$B41^2+$M$29*$B41+$M$30","v":0.8361080000000003},0.4,80.66542670738832,70.91084965222089,60.884762439282966,50.522098203483303,39.720901945976884,34.10476239836045,28.300088331866757,22.249769381412221]
[null,0.5,70.193779556240315,56.951008882885574,48.323826705622906,40.784134725250595,31.984952298548563,26.758806314921827,21.00372370269087,14.905039525436433,42.336288509647694,0.96687949491794589,1.006,0.5,69.429010906158368,59.455564644049986,49.49213334927493,39.540731668520671,29.604404685434396,24.643364387996716,19.688313934635261,14.74076954824913]
[null,0.6,57.200653612326214,45.505867792052278,37.725143141209557,30.945951109685215,23.395231736790237,19.122821861431724,14.588967076911052,9.9799977023015689,32.324157331786111,0.47426634485194347,1.1362679999999998,0.6,59.230877515275303,49.713995889762224,40.411740541159531,31.36113769735174,22.6166314463308,18.384710896119458,14.267275851481104,10.289094827810784]
[null,0.7,46.612602916698918,36.360795780916106,29.451029068837162,23.480990746387434,17.112324036292357,13.665868037623614,10.133344133827423,6.6823274079864081,24.679800331858527,0.25969917654326402,1.226912,0.7,47.669818572051177,39.455329941200198,31.546941360950552,23.991488885652679,16.856537281925689,13.477829078456063,10.249906095136007,7.2016340900052072]
[null,0.8,37.984439223289627,29.053560210369085,22.991645385329665,17.816771068941964,12.516722946692417,9.7661292133043105,7.038514981440084,4.4742995859837116,18.843261346876634,0.15413602492321771,1.2779320000000003,0.8,35.140989246960771,28.857621861880467,22.859792827587654,17.188100463029009,11.900485345654134,9.4270633544045204,7.0881356287402211,4.9075960638739939]
[null,"a",{"$f":"$C$30*C$39^3+$C$31*C$39^2+$C$32*C$39+$C$33","v":195.338032},{"$f":"$C$30*D$39^3+$C$31*D$39^2+$C$32*D$39+$C$33","v":174.85237199999995},166.65311200000002,162.15425199999999,152.76979199999997,143.56233700000001,129.91373199999998,110.75072699999998,163.17012]
[null,"b",{"$f":"$D$30*LN(C$39)+$D$31","v":-2.0469437168628621},{"$f":"$D$30*LN(D$39)+$D$31","v":-2.2435012487105999},-2.4759794657785719,-2.7605098080593198,-3.127333218642586,-3.359811435710558,-3.6443417779913063,-4.011165188574572,-2.6982974697268771]
[null,"error",null,null,null,null,null,null,null,null,null,null,"error"]
[null,"w/c",70,60,50,40,30,25,20,15,null,null,null,"w/c",70,60,50,40,30,25,20,15]
[null,0.3,null,{"$f":"D40-D12","v":-9.5794410015201947E-3},-0.70931640395556883,1.3642826901377276,-0.21635101282925007,-0.76212204035608977,-2.2543481074231551,{"$f":"J40-J12","v":-3.0698573768362039},null,null,null,0.3,null,{"$f":"P40-D12","v":3.3188647819000465},2.5401718820344854,2.2962139611331338,-6.8283399566354319E-2,0.30375815745318135,0.6962228781359272,2.5022618726450787]
[null,0.4,0.87513559022259813,-2.935818895640395,-2.3103707952608588,0.59213024677557513,0.8337111190084201,0.60183060509638153,-0.28727233607072833,{"$f":"J41-J13","v":-0.89734820349088196},null,null,null,0.4,{"$f":"O41-C13","v":-4.5977311873485149},{"$f":"P41-D13","v":-3.2996766635685759},{"$f":"Q41-E13","v":-3.3257638765064996},{"$f":"R41-F13","v":-2.6357965333587998},{"$f":"S41-G13","v":-3.1738348961283762},{"$f":"T41-H13","v":-2.7373428647974407},{"$f":"U41-I13","v":-2.2262274576069245},{"$f":"V41-J13","v":-0.90812535542988115}]
[null,0.5,0.19377955624031529,-3.0489911171144257,-1.6761732943770937,0.78413472525059547,1.9849522985485635,1.7588063149218272,1.0037237026908699,-9.4960474563567487E-2,null,null,null,0.5,-0.57098909384163221,-0.54443535595001435,-0.5078666507250702,-0.45926833147932911,-0.39559531456560393,-0.35663561200328431,-0.31168606536473931,-0.25923045175087012]
[null,0.6,9.5390454431480975E-2,-2.1257111553161394,9.3564193841139343E-2,0.94595110968521467,2.0794422631060279,1.7544008088001455,0.90475655059526261,0.24315559703841139,null,null,null,0.6,2.1256143573805701,2.0824169423938059,2.7801615937911137,1.3611376973517402,1.300841972646591,1.0162898434878791,0.58306532516531462,0.55225272254762636]
[null,0.7,0.29681344301471313,-1.7970989559259962,-0.54897093116283813,0.58625390428217372,1.3228503520818311,1.0342890902551929,0.13334413382742305,-0.15977785517148657,null,null,null,0.7,1.3540290983669721,1.297435204358095,1.5469413609505516,1.0967520435474185,1.0670635977151637,0.84625013108764158,0.24990609513600681,0.35952882684731247]
[null,0.8,0.61601817065805164,-1.735913473841439,-0.95572303572296491,0.44835001631038551,0.14830189406083782,2.9287108041152976E-2,-0.59306396592833632,-0.78885830875313001,null,null,null,0.8,-2.227431805670804,-1.9318518223300565,-1.087575593464976,-0.18032058960256947,-0.46793570697744435,-0.30977875085863715,-0.54344331862819928,-0.35556183086284765]
[null,null,null,null,null,null,null,null,null,{"$f":"(SQRT(SUMSQ(C50:J55)))/41","v":0.2200072493166553},null,null,null,null,null,null,null,null,null,null,null,{"$f":"(SQRT(SUMSQ(O50:V55)))/41","v":0.29482520428042225}]
[null,null,null,null,null,null,null,null,null,{"$f":"AVERAGE(C50:J55)","v":-0.13304194131531386},null,null,null,null,null,null,null,null,null,null,null,{"$f":"AVERAGE(O50:V55)","v":-4.6919323027910416E-2}]
[]
[]
[null,"Prediction mean"]
[null,"w/c",70,60,50,40,30,25,20,15]
[null,0.3,{"$f":"AVERAGE(C40,O40)","v":103.80861860493593},{"$f":"AVERAGE(D40,P40)","v":90.865168986238729},80.915427739039458,71.303932536161739,59.857682793802198,52.928712795390652,45.010411069566906,36.031991721588639]
[null,0.4,{"$f":"AVERAGE(C41,O41)","v":83.401860096173877},{"$f":"AVERAGE(D41,P41)","v":71.09277853618498},{"$f":"AVERAGE(E41,Q41)","v":61.392458979905783},{"$f":"AVERAGE(F41,R41)","v":52.136061593550494},{"$f":"AVERAGE(G41,S41)","v":41.724674953545282},{"$f":"AVERAGE(H41,T41)","v":35.774349133307361},{"$f":"AVERAGE(I41,U41)","v":29.269565892634855},{"$f":"AVERAGE(J41,V41)","v":22.255157957381719}]
[null,0.5,69.811395231199342,58.20328676346778,48.907980027448914,40.16243319688563,30.79467849199148,25.70108535145927,20.346018818663065,14.822904536842781]
[null,0.6,58.215765563800758,47.609931840907251,39.068441841184544,31.153544403518477,23.005931591560518,18.753766378775591,14.428121464196078,10.134546265056176]
[null,0.7,47.141210744375044,37.908062861058156,30.498985214893857,23.736239816020056,16.984430659109023,13.571848558039839,10.191625114481715,6.9419807489958076]
[null,0.8,36.562714235125199,28.955591036124776,22.925719106458658,17.502435765985489,12.208604146173275,9.5965962838544154,7.063325305090153,4.6909478249288528]
[]
[null,"error"]
[null,null,null,{"$f":"D62-D12","v":1.6546426704492632},0.91542773903945829,1.8302483256354236,-0.14231720619780219,-0.22918194145145065,-0.77906261464361393,-0.28379775209556612]
[null,null,{"$f":"C63-C13","v":-1.8612977985629584},-3.1177477796044855,-2.8180673358836827,-1.0218331432916088,-1.1700618885599781,-1.0677561298505296,-1.2567498968388264,-0.90273677946038333]
[null,null,{"$f":"C64-C14","v":-0.18860476880065846},-1.79671323653222,-1.0920199725510855,0.16243319688562963,0.79467849199147977,0.70108535145926965,0.34601881866306528,-0.1770954631572188]
[null,null,{"$f":"C65-C15","v":1.1105024059060256},-2.1647106461166743E-2,1.4368628938161265,1.1535444035184774,1.6901421178763094,1.3853453261440123,0.74391093788028861,0.39770415979301887]
[null,null,{"$f":"C66-C16","v":0.82542127069083904},-0.24983187578394705,0.49898521489385672,0.84150297391479612,1.1949569748984974,0.94026961067141812,0.19162511448171493,9.9875485837912947E-2]
[null,null,{"$f":"C67-C17","v":-0.80570681750637618},-1.8338826480857477,-1.0216493145939722,0.1340147133539098,-0.15981690645830327,-0.14024582140874209,-0.56825364227826736,-0.57221006980798883]
[null,null,null,null,null,null,null,null,null,{"$f":"(SQRT(SUMSQ(C70:J75)))/41","v":0.18965200419525971}]
[null,null,null,null,null,null,null,null,null,{"$f":"AVERAGE(C70:J75)","v":-8.9980632171612493E-2}]
[{"$f":"40/7","v":5.7142857142857144}]
[null,"Density"]
["Water content",2.4,2.5,2.6,2.7,2.8,2.9]
[100,37.299999999999997,51.5,65.8,80.400000000000006,95.7,110]
[260,11.5,21.3,31.2,40.799999999999997,51.2,61.2]
[]
[null,"Density"]
["w",2.4,2.5,2.6,2.7,2.8,2.9,"a","b"]
[100,{"$f":"2100+$A$78*B81","v":2313.1428571428573},2394.2857142857142,2476,2559.4285714285716,2646.8571428571431,2728.5714285714284,833.8,310.16000000000003]
[260,2165.7142857142858,2221.7142857142858,2278.2857142857142,2333.1428571428573,2392.5714285714284,2449.7142857142858,567.84,802.09]
["a = a0+da/dw"]
["dw","da/dw","db/dw","a0","b0",null,null,"da","db"]
[{"$f":"A87-A86","v":160},{"$f":"H90/A90","v":-1.6622499999999996},{"$f":"I90/A90","v":3.0745624999999999},{"$f":"FORECAST(0,H86:H87,$A$86:$A$87)","v":1000.0249999999999},{"$f":"FORECAST(0,I86:I87,$A$86:$A$87)","v":2.7037499999999},null,null,{"$f":"H87-H86","v":-265.95999999999992},{"$f":"I87-I86","v":491.93}]
[]
["w","rd-agg","density"]
[180,2.5,{"$f":"($D$90+A93*$B$90)*B93+($E$90+$C$90*A93)","v":2308.1749999999997}]
[]
[]
[]
["Scale"]
[{"$f":"20/19","v":1.0526315789473684},null,null,null,"% <600micron"]
[null,"Max Agg ","Slump","w/c",15,40,60,80,100,"b","a"]
["fraction fa",10,"<10",0.2,{"$f":"10+P100*$A$98","v":48.315789473684205},{"$f":"10+Q100*$A$98","v":36.73684210526315},31.789473684210524,25.789473684210527,22.94736842105263,-8.8059999999999996E-3,53.75,null,null,null,null,36.4,25.4,20.7,15,12.3]
[null,null,null,0.8,{"$f":"10+P101*$A$98","v":64.526315789473671},{"$f":"10+Q101*$A$98","v":51.473684210526315},{"$f":"10+R101*$A$98","v":41.263157894736835},{"$f":"10+S101*$A$98","v":34.526315789473685},{"$f":"10+T101*$A$98","v":29.578947368421051},-9.3360000000000005E-3,73.86,null,null,null,null,51.8,39.4,29.7,23.3,18.600000000000001]
[null,null,"<30",0.2,50,38.210526315789473,32.631578947368425,27.684210526315788,23.684210526315788,-8.6800000000000002E-3,55.55,null,null,null,null,38,26.8,21.5,16.8,13]
[null,null,null,0.8,66.315789473684205,53.578947368421048,43.368421052631575,35.578947368421055,30.631578947368421,-9.3019999999999995E-3,76.45,null,null,null,null,53.5,41.4,31.7,24.3,19.600000000000001]
[null,null,"<60",0.2,54.421052631578945,41.78947368421052,36.10526315789474,29.789473684210527,25.05263157894737,-9.0170000000000007E-3,61.45,null,null,null,null,42.2,30.2,24.8,18.8,14.3]
[null,null,null,0.8,70,55.263157894736842,45.473684210526315,38.210526315789473,33.157894736842103,-8.8889999999999993E-3,78.95,null,null,null,null,57,43,33.700000000000003,26.8,22]
[null,null,"<180",0.2,60.84210526315789,47.263157894736835,39.684210526315788,33.05263157894737,28.421052631578945,-8.9709999999999998E-3,68.53,null,null,null,null,48.3,35.4,28.2,21.9,17.5]
[null,null,null,0.8,77.999999999999986,62.105263157894733,50.210526315789473,41.578947368421055,36,-9.2809999999999993E-3,89.14,null,null,null,null,64.599999999999994,49.5,38.200000000000003,30,24.7]
[null,20,"<10",0.2,34.84210526315789,26.631578947368421,22.842105263157894,19.05263157894737,16.315789473684212,-8.8459999999999997E-3,38.94,null,null,null,null,23.6,15.8,12.2,8.6,6]
[null,null,null,0.8,51.052631578947363,40.10526315789474,33.684210526315788,27.578947368421051,23.368421052631575,-9.2309999999999996E-3,58.34,null,null,null,null,39,28.6,22.5,16.7,12.7]
[null,null,"<30",0.2,37.15789473684211,29.05263157894737,24,20.105263157894736,18,-8.6829999999999997E-3,41.39,null,null,null,null,25.8,18.100000000000001,13.3,9.6,7.6]
[null,null,null,0.8,53.684210526315788,42.631578947368418,35.157894736842103,29.789473684210527,25.368421052631575,-8.8559999999999993E-3,60.77,null,null,null,null,41.5,31,23.9,18.8,14.6]
[null,null,"<60",0.2,40.94736842105263,31.789473684210524,27.263157894736839,22.842105263157894,19.789473684210527,-8.5220000000000001E-3,45.65,null,null,null,null,29.4,20.7,16.399999999999999,12.2,9.3000000000000007]
[null,null,null,0.8,58.10526315789474,45.368421052631575,37.89473684210526,31.263157894736839,26.842105263157894,-9.1420000000000008E-3,65.900000000000006,null,null,null,null,45.7,33.6,26.5,20.2,16]
[null,null,"<180",0.2,47.684210526315788,37.89473684210526,30.421052631578945,25.578947368421055,22.631578947368421,-8.9859999999999992E-3,53.8,null,null,null,null,35.799999999999997,26.5,19.399999999999999,14.8,12]
[null,null,null,0.8,64.526315789473671,51.473684210526315,42.421052631578945,35.263157894736842,30.842105263157894,-8.8419999999999992E-3,73.05,null,null,null,null,51.8,39.4,30.8,24,19.8]
[null,40,"<10",0.2,28.210526315789473,21.368421052631579,17.894736842105264,15.263157894736842,12.736842105263158,-9.2040000000000004E-3,31.63,null,null,null,null,17.3,10.8,7.5,5,2.6]
[null,null,null,0.8,43.999999999999993,35.89473684210526,28.421052631578945,23.684210526315788,19.894736842105264,-9.5289999999999993E-3,51.2,null,null,null,null,32.299999999999997,24.6,17.5,13,9.4]
[null,null,"<30",0.2,29.684210526315788,23.473684210526315,19.368421052631579,16.736842105263158,14.842105263157894,-8.2400000000000008E-3,32.82,null,null,null,null,18.7,12.8,8.9,6.4,4.5999999999999996]
[null,null,null,0.8,46.421052631578945,37.473684210526315,29.578947368421051,24.526315789473685,21.263157894736842,-9.4549999999999999E-3,53.45,null,null,null,null,34.6,26.1,18.600000000000001,13.8,10.7]
[null,null,"<60",0.2,34.421052631578945,28.421052631578945,22.842105263157894,19.473684210526315,16.94736842105263,-8.548E-3,39.14,null,null,null,null,23.2,17.5,12.2,9,6.6]
[null,null,null,0.8,50.736842105263158,40.421052631578945,32.631578947368425,26.631578947368421,23.263157894736842,-9.4179999999999993E-3,58.19,null,null,null,null,38.700000000000003,28.9,21.5,15.8,12.6]
[null,null,"<180",0.2,41.05263157894737,32.631578947368425,26.421052631578945,22.631578947368421,19.473684210526315,-8.8599999999999998E-3,46.31,null,null,null,null,29.5,21.5,15.6,12,9]
[null,null,null,0.8,57.78947368421052,45.789473684210527,37.368421052631575,31.578947368421051,26.842105263157894,-9.0819999999999998E-3,65.67,null,null,null,null,45.4,34,26,20.5,16]

{"sheet":"52.5 (0 SP + 0 PFA)","index":3,"n_rows":44,"n_cols":17,"rows_kept":44,"cut":false,"hidden":false,"merged":[]}
["0-10",8,12,16,20,25,30,35,40,45,50,55,60,70,80,90,100]
["Water content",135,135,135,135,135,135,135,135,135,135,135,135,135,135,135,135]
["Cement content",148,167,187,206,226,256,292,318,345,374,420,482,576,697,863,1102]
["PFA content",0,0,0,0,0,0,0,0,0,0,0,0,0,0,0,0]
["Fine Agg",819,796,729,695,665,628,591,569,549,529,502,471,431,387,336,270]
["Coarse Agg",1285,1316,1337,1352,1362,1369,1369,1366,1359,1349,1330,1300,1246,1168,1054,880]
["Plasticiser dosage",0,0,0,0,0,0,0,0,0,0,0,0,0,0,0,0]
["Concrete",{"$f":"SUM(B2:B7)","v":2387},{"$f":"SUM(C2:C7)","v":2414},2388,2388,2388,2388,2387,2388,2388,2387,{"$f":"SUM(L2:L7)","v":2387},{"$f":"SUM(M2:M7)","v":2388},{"$f":"SUM(N2:N7)","v":2388},{"$f":"SUM(O2:O7)","v":2387},{"$f":"SUM(P2:P7)","v":2388},{"$f":"SUM(Q2:Q7)","v":2387}]
["ECO2",{"$f":"(B2*'c design-col'!$K$6)+(B3*'c design-col'!$K$7)+B4*'c design-col'!$K$8+B5*'c design-col'!$K$9+B6*'c design-col'!$K$10","v":149.35832804329999},{"$f":"(C2*'c design-col'!$K$6)+(C3*'c design-col'!$K$7)+C4*'c design-col'!$K$8+C5*'c design-col'!$K$9+C6*'c design-col'!$K$10","v":166.49737012919996},{"$f":"(D2*'c design-col'!$K$6)+(D3*'c design-col'!$K$7)+D4*'c design-col'!$K$8+D5*'c design-col'!$K$9+D6*'c design-col'!$K$10","v":184.29006536429998},{"$f":"(E2*'c design-col'!$K$6)+(E3*'c design-col'!$K$7)+E4*'c design-col'!$K$8+E5*'c design-col'!$K$9+E6*'c design-col'!$K$10","v":201.19804002049997},{"$f":"(F2*'c design-col'!$K$6)+(F3*'c design-col'!$K$7)+F4*'c design-col'!$K$8+F5*'c design-col'!$K$9+F6*'c design-col'!$K$10","v":218.93488041949999},{"$f":"(G2*'c design-col'!$K$6)+(G3*'c design-col'!$K$7)+G4*'c design-col'!$K$8+G5*'c design-col'!$K$9+G6*'c design-col'!$K$10","v":245.45581188759996},{"$f":"(H2*'c design-col'!$K$6)+(H3*'c design-col'!$K$7)+H4*'c design-col'!$K$8+H5*'c design-col'!$K$9+H6*'c design-col'!$K$10","v":277.19007261169997},{"$f":"(I2*'c design-col'!$K$6)+(I3*'c design-col'!$K$7)+I4*'c design-col'!$K$8+I5*'c design-col'!$K$9+I6*'c design-col'!$K$10","v":300.08161832029998},{"$f":"(J2*'c design-col'!$K$6)+(J3*'c design-col'!$K$7)+J4*'c design-col'!$K$8+J5*'c design-col'!$K$9+J6*'c design-col'!$K$10","v":323.8102594623},{"$f":"(K2*'c design-col'!$K$6)+(K3*'c design-col'!$K$7)+K4*'c design-col'!$K$8+K5*'c design-col'!$K$9+K6*'c design-col'!$K$10","v":349.26810862829996},{"$f":"(L2*'c design-col'!$K$6)+(L3*'c design-col'!$K$7)+L4*'c design-col'!$K$8+L5*'c design-col'!$K$9+L6*'c design-col'!$K$10","v":389.62011361139997},{"$f":"(M2*'c design-col'!$K$6)+(M3*'c design-col'!$K$7)+M4*'c design-col'!$K$8+M5*'c design-col'!$K$9+M6*'c design-col'!$K$10","v":443.9636206797},{"$f":"(N2*'c design-col'!$K$6)+(N3*'c design-col'!$K$7)+N4*'c design-col'!$K$8+N5*'c design-col'!$K$9+N6*'c design-col'!$K$10","v":526.26211528369993},{"$f":"(O2*'c design-col'!$K$6)+(O3*'c design-col'!$K$7)+O4*'c design-col'!$K$8+O5*'c design-col'!$K$9+O6*'c design-col'!$K$10","v":632.10774017689994},{"$f":"(P2*'c design-col'!$K$6)+(P3*'c design-col'!$K$7)+P4*'c design-col'!$K$8+P5*'c design-col'!$K$9+P6*'c design-col'!$K$10","v":777.24922210319994},{"$f":"(Q2*'c design-col'!$K$6)+(Q3*'c design-col'!$K$7)+Q4*'c design-col'!$K$8+Q5*'c design-col'!$K$9+Q6*'c design-col'!$K$10","v":986.10832844899994}]
["ECO2/Mpa",{"$f":"B9/B1","v":18.669791005412499},{"$f":"C9/C1","v":13.874780844099996},11.518129085268749,10.059902001024998,8.7573952167799991,8.1818603962533327,7.9197163603342853,7.5020404580074995,7.1957835436066668,6.9853621725659991,7.0840020656618181,7.3993936779949996,7.5180302183385708,7.901346752211249,8.6361024678133322,9.8610832844900003]
[]
["1930-10-01",8,12,16,20,25,30,35,40,45,50,55,60,70,80,90,100]
["Water content",160,160,160,160,160,160,160,160,160,160,160,160,160,160,160,160]
["Cement content",176,199,221,244,268,303,347,376,409,444,498,571,682,827,1023,1306]
["PFA content",0,0,0,0,0,0,0,0,0,0,0,0,0,0,0,0]
["Fine Agg",835,783,741,706,674,635,595,572,550,528,498,463,417,366,305,225]
["Coarse Agg",1188,1217,1237,1250,1258,1261,1257,1250,1241,1227,1203,1165,1100,1006,871,668]
["Plasticiser dosage",0,0,0,0,0,0,0,0,0,0,0,0,0,0,0,0]
["Concrete",{"$f":"SUM(B13:B18)","v":2359},{"$f":"SUM(C13:C18)","v":2359},2359,2360,2360,2359,2359,2358,2360,2359,2359,2359,2359,2359,2359,2359]
["ECO2",{"$f":"(B13*'c design-col'!$K$6)+(B14*'c design-col'!$K$7)+B15*'c design-col'!$K$8+B16*'c design-col'!$K$9+B17*'c design-col'!$K$10","v":172.92233103049998},{"$f":"(C13*'c design-col'!$K$6)+(C14*'c design-col'!$K$7)+C15*'c design-col'!$K$8+C16*'c design-col'!$K$9+C17*'c design-col'!$K$10","v":193.50416746209999},{"$f":"(D13*'c design-col'!$K$6)+(D14*'c design-col'!$K$7)+D15*'c design-col'!$K$8+D16*'c design-col'!$K$9+D17*'c design-col'!$K$10","v":213.10956217269995},{"$f":"(E13*'c design-col'!$K$6)+(E14*'c design-col'!$K$7)+E15*'c design-col'!$K$8+E16*'c design-col'!$K$9+E17*'c design-col'!$K$10","v":233.52505179419998},{"$f":"(F13*'c design-col'!$K$6)+(F14*'c design-col'!$K$7)+F15*'c design-col'!$K$8+F16*'c design-col'!$K$9+F17*'c design-col'!$K$10","v":254.76709570779997},{"$f":"(G13*'c design-col'!$K$6)+(G14*'c design-col'!$K$7)+G15*'c design-col'!$K$8+G16*'c design-col'!$K$9+G17*'c design-col'!$K$10","v":285.65140840650002},{"$f":"(H13*'c design-col'!$K$6)+(H14*'c design-col'!$K$7)+H15*'c design-col'!$K$8+H16*'c design-col'!$K$9+H17*'c design-col'!$K$10","v":324.39838761050004},{"$f":"(I13*'c design-col'!$K$6)+(I14*'c design-col'!$K$7)+I15*'c design-col'!$K$8+I16*'c design-col'!$K$9+I17*'c design-col'!$K$10","v":349.88786020039998},{"$f":"(J13*'c design-col'!$K$6)+(J14*'c design-col'!$K$7)+J15*'c design-col'!$K$8+J16*'c design-col'!$K$9+J17*'c design-col'!$K$10","v":378.889470657},{"$f":"(K13*'c design-col'!$K$6)+(K14*'c design-col'!$K$7)+K15*'c design-col'!$K$8+K16*'c design-col'!$K$9+K17*'c design-col'!$K$10","v":409.59458395360002},{"$f":"(L13*'c design-col'!$K$6)+(L14*'c design-col'!$K$7)+L15*'c design-col'!$K$8+L16*'c design-col'!$K$9+L17*'c design-col'!$K$10","v":456.94645482459998},{"$f":"(M13*'c design-col'!$K$6)+(M14*'c design-col'!$K$7)+M15*'c design-col'!$K$8+M16*'c design-col'!$K$9+M17*'c design-col'!$K$10","v":520.90060725410001},{"$f":"(N13*'c design-col'!$K$6)+(N14*'c design-col'!$K$7)+N15*'c design-col'!$K$8+N16*'c design-col'!$K$9+N17*'c design-col'!$K$10","v":618.06986394189994},{"$f":"(O13*'c design-col'!$K$6)+(O14*'c design-col'!$K$7)+O15*'c design-col'!$K$8+O16*'c design-col'!$K$9+O17*'c design-col'!$K$10","v":744.9068568081999},{"$f":"(P13*'c design-col'!$K$6)+(P14*'c design-col'!$K$7)+P15*'c design-col'!$K$8+P16*'c design-col'!$K$9+P17*'c design-col'!$K$10","v":916.27180679549997},{"$f":"(Q13*'c design-col'!$K$6)+(Q14*'c design-col'!$K$7)+Q15*'c design-col'!$K$8+Q16*'c design-col'!$K$9+Q17*'c design-col'!$K$10","v":1163.6166752634999}]
["ECO2/Mpa",{"$f":"B20/B12","v":21.615291378812497},{"$f":"C20/C12","v":16.125347288508333},13.319347635793747,11.67625258971,10.190683828311998,9.5217136135500002,9.2685253603000017,8.7471965050099989,8.4197660146000004,8.1918916790720004,8.3081173604472731,8.6816767875683336,8.8295694848842849,9.3113357101024992,10.180797853283334,11.636166752634999]
[]
["30-60",8,12,16,20,25,30,35,40,45,50,55,60,70,80,90,100]
["Water content",180,180,180,180,180,180,180,180,180,180,180,180,180,180,180,180]
["Cement content",198,223,249,275,301,341,390,424,460,499,561,642,767,930,1151,1470]
["PFA content",0,0,0,0,0,0,0,0,0,0,0,0,0,0,0,0]
["Fine Agg",860,809,767,731,699,659,618,594,570,547,514,475,424,364,251,194]
["Coarse Agg",1098,1124,1141,1151,1156,1156,1148,1139,1126,1110,1082,1039,965,862,714,492]
["Plasticiser dosage",0,0,0,0,0,0,0,0,0,0,0,0,0,0,0,0]
["Concrete",{"$f":"SUM(B24:B29)","v":2336},{"$f":"SUM(C24:C29)","v":2336},2337,2337,2336,2336,2336,2337,2336,2336,2337,2336,2336,2336,2296,2336]
["ECO2",{"$f":"(B24*'c design-col'!$K$6)+(B25*'c design-col'!$K$7)+B26*'c design-col'!$K$8+B27*'c design-col'!$K$9+B28*'c design-col'!$K$10","v":191.28880781799998},{"$f":"(C24*'c design-col'!$K$6)+(C25*'c design-col'!$K$7)+C26*'c design-col'!$K$8+C27*'c design-col'!$K$9+C28*'c design-col'!$K$10","v":213.6021637243},{"$f":"(D24*'c design-col'!$K$6)+(D25*'c design-col'!$K$7)+D26*'c design-col'!$K$8+D27*'c design-col'!$K$9+D28*'c design-col'!$K$10","v":236.7045322589},{"$f":"(E24*'c design-col'!$K$6)+(E25*'c design-col'!$K$7)+E26*'c design-col'!$K$8+E27*'c design-col'!$K$9+E28*'c design-col'!$K$10","v":259.73080135369997},{"$f":"(F24*'c design-col'!$K$6)+(F25*'c design-col'!$K$7)+F26*'c design-col'!$K$8+F27*'c design-col'!$K$9+F28*'c design-col'!$K$10","v":282.70205329129993},{"$f":"(G24*'c design-col'!$K$6)+(G25*'c design-col'!$K$7)+G26*'c design-col'!$K$8+G27*'c design-col'!$K$9+G28*'c design-col'!$K$10","v":317.96491126329994},{"$f":"(H24*'c design-col'!$K$6)+(H25*'c design-col'!$K$7)+H26*'c design-col'!$K$8+H27*'c design-col'!$K$9+H28*'c design-col'!$K$10","v":361.07758314859996},{"$f":"(I24*'c design-col'!$K$6)+(I25*'c design-col'!$K$7)+I26*'c design-col'!$K$8+I27*'c design-col'!$K$9+I28*'c design-col'!$K$10","v":390.95845360379997},{"$f":"(J24*'c design-col'!$K$6)+(J25*'c design-col'!$K$7)+J26*'c design-col'!$K$8+J27*'c design-col'!$K$9+J28*'c design-col'!$K$10","v":422.55567949099992},{"$f":"(K24*'c design-col'!$K$6)+(K25*'c design-col'!$K$7)+K26*'c design-col'!$K$8+K27*'c design-col'!$K$9+K28*'c design-col'!$K$10","v":456.7683077529},{"$f":"(L24*'c design-col'!$K$6)+(L25*'c design-col'!$K$7)+L26*'c design-col'!$K$8+L27*'c design-col'!$K$9+L28*'c design-col'!$K$10","v":511.13289710379991},{"$f":"(M24*'c design-col'!$K$6)+(M25*'c design-col'!$K$7)+M26*'c design-col'!$K$8+M27*'c design-col'!$K$9+M28*'c design-col'!$K$10","v":582.08460397049987},{"$f":"(N24*'c design-col'!$K$6)+(N25*'c design-col'!$K$7)+N26*'c design-col'!$K$8+N27*'c design-col'!$K$9+N28*'c design-col'!$K$10","v":691.50099067679992},{"$f":"(O24*'c design-col'!$K$6)+(O25*'c design-col'!$K$7)+O26*'c design-col'!$K$8+O27*'c design-col'!$K$9+O28*'c design-col'!$K$10","v":834.11139935879987},{"$f":"(P24*'c design-col'!$K$6)+(P25*'c design-col'!$K$7)+P26*'c design-col'!$K$8+P27*'c design-col'!$K$9+P28*'c design-col'!$K$10","v":1027.2861427136997},{"$f":"(Q24*'c design-col'!$K$6)+(Q25*'c design-col'!$K$7)+Q26*'c design-col'!$K$8+Q27*'c design-col'!$K$9+Q28*'c design-col'!$K$10","v":1306.2597596997998}]
["ECO2/Mpa",{"$f":"B31/B23","v":23.911100977249998},{"$f":"C31/C23","v":17.800180310358332},14.79403326618125,12.986540067684999,11.308082131651997,10.598830375443331,10.316502375674284,9.7739613400949992,9.3901262109111094,9.1353661550579996,9.2933254018872713,9.7014100661749971,9.8785855810971412,10.426392491984998,11.414290474596664,13.062597596997998]
[]
[]
["60-180",8,12,16,20,25,30,35,40,45,50,55,60,70,80,90,100]
["Water content",195,195,195,195,195,195,195,195,195,195,195,195,195,195,195,195]
["Cement content",214,242,269,297,326,369,422,459,498,541,607,696,831,1007,1247,1592]
["PFA content",0,0,0,0,0,0,0,0,0,0,0,0,0,0,0,0]
["Fine Agg",941,886,841,802,727,724,678,650,628,597,559,514,453,382,293,174]
["Coarse Agg",969,996,1014,1025,1030,1031,1024,1015,1002,986,957,914,839,735,584,358]
["Plasticiser dosage",0,0,0,0,0,0,0,0,0,0,0,0,0,0,0,0]
["Concrete",{"$f":"SUM(B36:B41)","v":2319},{"$f":"SUM(C36:C41)","v":2319},2319,2319,2278,2319,2319,2319,2323,2319,2318,2319,2318,2319,2319,2319]
["ECO2",{"$f":"(B36*'c design-col'!$K$6)+(B37*'c design-col'!$K$7)+B38*'c design-col'!$K$8+B39*'c design-col'!$K$9+B40*'c design-col'!$K$10","v":203.97517735669996},{"$f":"(C36*'c design-col'!$K$6)+(C37*'c design-col'!$K$7)+C38*'c design-col'!$K$8+C39*'c design-col'!$K$9+C40*'c design-col'!$K$10","v":228.94378875219999},{"$f":"(D36*'c design-col'!$K$6)+(D37*'c design-col'!$K$7)+D38*'c design-col'!$K$8+D39*'c design-col'!$K$9+D40*'c design-col'!$K$10","v":252.93595842669995},{"$f":"(E36*'c design-col'!$K$6)+(E37*'c design-col'!$K$7)+E38*'c design-col'!$K$8+E39*'c design-col'!$K$9+E40*'c design-col'!$K$10","v":277.73591156139997},{"$f":"(F36*'c design-col'!$K$6)+(F37*'c design-col'!$K$7)+F38*'c design-col'!$K$8+F39*'c design-col'!$K$9+F40*'c design-col'!$K$10","v":303.25941981889997},{"$f":"(G36*'c design-col'!$K$6)+(G37*'c design-col'!$K$7)+G38*'c design-col'!$K$8+G39*'c design-col'!$K$9+G40*'c design-col'!$K$10","v":341.27230275879992},{"$f":"(H36*'c design-col'!$K$6)+(H37*'c design-col'!$K$7)+H38*'c design-col'!$K$8+H39*'c design-col'!$K$9+H40*'c design-col'!$K$10","v":387.92180158259993},{"$f":"(I36*'c design-col'!$K$6)+(I37*'c design-col'!$K$7)+I38*'c design-col'!$K$8+I39*'c design-col'!$K$9+I40*'c design-col'!$K$10","v":420.44507493499992},{"$f":"(J36*'c design-col'!$K$6)+(J37*'c design-col'!$K$7)+J38*'c design-col'!$K$8+J39*'c design-col'!$K$9+J40*'c design-col'!$K$10","v":454.69857242359996},{"$f":"(K36*'c design-col'!$K$6)+(K37*'c design-col'!$K$7)+K38*'c design-col'!$K$8+K39*'c design-col'!$K$9+K40*'c design-col'!$K$10","v":492.42824067989994},{"$f":"(L36*'c design-col'!$K$6)+(L37*'c design-col'!$K$7)+L38*'c design-col'!$K$8+L39*'c design-col'!$K$9+L40*'c design-col'!$K$10","v":550.30395178529989},{"$f":"(M36*'c design-col'!$K$6)+(M37*'c design-col'!$K$7)+M38*'c design-col'!$K$8+M39*'c design-col'!$K$9+M40*'c design-col'!$K$10","v":628.31285314780007},{"$f":"(N36*'c design-col'!$K$6)+(N37*'c design-col'!$K$7)+N38*'c design-col'!$K$8+N39*'c design-col'!$K$9+N40*'c design-col'!$K$10","v":746.53210175510003},{"$f":"(O36*'c design-col'!$K$6)+(O37*'c design-col'!$K$7)+O38*'c design-col'!$K$8+O39*'c design-col'!$K$9+O40*'c design-col'!$K$10","v":900.59470958739985},{"$f":"(P36*'c design-col'!$K$6)+(P37*'c design-col'!$K$7)+P38*'c design-col'!$K$8+P39*'c design-col'!$K$9+P40*'c design-col'!$K$10","v":1110.5801450830998},{"$f":"(Q36*'c design-col'!$K$6)+(Q37*'c design-col'!$K$7)+Q38*'c design-col'!$K$8+Q39*'c design-col'!$K$9+Q40*'c design-col'!$K$10","v":1412.3399971577999}]
["ECO2/Mpa",{"$f":"B43/B35","v":25.496897169587495},{"$f":"C43/C35","v":19.078649062683333},15.808497401668747,13.886795578069998,12.130376792756,11.375743425293331,11.08348004521714,10.511126873374998,10.104412720524444,9.8485648135979993,10.005526396096361,10.471880885796669,10.664744310787142,11.257433869842497,12.33977938981222,14.123399971577999]

{"sheet":"52.5 (SP, NO PFA)","index":4,"n_rows":50,"n_cols":17,"rows_kept":50,"cut":false,"hidden":false,"merged":[]}
[]
["0-10",8,12,16,20,25,30,35,40,45,50,55,60,70,80,90,100]
["Water content",121.5,121.5,121.5,121.5,121.5,121.5,121.5,121.5,121.5,121.5,121.5,121.5,121.5,121.5,121.5,121.5]
["Cement content",133,151,168,185,203,230,263,286,310,337,378,434,518,628,777,999]
["PFA content",0,0,0,0,0,0,0,0,0,0,0,0,0,0,0,0]
["Fine Agg",836,786,746,712,682,645,608,587,567,548,521,492,453,412,364,302]
["Coarse Agg",1312,1345,1368,1385,1397,1407,1410,1409,1404,1397,1382,1357,1311,1242,1141,987]
["Plasticiser dosage",0.5,0.6,0.7,0.7,0.8,0.9,1.1000000000000001,1.1000000000000001,1.2,1.3,1.5,1.7,2.1,2.5,3.1,4]
["Concrete",{"$f":"B3+B4+B6+B7+B8","v":2403},{"$f":"C3+C4+C6+C7+C8","v":2404.1},2404.1999999999998,2404.1999999999998,2404.3000000000002,2404.4,2403.6,2404.6,2403.6999999999998,2404.8000000000002,2404,2406.1999999999998,2405.6,2406,2406.6,2413.5]
["ECO2",{"$f":"(B3*'c design-col'!$K$6)+(B4*'c design-col'!$K$7)+B5*'c design-col'!$K$8+B6*'c design-col'!$K$9+B7*'c design-col'!$K$10+B8*'c design-col'!$K$11","v":136.47290178919997},{"$f":"(C3*'c design-col'!$K$6)+(C4*'c design-col'!$K$7)+C5*'c design-col'!$K$8+C6*'c design-col'!$K$9+C7*'c design-col'!$K$10+C8*'c design-col'!$K$11","v":152.69135751019999},{"$f":"(D3*'c design-col'!$K$6)+(D4*'c design-col'!$K$7)+D5*'c design-col'!$K$8+D6*'c design-col'!$K$9+D7*'c design-col'!$K$10+D8*'c design-col'!$K$11","v":167.92051891819995},{"$f":"(E3*'c design-col'!$K$6)+(E4*'c design-col'!$K$7)+E5*'c design-col'!$K$8+E6*'c design-col'!$K$9+E7*'c design-col'!$K$10+E8*'c design-col'!$K$11","v":183.08643295839994},{"$f":"(F3*'c design-col'!$K$6)+(F4*'c design-col'!$K$7)+F5*'c design-col'!$K$8+F6*'c design-col'!$K$9+F7*'c design-col'!$K$10+F8*'c design-col'!$K$11","v":199.08121326139999},{"$f":"(G3*'c design-col'!$K$6)+(G4*'c design-col'!$K$7)+G5*'c design-col'!$K$8+G6*'c design-col'!$K$9+G7*'c design-col'!$K$10+G8*'c design-col'!$K$11","v":222.98905432549995},{"$f":"(H3*'c design-col'!$K$6)+(H4*'c design-col'!$K$7)+H5*'c design-col'!$K$8+H6*'c design-col'!$K$9+H7*'c design-col'!$K$10+H8*'c design-col'!$K$11","v":252.11022516559996},{"$f":"(I3*'c design-col'!$K$6)+(I4*'c design-col'!$K$7)+I5*'c design-col'!$K$8+I6*'c design-col'!$K$9+I7*'c design-col'!$K$10+I8*'c design-col'!$K$11","v":272.37813880889996},{"$f":"(J3*'c design-col'!$K$6)+(J4*'c design-col'!$K$7)+J5*'c design-col'!$K$8+J6*'c design-col'!$K$9+J7*'c design-col'!$K$10+J8*'c design-col'!$K$11","v":293.48083695490004},{"$f":"(K3*'c design-col'!$K$6)+(K4*'c design-col'!$K$7)+K5*'c design-col'!$K$8+K6*'c design-col'!$K$9+K7*'c design-col'!$K$10+K8*'c design-col'!$K$11","v":317.21179006760002},{"$f":"(L3*'c design-col'!$K$6)+(L4*'c design-col'!$K$7)+L5*'c design-col'!$K$8+L6*'c design-col'!$K$9+L7*'c design-col'!$K$10+L8*'c design-col'!$K$11","v":353.1957919587},{"$f":"(M3*'c design-col'!$K$6)+(M4*'c design-col'!$K$7)+M5*'c design-col'!$K$8+M6*'c design-col'!$K$9+M7*'c design-col'!$K$10+M8*'c design-col'!$K$11","v":402.30488852840006},{"$f":"(N3*'c design-col'!$K$6)+(N4*'c design-col'!$K$7)+N5*'c design-col'!$K$8+N6*'c design-col'!$K$9+N7*'c design-col'!$K$10+N8*'c design-col'!$K$11","v":475.86968839910003},{"$f":"(O3*'c design-col'!$K$6)+(O4*'c design-col'!$K$7)+O5*'c design-col'!$K$8+O6*'c design-col'!$K$9+O7*'c design-col'!$K$10+O8*'c design-col'!$K$11","v":572.11521115239987},{"$f":"(P3*'c design-col'!$K$6)+(P4*'c design-col'!$K$7)+P5*'c design-col'!$K$8+P6*'c design-col'!$K$9+P7*'c design-col'!$K$10+P8*'c design-col'!$K$11","v":702.40470494679994},{"$f":"(Q3*'c design-col'!$K$6)+(Q4*'c design-col'!$K$7)+Q5*'c design-col'!$K$8+Q6*'c design-col'!$K$9+Q7*'c design-col'!$K$10+Q8*'c design-col'!$K$11","v":896.5041043153999}]
["ECO2/Mpa",{"$f":"B10/B2","v":17.059112723649996},{"$f":"C10/C2","v":12.724279792516667},10.495032432387497,9.1543216479199963,7.9632485304560001,7.4329684775166651,7.2031492904457126,6.8094534702224987,6.5217963767755567,6.3442358013520002,6.4217416719763634,6.7050814754733343,6.7981384057014287,7.1514401394049987,7.8044967216311107,8.9650410431539989]
[]
[]
[]
["1930-10-01",8,12,16,20,25,30,35,40,45,50,55,60,70,80,90,100]
["Water content",144,144,144,144,144,144,144,144,144,144,144,144,144,144,144,144]
["Cement content",158,179,199,220,241,273,312,339,368,399,448,514,614,744,921,1176]
["PFA content",0,0,0,0,0,0,0,0,0,0,0,0,0,0,0,0]
["Fine Agg",857,805,762,727,695,657,618,595,573,552,523,489,446,397,340,267]
["Coarse Agg",1219,1250,1272,1287,1297,1304,1304,1300,1293,1282,1262,1231,1174,1092,973,791]
["Plasticiser dosage",0.6,0.7,0.8,0.9,1,1.1000000000000001,1.2,1.4,1.5,1.6,1.8,2.1,2.5,3,3.7,4.7]
["Concrete",{"$f":"B16+B17+B18+B19+B20+B21","v":2378.6},2378.6999999999998,2377.8000000000002,2378.9,2378,2379.1,2379.1999999999998,2379.4,2379.5,2378.6,2378.8000000000002,2380.1,2380.5,2380,2381.6999999999998,2382.6999999999998]
["ECO2",{"$f":"(B16*'c design-col'!$K$6)+(B17*'c design-col'!$K$7)+B18*'c design-col'!$K$8+B19*'c design-col'!$K$9+B20*'c design-col'!$K$10+B21*'c design-col'!$K$11","v":157.44572421789999},{"$f":"(C16*'c design-col'!$K$6)+(C17*'c design-col'!$K$7)+C18*'c design-col'!$K$8+C19*'c design-col'!$K$9+C20*'c design-col'!$K$10+C21*'c design-col'!$K$11","v":176.28550055349999},{"$f":"(D16*'c design-col'!$K$6)+(D17*'c design-col'!$K$7)+D18*'c design-col'!$K$8+D19*'c design-col'!$K$9+D20*'c design-col'!$K$10+D21*'c design-col'!$K$11","v":194.14652371740002},{"$f":"(E16*'c design-col'!$K$6)+(E17*'c design-col'!$K$7)+E18*'c design-col'!$K$8+E19*'c design-col'!$K$9+E20*'c design-col'!$K$10+E21*'c design-col'!$K$11","v":212.81995324289997},{"$f":"(F16*'c design-col'!$K$6)+(F17*'c design-col'!$K$7)+F18*'c design-col'!$K$8+F19*'c design-col'!$K$9+F20*'c design-col'!$K$10+F21*'c design-col'!$K$11","v":231.43605416049999},{"$f":"(G16*'c design-col'!$K$6)+(G17*'c design-col'!$K$7)+G18*'c design-col'!$K$8+G19*'c design-col'!$K$9+G20*'c design-col'!$K$10+G21*'c design-col'!$K$11","v":259.72244049789998},{"$f":"(H16*'c design-col'!$K$6)+(H17*'c design-col'!$K$7)+H18*'c design-col'!$K$8+H19*'c design-col'!$K$9+H20*'c design-col'!$K$10+H21*'c design-col'!$K$11","v":294.10372754059995},{"$f":"(I16*'c design-col'!$K$6)+(I17*'c design-col'!$K$7)+I18*'c design-col'!$K$8+I19*'c design-col'!$K$9+I20*'c design-col'!$K$10+I21*'c design-col'!$K$11","v":317.86399314649998},{"$f":"(J16*'c design-col'!$K$6)+(J17*'c design-col'!$K$7)+J18*'c design-col'!$K$8+J19*'c design-col'!$K$9+J20*'c design-col'!$K$10+J21*'c design-col'!$K$11","v":343.35577770709995},{"$f":"(K16*'c design-col'!$K$6)+(K17*'c design-col'!$K$7)+K18*'c design-col'!$K$8+K19*'c design-col'!$K$9+K20*'c design-col'!$K$10+K21*'c design-col'!$K$11","v":370.56622915039998},{"$f":"(L16*'c design-col'!$K$6)+(L17*'c design-col'!$K$7)+L18*'c design-col'!$K$8+L19*'c design-col'!$K$9+L20*'c design-col'!$K$10+L21*'c design-col'!$K$11","v":413.55240838009996},{"$f":"(M16*'c design-col'!$K$6)+(M17*'c design-col'!$K$7)+M18*'c design-col'!$K$8+M19*'c design-col'!$K$9+M20*'c design-col'!$K$10+M21*'c design-col'!$K$11","v":471.41166166429997},{"$f":"(N16*'c design-col'!$K$6)+(N17*'c design-col'!$K$7)+N18*'c design-col'!$K$8+N19*'c design-col'!$K$9+N20*'c design-col'!$K$10+N21*'c design-col'!$K$11","v":558.96796362019995},{"$f":"(O16*'c design-col'!$K$6)+(O17*'c design-col'!$K$7)+O18*'c design-col'!$K$8+O19*'c design-col'!$K$9+O20*'c design-col'!$K$10+O21*'c design-col'!$K$11","v":672.70556959189992},{"$f":"(P16*'c design-col'!$K$6)+(P17*'c design-col'!$K$7)+P18*'c design-col'!$K$8+P19*'c design-col'!$K$9+P20*'c design-col'!$K$10+P21*'c design-col'!$K$11","v":827.4916353939999},{"$f":"(Q16*'c design-col'!$K$6)+(Q17*'c design-col'!$K$7)+Q18*'c design-col'!$K$8+Q19*'c design-col'!$K$9+Q20*'c design-col'!$K$10+Q21*'c design-col'!$K$11","v":1050.3738724488999}]
["ECO2/Mpa",{"$f":"B23/B15","v":19.680715527237499},14.690458379458333,12.134157732337501,10.640997662144999,9.2574421664199988,8.6574146832633332,8.4029636440171416,7.9465998286624995,7.6301283934911099,7.4113245830079997,7.5191346978199993,7.8568610277383328,7.9852566231457134,8.4088196198987486,9.1943515043777762,10.503738724488999]
[]
[]
[]
["30-60",8,12,16,20,25,30,35,40,45,50,55,60,70,80,90,100]
["Water content",162,162,162,162,162,162,162,162,162,162,162,162,162,162,162,162]
["Cement content",178,201,224,247,271,307,351,381,414,449,505,578,691,837,1036,1323]
["PFA content",0,0,0,0,0,0,0,0,0,0,0,0,0,0,0,0]
["Fine Agg",886,834,792,757,725,686,645,622,592,576,545,508,459,403,336,247]
["Coarse Agg",1131,1160,1179,1191,1198,1202,1198,1192,1182,1170,1146,1109,1045,955,824,626]
["Plasticiser dosage",0.7,0.8,0.9,1,1.1000000000000001,1.2,1.4,1.5,1.7,1.8,2,2.2999999999999998,2.8,3.3,4.0999999999999996,5.3]
["Concrete",{"$f":"B29+B30+B31+B32+B33+B34","v":2357.6999999999998},2357.8000000000002,2357.9,2358,2357.1,2358.1999999999998,2357.4,2358.5,2351.6999999999998,2358.8000000000002,2360,2359.3000000000002,2359.8000000000002,2360.3000000000002,2362.1,2363.3000000000002]
["ECO2",{"$f":"(B29*'c design-col'!$K$6)+(B30*'c design-col'!$K$7)+B31*'c design-col'!$K$8+B32*'c design-col'!$K$9+B33*'c design-col'!$K$10+B34*'c design-col'!$K$11","v":174.07738671219997},{"$f":"(C29*'c design-col'!$K$6)+(C30*'c design-col'!$K$7)+C31*'c design-col'!$K$8+C32*'c design-col'!$K$9+C33*'c design-col'!$K$10+C34*'c design-col'!$K$11","v":194.65922366379999},{"$f":"(D29*'c design-col'!$K$6)+(D30*'c design-col'!$K$7)+D31*'c design-col'!$K$8+D32*'c design-col'!$K$9+D33*'c design-col'!$K$10+D34*'c design-col'!$K$11","v":215.1356492024},{"$f":"(E29*'c design-col'!$K$6)+(E30*'c design-col'!$K$7)+E31*'c design-col'!$K$8+E32*'c design-col'!$K$9+E33*'c design-col'!$K$10+E34*'c design-col'!$K$11","v":235.53828675189999},{"$f":"(F29*'c design-col'!$K$6)+(F30*'c design-col'!$K$7)+F31*'c design-col'!$K$8+F32*'c design-col'!$K$9+F33*'c design-col'!$K$10+F34*'c design-col'!$K$11","v":256.76747859349996},{"$f":"(G29*'c design-col'!$K$6)+(G30*'c design-col'!$K$7)+G31*'c design-col'!$K$8+G32*'c design-col'!$K$9+G33*'c design-col'!$K$10+G34*'c design-col'!$K$11","v":288.54852730419992},{"$f":"(H29*'c design-col'!$K$6)+(H30*'c design-col'!$K$7)+H31*'c design-col'!$K$8+H32*'c design-col'!$K$9+H33*'c design-col'!$K$10+H34*'c design-col'!$K$11","v":327.2931960974999},{"$f":"(I29*'c design-col'!$K$6)+(I30*'c design-col'!$K$7)+I31*'c design-col'!$K$8+I32*'c design-col'!$K$9+I33*'c design-col'!$K$10+I34*'c design-col'!$K$11","v":353.67940469939992},{"$f":"(J29*'c design-col'!$K$6)+(J30*'c design-col'!$K$7)+J31*'c design-col'!$K$8+J32*'c design-col'!$K$9+J33*'c design-col'!$K$10+J34*'c design-col'!$K$11","v":382.64967199839998},{"$f":"(K29*'c design-col'!$K$6)+(K30*'c design-col'!$K$7)+K31*'c design-col'!$K$8+K32*'c design-col'!$K$9+K33*'c design-col'!$K$10+K34*'c design-col'!$K$11","v":413.39435970319994},{"$f":"(L29*'c design-col'!$K$6)+(L30*'c design-col'!$K$7)+L31*'c design-col'!$K$8+L32*'c design-col'!$K$9+L33*'c design-col'!$K$10+L34*'c design-col'!$K$11","v":462.51168596349993},{"$f":"(M29*'c design-col'!$K$6)+(M30*'c design-col'!$K$7)+M31*'c design-col'!$K$8+M32*'c design-col'!$K$9+M33*'c design-col'!$K$10+M34*'c design-col'!$K$11","v":526.47406964359993},{"$f":"(N29*'c design-col'!$K$6)+(N30*'c design-col'!$K$7)+N31*'c design-col'!$K$8+N32*'c design-col'!$K$9+N33*'c design-col'!$K$10+N34*'c design-col'!$K$11","v":625.41701297129998},{"$f":"(O29*'c design-col'!$K$6)+(O30*'c design-col'!$K$7)+O31*'c design-col'!$K$8+O32*'c design-col'!$K$9+O33*'c design-col'!$K$10+O34*'c design-col'!$K$11","v":753.17774445209977},{"$f":"(P29*'c design-col'!$K$6)+(P30*'c design-col'!$K$7)+P31*'c design-col'!$K$8+P32*'c design-col'!$K$9+P33*'c design-col'!$K$10+P34*'c design-col'!$K$11","v":927.23188896319994},{"$f":"(Q29*'c design-col'!$K$6)+(Q30*'c design-col'!$K$7)+Q31*'c design-col'!$K$8+Q32*'c design-col'!$K$9+Q33*'c design-col'!$K$10+Q34*'c design-col'!$K$11","v":1178.1557551748999}]
["ECO2/Mpa",{"$f":"B36/B28","v":21.759673339024996},16.221601971983333,13.44597807515,11.776914337594999,10.270699143739998,9.6182842434733313,9.3512341742142837,8.8419851174849988,8.5033260444088885,8.2678871940639986,8.4093033811545439,8.7745678273933319,8.9345287567328562,9.4147218056512472,10.302576544035555,11.781557551749]
[]
[]
[]
["60-180",8,12,16,20,25,30,35,40,45,50,55,60,70,80,90,100]
["Water content",175.5,175.5,175.5,175.5,175.5,175.5,175.5,175.5,175.5,175.5,175.5,175.5,175.5,175.5,175.5,175.5]
["Cement content",193,218,243,268,294,332,380,413,448,487,547,626,748,907,1122,1433]
["PFA content",0,0,0,0,0,0,0,0,0,0,0,0,0,0,0,0]
["Fine Agg",972,917,872,833,799,756,711,685,659,633,597,555,497,431,349,240]
["Coarse Agg",1001,1031,1051,1065,1073,1078,1074,1068,1059,1046,1022,985,921,829,695,493]
["Plasticiser dosage",0.8,0.9,1,1.1000000000000001,1.2,1.3,1.5,1.7,1.8,1.9,2.2000000000000002,2.5,3,3.6,4.5,5.7]
["Concrete",{"$f":"B42+B43+B44+B45+B46+B47","v":2342.3000000000002},2342.4,2342.5,2342.6,2342.6999999999998,2342.8000000000002,2342,2343.1999999999998,2343.3000000000002,2343.4,2343.6999999999998,2344,2344.5,2346.1,2346,2347.1999999999998]
["ECO2",{"$f":"(B42*'c design-col'!$K$6)+(B43*'c design-col'!$K$7)+B44*'c design-col'!$K$8+B45*'c design-col'!$K$9+B46*'c design-col'!$K$10+B47*'c design-col'!$K$11","v":185.87707853239996},{"$f":"(C42*'c design-col'!$K$6)+(C43*'c design-col'!$K$7)+C44*'c design-col'!$K$8+C45*'c design-col'!$K$9+C46*'c design-col'!$K$10+C47*'c design-col'!$K$11","v":208.23259952389998},{"$f":"(D42*'c design-col'!$K$6)+(D43*'c design-col'!$K$7)+D44*'c design-col'!$K$8+D45*'c design-col'!$K$9+D46*'c design-col'!$K$10+D47*'c design-col'!$K$11","v":230.48270910240001},{"$f":"(E42*'c design-col'!$K$6)+(E43*'c design-col'!$K$7)+E44*'c design-col'!$K$8+E45*'c design-col'!$K$9+E46*'c design-col'!$K$10+E47*'c design-col'!$K$11","v":252.66957183309998},{"$f":"(F42*'c design-col'!$K$6)+(F43*'c design-col'!$K$7)+F44*'c design-col'!$K$8+F45*'c design-col'!$K$9+F46*'c design-col'!$K$10+F47*'c design-col'!$K$11","v":275.67475916530003},{"$f":"(G42*'c design-col'!$K$6)+(G43*'c design-col'!$K$7)+G44*'c design-col'!$K$8+G45*'c design-col'!$K$9+G46*'c design-col'!$K$10+G47*'c design-col'!$K$11","v":309.22718046520004},{"$f":"(H42*'c design-col'!$K$6)+(H43*'c design-col'!$K$7)+H44*'c design-col'!$K$8+H45*'c design-col'!$K$9+H46*'c design-col'!$K$10+H47*'c design-col'!$K$11","v":351.4981350557},{"$f":"(I42*'c design-col'!$K$6)+(I43*'c design-col'!$K$7)+I44*'c design-col'!$K$8+I45*'c design-col'!$K$9+I46*'c design-col'!$K$10+I47*'c design-col'!$K$11","v":380.52905852549998},{"$f":"(J42*'c design-col'!$K$6)+(J43*'c design-col'!$K$7)+J44*'c design-col'!$K$8+J45*'c design-col'!$K$9+J46*'c design-col'!$K$10+J47*'c design-col'!$K$11","v":411.28918949929994},{"$f":"(K42*'c design-col'!$K$6)+(K43*'c design-col'!$K$7)+K44*'c design-col'!$K$8+K45*'c design-col'!$K$9+K46*'c design-col'!$K$10+K47*'c design-col'!$K$11","v":445.5334417050999},{"$f":"(L42*'c design-col'!$K$6)+(L43*'c design-col'!$K$7)+L44*'c design-col'!$K$8+L45*'c design-col'!$K$9+L46*'c design-col'!$K$10+L47*'c design-col'!$K$11","v":498.17474283189995},{"$f":"(M42*'c design-col'!$K$6)+(M43*'c design-col'!$K$7)+M44*'c design-col'!$K$8+M45*'c design-col'!$K$9+M46*'c design-col'!$K$10+M47*'c design-col'!$K$11","v":567.42886665850006},{"$f":"(N42*'c design-col'!$K$6)+(N43*'c design-col'!$K$7)+N44*'c design-col'!$K$8+N45*'c design-col'!$K$9+N46*'c design-col'!$K$10+N47*'c design-col'!$K$11","v":674.30595302990002},{"$f":"(O42*'c design-col'!$K$6)+(O43*'c design-col'!$K$7)+O44*'c design-col'!$K$8+O45*'c design-col'!$K$9+O46*'c design-col'!$K$10+O47*'c design-col'!$K$11","v":813.50834303969987},{"$f":"(P42*'c design-col'!$K$6)+(P43*'c design-col'!$K$7)+P44*'c design-col'!$K$8+P45*'c design-col'!$K$9+P46*'c design-col'!$K$10+P47*'c design-col'!$K$11","v":1001.6313849342999},{"$f":"(Q42*'c design-col'!$K$6)+(Q43*'c design-col'!$K$7)+Q44*'c design-col'!$K$8+Q45*'c design-col'!$K$9+Q46*'c design-col'!$K$10+Q47*'c design-col'!$K$11","v":1273.6708013640002}]
["ECO2/Mpa",{"$f":"B49/B41","v":23.234634816549995},17.352716626991665,14.405169318900001,12.633478591654999,11.026990366612001,10.307572682173335,10.042803858734286,9.5132264631374994,9.1397597666511103,8.9106688341019975,9.0577225969436359,9.4571477776416675,9.6329421861414293,10.168854287996249,11.129237610381111,12.736708013640003]

{"sheet":"52.5 (20% PFA, 0SP)","index":5,"n_rows":51,"n_cols":17,"rows_kept":51,"cut":false,"hidden":false,"merged":[]}
[]
["0-10",8,12,16,20,25,30,35,40,45,50,55,60,70,80,90,100]
["Water content",125,125,125,125,125,125,125,125,125,125,125,125,125,125,125,125]
["Cement content",128,144,161,177,195,220,252,274,297,322,362,415,496,601,743,949]
["PFA content",32,36,40,44,49,55,63,68,74,81,91,104,124,150,186,237]
["Fine Agg",823,772,731,697,666,629,591,569,548,527,499,467,425,379,325,256]
["Coarse Agg",1291,1322,1342,1356,1365,1370,1369,1364,1356,1344,1323,1289,1229,1144,1020,832]
["Plasticiser dosage",0,0,0,0,0,0,0,0,0,0,0,0,0,0,0,0]
["Concrete",{"$f":"B3+B4+B5+B6+B7+B8","v":2399},{"$f":"C3+C4+C5+C6+C7+C8","v":2399},2399,2399,2400,2399,2400,2400,2400,2399,2400,2400,2399,2399,2399,2399]
["ECO2",{"$f":"(B3*'c design-col'!$K$6)+(B4*'c design-col'!$K$7)+B5*'c design-col'!$K$8+B6*'c design-col'!$K$9+B7*'c design-col'!$K$10+B8*'c design-col'!$K$11","v":132.6210313981},{"$f":"(C3*'c design-col'!$K$6)+(C4*'c design-col'!$K$7)+C5*'c design-col'!$K$8+C6*'c design-col'!$K$9+C7*'c design-col'!$K$10+C8*'c design-col'!$K$11","v":147.1517041644},{"$f":"(D3*'c design-col'!$K$6)+(D4*'c design-col'!$K$7)+D5*'c design-col'!$K$8+D6*'c design-col'!$K$9+D7*'c design-col'!$K$10+D8*'c design-col'!$K$11","v":162.44799582569999},{"$f":"(E3*'c design-col'!$K$6)+(E4*'c design-col'!$K$7)+E5*'c design-col'!$K$8+E6*'c design-col'!$K$9+E7*'c design-col'!$K$10+E8*'c design-col'!$K$11","v":176.79946918989995},{"$f":"(F3*'c design-col'!$K$6)+(F4*'c design-col'!$K$7)+F5*'c design-col'!$K$8+F6*'c design-col'!$K$9+F7*'c design-col'!$K$10+F8*'c design-col'!$K$11","v":192.88837974619997},{"$f":"(G3*'c design-col'!$K$6)+(G4*'c design-col'!$K$7)+G5*'c design-col'!$K$8+G6*'c design-col'!$K$9+G7*'c design-col'!$K$10+G8*'c design-col'!$K$11","v":215.12619153029999},{"$f":"(H3*'c design-col'!$K$6)+(H4*'c design-col'!$K$7)+H5*'c design-col'!$K$8+H6*'c design-col'!$K$9+H7*'c design-col'!$K$10+H8*'c design-col'!$K$11","v":243.52575661169996},{"$f":"(I3*'c design-col'!$K$6)+(I4*'c design-col'!$K$7)+I5*'c design-col'!$K$8+I6*'c design-col'!$K$9+I7*'c design-col'!$K$10+I8*'c design-col'!$K$11","v":262.99106553629997},{"$f":"(J3*'c design-col'!$K$6)+(J4*'c design-col'!$K$7)+J5*'c design-col'!$K$8+J6*'c design-col'!$K$9+J7*'c design-col'!$K$10+J8*'c design-col'!$K$11","v":283.3310110356},{"$f":"(K3*'c design-col'!$K$6)+(K4*'c design-col'!$K$7)+K5*'c design-col'!$K$8+K6*'c design-col'!$K$9+K7*'c design-col'!$K$10+K8*'c design-col'!$K$11","v":305.41431196689996},{"$f":"(L3*'c design-col'!$K$6)+(L4*'c design-col'!$K$7)+L5*'c design-col'!$K$8+L6*'c design-col'!$K$9+L7*'c design-col'!$K$10+L8*'c design-col'!$K$11","v":340.70500291529999},{"$f":"(M3*'c design-col'!$K$6)+(M4*'c design-col'!$K$7)+M5*'c design-col'!$K$8+M6*'c design-col'!$K$9+M7*'c design-col'!$K$10+M8*'c design-col'!$K$11","v":387.39084206489997},{"$f":"(N3*'c design-col'!$K$6)+(N4*'c design-col'!$K$7)+N5*'c design-col'!$K$8+N6*'c design-col'!$K$9+N7*'c design-col'!$K$10+N8*'c design-col'!$K$11","v":458.65712051549997},{"$f":"(O3*'c design-col'!$K$6)+(O4*'c design-col'!$K$7)+O5*'c design-col'!$K$8+O6*'c design-col'!$K$9+O7*'c design-col'!$K$10+O8*'c design-col'!$K$11","v":550.96802796329985},{"$f":"(P3*'c design-col'!$K$6)+(P4*'c design-col'!$K$7)+P5*'c design-col'!$K$8+P6*'c design-col'!$K$9+P7*'c design-col'!$K$10+P8*'c design-col'!$K$11","v":675.7328600175},{"$f":"(Q3*'c design-col'!$K$6)+(Q4*'c design-col'!$K$7)+Q5*'c design-col'!$K$8+Q6*'c design-col'!$K$9+Q7*'c design-col'!$K$10+Q8*'c design-col'!$K$11","v":856.61396002319998}]
["ECO2/Mpa",{"$f":"B10/B2","v":16.5776289247625},{"$f":"C10/C2","v":12.262642013700001},10.152999739106249,8.8399734594949972,7.7155351898479987,7.1708730510100001,6.9578787603342844,6.5747766384074993,6.29624468968,6.1082862393379989,6.194636416641818,6.4565140344149992,6.5522445787928563,6.8871003495412477,7.5081428890833335,8.5661396002319989]
[]
[]
[]
["0-10",8,12,16,20,25,30,35,40,45,50,55,60,70,80,90,100]
["Water content",150,150,150,150,150,150,150,150,150,150,150,150,150,150,150,150]
["Cement content",153,173,193,213,234,264,302,328,356,387,435,498,595,721,892,1139]
["PFA content",38,43,48,53,58,66,76,82,89,97,109,124,149,180,223,285]
["Fine Agg",837,785,742,705,673,633,592,568,545,523,491,455,406,352,287,201]
["Coarse Agg",1192,1220,1238,1249,1255,1257,1251,1242,1230,1214,1186,1144,1071,967,819,596]
["Plasticiser dosage"]
["Concrete",{"$f":"B16+B17+B18+B19+B20","v":2370},{"$f":"C16+C17+C18+C19+C20","v":2371},2371,2370,2370,2370,2371,2370,2370,2371,2371,2371,2371,2370,2371,2371]
["ECO2",{"$f":"(B16*'c design-col'!$K$6)+(B17*'c design-col'!$K$7)+B18*'c design-col'!$K$8+B19*'c design-col'!$K$9+B20*'c design-col'!$K$10+B21*'c design-col'!$K$11","v":153.6650575999},{"$f":"(C16*'c design-col'!$K$6)+(C17*'c design-col'!$K$7)+C18*'c design-col'!$K$8+C19*'c design-col'!$K$9+C20*'c design-col'!$K$10+C21*'c design-col'!$K$11","v":171.71739273949999},{"$f":"(D16*'c design-col'!$K$6)+(D17*'c design-col'!$K$7)+D18*'c design-col'!$K$8+D19*'c design-col'!$K$9+D20*'c design-col'!$K$10+D21*'c design-col'!$K$11","v":189.66200501539996},{"$f":"(E16*'c design-col'!$K$6)+(E17*'c design-col'!$K$7)+E18*'c design-col'!$K$8+E19*'c design-col'!$K$9+E20*'c design-col'!$K$10+E21*'c design-col'!$K$11","v":207.53051785150001},{"$f":"(F16*'c design-col'!$K$6)+(F17*'c design-col'!$K$7)+F18*'c design-col'!$K$8+F19*'c design-col'!$K$9+F20*'c design-col'!$K$10+F21*'c design-col'!$K$11","v":226.2302078811},{"$f":"(G16*'c design-col'!$K$6)+(G17*'c design-col'!$K$7)+G18*'c design-col'!$K$8+G19*'c design-col'!$K$9+G20*'c design-col'!$K$10+G21*'c design-col'!$K$11","v":252.89594203709999},{"$f":"(H16*'c design-col'!$K$6)+(H17*'c design-col'!$K$7)+H18*'c design-col'!$K$8+H19*'c design-col'!$K$9+H20*'c design-col'!$K$10+H21*'c design-col'!$K$11","v":286.58160720639995},{"$f":"(I16*'c design-col'!$K$6)+(I17*'c design-col'!$K$7)+I18*'c design-col'!$K$8+I19*'c design-col'!$K$9+I20*'c design-col'!$K$10+I21*'c design-col'!$K$11","v":309.55341446159997},{"$f":"(J16*'c design-col'!$K$6)+(J17*'c design-col'!$K$7)+J18*'c design-col'!$K$8+J19*'c design-col'!$K$9+J20*'c design-col'!$K$10+J21*'c design-col'!$K$11","v":334.28374119149993},{"$f":"(K16*'c design-col'!$K$6)+(K17*'c design-col'!$K$7)+K18*'c design-col'!$K$8+K19*'c design-col'!$K$9+K20*'c design-col'!$K$10+K21*'c design-col'!$K$11","v":361.64361770409988},{"$f":"(L16*'c design-col'!$K$6)+(L17*'c design-col'!$K$7)+L18*'c design-col'!$K$8+L19*'c design-col'!$K$9+L20*'c design-col'!$K$10+L21*'c design-col'!$K$11","v":403.96015790569999},{"$f":"(M16*'c design-col'!$K$6)+(M17*'c design-col'!$K$7)+M18*'c design-col'!$K$8+M19*'c design-col'!$K$9+M20*'c design-col'!$K$10+M21*'c design-col'!$K$11","v":459.42675951649994},{"$f":"(N16*'c design-col'!$K$6)+(N17*'c design-col'!$K$7)+N18*'c design-col'!$K$8+N19*'c design-col'!$K$9+N20*'c design-col'!$K$10+N21*'c design-col'!$K$11","v":544.78690051620003},{"$f":"(O16*'c design-col'!$K$6)+(O17*'c design-col'!$K$7)+O18*'c design-col'!$K$8+O19*'c design-col'!$K$9+O20*'c design-col'!$K$10+O21*'c design-col'!$K$11","v":655.53165801039995},{"$f":"(P16*'c design-col'!$K$6)+(P17*'c design-col'!$K$7)+P18*'c design-col'!$K$8+P19*'c design-col'!$K$9+P20*'c design-col'!$K$10+P21*'c design-col'!$K$11","v":805.78420599889989},{"$f":"(Q16*'c design-col'!$K$6)+(Q17*'c design-col'!$K$7)+Q18*'c design-col'!$K$8+Q19*'c design-col'!$K$9+Q20*'c design-col'!$K$10+Q21*'c design-col'!$K$11","v":1022.7123695227}]
["ECO2/Mpa",{"$f":"B23/B15","v":19.208132199987499},{"$f":"C23/C15","v":14.309782728291665},11.853875313462497,10.376525892575,9.0492083152439999,8.4298647345699997,8.188045920182855,7.7388353615399996,7.4285275820333316,7.2328723540819979,7.3447301437399997,7.657112658608332,7.7826700073742865,8.1941457251299994,8.9531578444322211,10.227123695227]
[]
[]
[]
[]
["30-60",8,12,16,20,25,30,35,40,45,50,55,60,70,80,90,100]
["Water content",170,170,170,170,170,170,170,170,170,170,170,170,170,170,170,170]
["Cement content",174,196,219,241,265,299,343,372,404,439,493,564,674,817,1011,1291]
["PFA content",43,49,55,60,66,75,86,93,101,110,123,141,169,204,253,323]
["Fine Agg",861,809,766,729,696,655,612,587,562,538,503,464,407,343,265,159]
["Coarse Agg",1100,1124,1139,1147,1151,1148,1137,1126,1110,1092,1059,1010,928,813,649,404]
["Plasticiser dosage"]
["Concrete",{"$f":"B30+B31+B32+B33+B34","v":2348},{"$f":"C30+C31+C32+C33+C34","v":2348},2349,2347,2348,2347,2348,2348,2347,2349,2348,2349,2348,2347,2348,2347]
["ECO2",{"$f":"(B30*'c design-col'!$K$6)+(B31*'c design-col'!$K$7)+B32*'c design-col'!$K$8+B33*'c design-col'!$K$9+B34*'c design-col'!$K$10+B35*'c design-col'!$K$11","v":171.25463485269998},{"$f":"(C30*'c design-col'!$K$6)+(C31*'c design-col'!$K$7)+C32*'c design-col'!$K$8+C33*'c design-col'!$K$9+C34*'c design-col'!$K$10+C35*'c design-col'!$K$11","v":191.05032542429998},{"$f":"(D30*'c design-col'!$K$6)+(D31*'c design-col'!$K$7)+D32*'c design-col'!$K$8+D33*'c design-col'!$K$9+D34*'c design-col'!$K$10+D35*'c design-col'!$K$11","v":211.63502862419998},{"$f":"(E30*'c design-col'!$K$6)+(E31*'c design-col'!$K$7)+E32*'c design-col'!$K$8+E33*'c design-col'!$K$9+E34*'c design-col'!$K$10+E35*'c design-col'!$K$11","v":231.23274948429997},{"$f":"(F30*'c design-col'!$K$6)+(F31*'c design-col'!$K$7)+F32*'c design-col'!$K$8+F33*'c design-col'!$K$9+F34*'c design-col'!$K$10+F35*'c design-col'!$K$11","v":252.58307157919998},{"$f":"(G30*'c design-col'!$K$6)+(G31*'c design-col'!$K$7)+G32*'c design-col'!$K$8+G33*'c design-col'!$K$9+G34*'c design-col'!$K$10+G35*'c design-col'!$K$11","v":282.74476292449998},{"$f":"(H30*'c design-col'!$K$6)+(H31*'c design-col'!$K$7)+H32*'c design-col'!$K$8+H33*'c design-col'!$K$9+H34*'c design-col'!$K$10+H35*'c design-col'!$K$11","v":321.69183963239999},{"$f":"(I30*'c design-col'!$K$6)+(I31*'c design-col'!$K$7)+I32*'c design-col'!$K$8+I33*'c design-col'!$K$9+I34*'c design-col'!$K$10+I35*'c design-col'!$K$11","v":347.3142789529},{"$f":"(J30*'c design-col'!$K$6)+(J31*'c design-col'!$K$7)+J32*'c design-col'!$K$8+J33*'c design-col'!$K$9+J34*'c design-col'!$K$10+J35*'c design-col'!$K$11","v":375.55110401339994},{"$f":"(K30*'c design-col'!$K$6)+(K31*'c design-col'!$K$7)+K32*'c design-col'!$K$8+K33*'c design-col'!$K$9+K34*'c design-col'!$K$10+K35*'c design-col'!$K$11","v":406.44318404059999},{"$f":"(L30*'c design-col'!$K$6)+(L31*'c design-col'!$K$7)+L32*'c design-col'!$K$8+L33*'c design-col'!$K$9+L34*'c design-col'!$K$10+L35*'c design-col'!$K$11","v":454.01882433009996},{"$f":"(M30*'c design-col'!$K$6)+(M31*'c design-col'!$K$7)+M32*'c design-col'!$K$8+M33*'c design-col'!$K$9+M34*'c design-col'!$K$10+M35*'c design-col'!$K$11","v":516.54058664479999},{"$f":"(N30*'c design-col'!$K$6)+(N31*'c design-col'!$K$7)+N32*'c design-col'!$K$8+N33*'c design-col'!$K$9+N34*'c design-col'!$K$10+N35*'c design-col'!$K$11","v":613.33804041089979},{"$f":"(O30*'c design-col'!$K$6)+(O31*'c design-col'!$K$7)+O32*'c design-col'!$K$8+O33*'c design-col'!$K$9+O34*'c design-col'!$K$10+O35*'c design-col'!$K$11","v":739.05231418609992},{"$f":"(P30*'c design-col'!$K$6)+(P31*'c design-col'!$K$7)+P32*'c design-col'!$K$8+P33*'c design-col'!$K$9+P34*'c design-col'!$K$10+P35*'c design-col'!$K$11","v":909.56047854349993},{"$f":"(Q30*'c design-col'!$K$6)+(Q31*'c design-col'!$K$7)+Q32*'c design-col'!$K$8+Q33*'c design-col'!$K$9+Q34*'c design-col'!$K$10+Q35*'c design-col'!$K$11","v":1155.5437917293}]
["ECO2/Mpa",{"$f":"B37/B29","v":21.406829356587497},{"$f":"C37/C29","v":15.920860452024998},13.227189289012498,11.561637474214999,10.103322863168,9.4248254308166661,9.1911954180685704,8.6828569738224992,8.3455800891866652,8.1288636808119996,8.2548877150927265,8.6090097774133323,8.7619720058699979,9.2381539273262483,10.106227539372222,11.555437917293]
[]
[]
[]
["30-60",8,12,16,20,25,30,35,40,45,50,55,60,70,80,90,100]
["Water content",180,180,180,180,180,180,180,180,180,180,180,180,180,180,180,180]
["Cement content",184,208,231,255,280,317,363,394,428,464,521,597,714,865,1070,1367]
["PFA content",46,52,58,64,70,79,91,98,107,116,130,149,178,216,268,342]
["Fine Agg",949,893,847,807,771,726,678,650,622,594,555,508,443,368,273,146]
["Coarse Agg",977,1004,1020,1030,1035,1034,1025,1014,1000,982,950,902,821,707,545,301]
["Plasticiser dosage"]
["Concrete",{"$f":"B43+B44+B45+B46+B47","v":2336},{"$f":"C43+C44+C45+C46+C47","v":2337},2336,2336,2336,2336,2337,2336,2337,2336,2336,2336,2336,2336,2336,2336]
["ECO2",{"$f":"(B43*'c design-col'!$K$6)+(B44*'c design-col'!$K$7)+B45*'c design-col'!$K$8+B46*'c design-col'!$K$9+B47*'c design-col'!$K$10+B48*'c design-col'!$K$11","v":178.80700269829998},{"$f":"(C43*'c design-col'!$K$6)+(C44*'c design-col'!$K$7)+C45*'c design-col'!$K$8+C46*'c design-col'!$K$9+C47*'c design-col'!$K$10+C48*'c design-col'!$K$11","v":200.3997710431},{"$f":"(D43*'c design-col'!$K$6)+(D44*'c design-col'!$K$7)+D45*'c design-col'!$K$8+D46*'c design-col'!$K$9+D47*'c design-col'!$K$10+D48*'c design-col'!$K$11","v":220.99039248289998},{"$f":"(E43*'c design-col'!$K$6)+(E44*'c design-col'!$K$7)+E45*'c design-col'!$K$8+E46*'c design-col'!$K$9+E47*'c design-col'!$K$10+E48*'c design-col'!$K$11","v":242.40164997489998},{"$f":"(F43*'c design-col'!$K$6)+(F44*'c design-col'!$K$7)+F45*'c design-col'!$K$8+F46*'c design-col'!$K$9+F47*'c design-col'!$K$10+F48*'c design-col'!$K$11","v":264.64177320969998},{"$f":"(G43*'c design-col'!$K$6)+(G44*'c design-col'!$K$7)+G45*'c design-col'!$K$8+G46*'c design-col'!$K$9+G47*'c design-col'!$K$10+G48*'c design-col'!$K$11","v":297.47157263619994},{"$f":"(H43*'c design-col'!$K$6)+(H44*'c design-col'!$K$7)+H45*'c design-col'!$K$8+H46*'c design-col'!$K$9+H47*'c design-col'!$K$10+H48*'c design-col'!$K$11","v":338.22756307459997},{"$f":"(I43*'c design-col'!$K$6)+(I44*'c design-col'!$K$7)+I45*'c design-col'!$K$8+I46*'c design-col'!$K$9+I47*'c design-col'!$K$10+I48*'c design-col'!$K$11","v":365.61083384299997},{"$f":"(J43*'c design-col'!$K$6)+(J44*'c design-col'!$K$7)+J45*'c design-col'!$K$8+J46*'c design-col'!$K$9+J47*'c design-col'!$K$10+J48*'c design-col'!$K$11","v":395.6611955354},{"$f":"(K43*'c design-col'!$K$6)+(K44*'c design-col'!$K$7)+K45*'c design-col'!$K$8+K46*'c design-col'!$K$9+K47*'c design-col'!$K$10+K48*'c design-col'!$K$11","v":427.42791265979997},{"$f":"(L43*'c design-col'!$K$6)+(L44*'c design-col'!$K$7)+L45*'c design-col'!$K$8+L46*'c design-col'!$K$9+L47*'c design-col'!$K$10+L48*'c design-col'!$K$11","v":477.68580843849992},{"$f":"(M43*'c design-col'!$K$6)+(M44*'c design-col'!$K$7)+M45*'c design-col'!$K$8+M46*'c design-col'!$K$9+M47*'c design-col'!$K$10+M48*'c design-col'!$K$11","v":544.64834623959996},{"$f":"(N43*'c design-col'!$K$6)+(N44*'c design-col'!$K$7)+N45*'c design-col'!$K$8+N46*'c design-col'!$K$9+N47*'c design-col'!$K$10+N48*'c design-col'!$K$11","v":647.65434129209984},{"$f":"(O43*'c design-col'!$K$6)+(O44*'c design-col'!$K$7)+O45*'c design-col'!$K$8+O46*'c design-col'!$K$9+O47*'c design-col'!$K$10+O48*'c design-col'!$K$11","v":780.50810490159995},{"$f":"(P43*'c design-col'!$K$6)+(P44*'c design-col'!$K$7)+P45*'c design-col'!$K$8+P46*'c design-col'!$K$9+P47*'c design-col'!$K$10+P48*'c design-col'!$K$11","v":960.80639168109985},{"$f":"(Q43*'c design-col'!$K$6)+(Q44*'c design-col'!$K$7)+Q45*'c design-col'!$K$8+Q46*'c design-col'!$K$9+Q47*'c design-col'!$K$10+Q48*'c design-col'!$K$11","v":1221.8880262941998}]
["ECO2/Mpa",{"$f":"B50/B42","v":22.350875337287498},{"$f":"C50/C42","v":16.699980920258334},13.811899530181249,12.120082498744999,10.585670928388,9.915719087873331,9.6636446592742846,9.1402708460749995,8.7924710118977778,8.5485582531959992,8.685196517063634,9.0774724373266658,9.2522048756014268,9.7563513112699987,10.675626574234443,12.218880262941997]

{"sheet":"52.5 (20%PFA + SP)","index":6,"n_rows":53,"n_cols":17,"rows_kept":53,"cut":false,"hidden":false,"merged":[]}
[]
["0-10",8,12,16,20,25,30,35,40,45,50,55,60,70,80,90,100]
["Water content",112.5,112.5,112.5,112.5,112.5,112.5,112.5,112.5,112.5,112.5,112.5,112.5,112.5,112.5,112.5,112.5]
["Cement content",115,130,145,160,175,198,227,246,267,290,326,373,446,541,669,854]
["PFA content",29,32,36,40,44,50,57,62,67,73,81,93,112,135,167,214]
["Fine Agg",840,789,748,713,683,646,608,587,566,546,519,488,448,405,354,290]
["Coarse Agg",1318,1350,1372,1388,1399,1408,1410,1407,1401,1392,1375,1347,1295,1221,1111,943]
["Plasticiser dosage",0.6,0.6,0.7,0.8,0.9,1,1.1000000000000001,1.2,1.3,1.5,1.6,1.9,2.2000000000000002,2.7,3.3,4.3]
["Concrete",{"$f":"B3+B4+B5+B6+B7+B8","v":2415.1},{"$f":"C3+C4+C5+C6+C7+C8","v":2414.1},2414.1999999999998,2414.3000000000002,2414.4,2415.5,2415.6,2415.6999999999998,2414.8000000000002,2415,2415.1,2415.4,2415.6999999999998,2417.1999999999998,2416.8000000000002,2417.8000000000002]
["ECO2",{"$f":"(B3*'c design-col'!$K$6)+(B4*'c design-col'!$K$7)+B5*'c design-col'!$K$8+B6*'c design-col'!$K$9+B7*'c design-col'!$K$10+B8*'c design-col'!$K$11","v":121.42337146399998},{"$f":"(C3*'c design-col'!$K$6)+(C4*'c design-col'!$K$7)+C5*'c design-col'!$K$8+C6*'c design-col'!$K$9+C7*'c design-col'!$K$10+C8*'c design-col'!$K$11","v":135.0560139223},{"$f":"(D3*'c design-col'!$K$6)+(D4*'c design-col'!$K$7)+D5*'c design-col'!$K$8+D6*'c design-col'!$K$9+D7*'c design-col'!$K$10+D8*'c design-col'!$K$11","v":148.6102454876},{"$f":"(E3*'c design-col'!$K$6)+(E4*'c design-col'!$K$7)+E5*'c design-col'!$K$8+E6*'c design-col'!$K$9+E7*'c design-col'!$K$10+E8*'c design-col'!$K$11","v":162.10123020509999},{"$f":"(F3*'c design-col'!$K$6)+(F4*'c design-col'!$K$7)+F5*'c design-col'!$K$8+F6*'c design-col'!$K$9+F7*'c design-col'!$K$10+F8*'c design-col'!$K$11","v":175.53950921609996},{"$f":"(G3*'c design-col'!$K$6)+(G4*'c design-col'!$K$7)+G5*'c design-col'!$K$8+G6*'c design-col'!$K$9+G7*'c design-col'!$K$10+G8*'c design-col'!$K$11","v":196.06096608819999},{"$f":"(H3*'c design-col'!$K$6)+(H4*'c design-col'!$K$7)+H5*'c design-col'!$K$8+H6*'c design-col'!$K$9+H7*'c design-col'!$K$10+H8*'c design-col'!$K$11","v":221.82044076559995},{"$f":"(I3*'c design-col'!$K$6)+(I4*'c design-col'!$K$7)+I5*'c design-col'!$K$8+I6*'c design-col'!$K$9+I7*'c design-col'!$K$10+I8*'c design-col'!$K$11","v":238.66211814489998},{"$f":"(J3*'c design-col'!$K$6)+(J4*'c design-col'!$K$7)+J5*'c design-col'!$K$8+J6*'c design-col'!$K$9+J7*'c design-col'!$K$10+J8*'c design-col'!$K$11","v":257.23300354820003},{"$f":"(K3*'c design-col'!$K$6)+(K4*'c design-col'!$K$7)+K5*'c design-col'!$K$8+K6*'c design-col'!$K$9+K7*'c design-col'!$K$10+K8*'c design-col'!$K$11","v":277.56240894619998},{"$f":"(L3*'c design-col'!$K$6)+(L4*'c design-col'!$K$7)+L5*'c design-col'!$K$8+L6*'c design-col'!$K$9+L7*'c design-col'!$K$10+L8*'c design-col'!$K$11","v":309.31729063329999},{"$f":"(M3*'c design-col'!$K$6)+(M4*'c design-col'!$K$7)+M5*'c design-col'!$K$8+M6*'c design-col'!$K$9+M7*'c design-col'!$K$10+M8*'c design-col'!$K$11","v":350.75226094559997},{"$f":"(N3*'c design-col'!$K$6)+(N4*'c design-col'!$K$7)+N5*'c design-col'!$K$8+N6*'c design-col'!$K$9+N7*'c design-col'!$K$10+N8*'c design-col'!$K$11","v":415.02792139359997},{"$f":"(O3*'c design-col'!$K$6)+(O4*'c design-col'!$K$7)+O5*'c design-col'!$K$8+O6*'c design-col'!$K$9+O7*'c design-col'!$K$10+O8*'c design-col'!$K$11","v":498.56731530549996},{"$f":"(P3*'c design-col'!$K$6)+(P4*'c design-col'!$K$7)+P5*'c design-col'!$K$8+P6*'c design-col'!$K$9+P7*'c design-col'!$K$10+P8*'c design-col'!$K$11","v":611.03666051979985},{"$f":"(Q3*'c design-col'!$K$6)+(Q4*'c design-col'!$K$7)+Q5*'c design-col'!$K$8+Q6*'c design-col'!$K$9+Q7*'c design-col'!$K$10+Q8*'c design-col'!$K$11","v":773.51683391899996}]
["ECO2/Mpa",{"$f":"B10/B2","v":15.177921432999998},{"$f":"C10/C2","v":11.254667826858332},9.2881403429749998,8.1050615102550001,7.0215803686439981,6.5353655362733329,6.3377268790171417,5.9665529536224993,5.7162889677377784,5.5512481789239994,5.6239507387872729,5.8458710157599993,5.9289703056228564,6.2320914413187491,6.7892962279977764,7.7351683391899995]
[]
[]
[]
[]
["1930-10-01",8,12,16,20,25,30,35,40,45,50,55,60,70,80,90,100]
["Water content",135,135,135,135,135,135,135,135,135,135,135,135,135,135,135,135]
["Cement content",138,156,174,192,210,238,272,295,321,348,391,448,535,649,803,1025]
["PFA content",34,39,43,48,53,59,68,74,80,87,98,112,134,162,201,256]
["Fine Agg",859,806,763,727,695,655,615,591,569,547,516,482,436,385,324,245]
["Coarse Agg",1222,1252,1273,1287,1295,1301,1298,1292,1283,1271,1248,1211,1148,1057,925,726]
["Plasticiser dosage",0.7,0.8,0.9,1,1.1000000000000001,1.2,1.4,1.5,1.6,1.7,2,2.2000000000000002,2.7,3.2,4,5.0999999999999996]
["Concrete",{"$f":"SUM(B17:B22)","v":2388.6999999999998},{"$f":"SUM(C17:C22)","v":2388.8000000000002},2388.9,2390,2389.1,2389.1999999999998,2389.4,2388.5,2389.6,2389.6999999999998,2390,2390.1999999999998,2390.6999999999998,2391.1999999999998,2392,2392.1]
["ECO2",{"$f":"(B17*'c design-col'!$K$6)+(B18*'c design-col'!$K$7)+B19*'c design-col'!$K$8+B20*'c design-col'!$K$9+B21*'c design-col'!$K$10+B22*'c design-col'!$K$11","v":140.72024741529998},{"$f":"(C17*'c design-col'!$K$6)+(C18*'c design-col'!$K$7)+C19*'c design-col'!$K$8+C20*'c design-col'!$K$9+C21*'c design-col'!$K$10+C22*'c design-col'!$K$11","v":157.0282110082},{"$f":"(D17*'c design-col'!$K$6)+(D18*'c design-col'!$K$7)+D19*'c design-col'!$K$8+D20*'c design-col'!$K$9+D21*'c design-col'!$K$10+D22*'c design-col'!$K$11","v":173.2166157801},{"$f":"(E17*'c design-col'!$K$6)+(E18*'c design-col'!$K$7)+E19*'c design-col'!$K$8+E20*'c design-col'!$K$9+E21*'c design-col'!$K$10+E22*'c design-col'!$K$11","v":189.35823256289999},{"$f":"(F17*'c design-col'!$K$6)+(F18*'c design-col'!$K$7)+F19*'c design-col'!$K$8+F20*'c design-col'!$K$9+F21*'c design-col'!$K$10+F22*'c design-col'!$K$11","v":205.43197959649996},{"$f":"(G17*'c design-col'!$K$6)+(G18*'c design-col'!$K$7)+G19*'c design-col'!$K$8+G20*'c design-col'!$K$9+G21*'c design-col'!$K$10+G22*'c design-col'!$K$11","v":230.32735884049995},{"$f":"(H17*'c design-col'!$K$6)+(H18*'c design-col'!$K$7)+H19*'c design-col'!$K$8+H20*'c design-col'!$K$9+H21*'c design-col'!$K$10+H22*'c design-col'!$K$11","v":260.49136267649999},{"$f":"(I17*'c design-col'!$K$6)+(I18*'c design-col'!$K$7)+I19*'c design-col'!$K$8+I20*'c design-col'!$K$9+I21*'c design-col'!$K$10+I22*'c design-col'!$K$11","v":280.85007952769996},{"$f":"(J17*'c design-col'!$K$6)+(J18*'c design-col'!$K$7)+J19*'c design-col'!$K$8+J20*'c design-col'!$K$9+J21*'c design-col'!$K$10+J22*'c design-col'!$K$11","v":303.82651020430001},{"$f":"(K17*'c design-col'!$K$6)+(K18*'c design-col'!$K$7)+K19*'c design-col'!$K$8+K20*'c design-col'!$K$9+K21*'c design-col'!$K$10+K22*'c design-col'!$K$11","v":327.67526600489998},{"$f":"(L17*'c design-col'!$K$6)+(L18*'c design-col'!$K$7)+L19*'c design-col'!$K$8+L20*'c design-col'!$K$9+L21*'c design-col'!$K$10+L22*'c design-col'!$K$11","v":365.61196767719997},{"$f":"(M17*'c design-col'!$K$6)+(M18*'c design-col'!$K$7)+M19*'c design-col'!$K$8+M20*'c design-col'!$K$9+M21*'c design-col'!$K$10+M22*'c design-col'!$K$11","v":415.81715878939997},{"$f":"(N17*'c design-col'!$K$6)+(N18*'c design-col'!$K$7)+N19*'c design-col'!$K$8+N20*'c design-col'!$K$9+N21*'c design-col'!$K$10+N22*'c design-col'!$K$11","v":492.39293366119995},{"$f":"(O17*'c design-col'!$K$6)+(O18*'c design-col'!$K$7)+O19*'c design-col'!$K$8+O20*'c design-col'!$K$9+O21*'c design-col'!$K$10+O22*'c design-col'!$K$11","v":592.62411700349992},{"$f":"(P17*'c design-col'!$K$6)+(P18*'c design-col'!$K$7)+P19*'c design-col'!$K$8+P20*'c design-col'!$K$9+P21*'c design-col'!$K$10+P22*'c design-col'!$K$11","v":727.95754712679991},{"$f":"(Q17*'c design-col'!$K$6)+(Q18*'c design-col'!$K$7)+Q19*'c design-col'!$K$8+Q20*'c design-col'!$K$9+Q21*'c design-col'!$K$10+Q22*'c design-col'!$K$11","v":922.92428623349997}]
["ECO2/Mpa",{"$f":"B24/B16","v":17.590030926912497},{"$f":"C24/C16","v":13.085684250683334},10.82603848625625,9.467911628145,8.2172791838599988,7.6775786280166649,7.4426103621857136,7.0212519881924988,6.7517002267622228,6.553505320098,6.6474903214036356,6.9302859798233332,7.0341847665885711,7.4078014625437492,8.0884171902977773,9.2292428623349991]
[]
[]
[]
[]
["30-60",8,12,16,20,25,30,35,40,45,50,55,60,70,80,90,100]
["Water content",153,153,153,153,153,153,153,153,153,153,153,153,153,153,153,153]
["Cement content",156,177,197,217,238,269,308,335,364,395,443,508,607,735,910,1162]
["PFA content",39,44,49,54,60,67,77,84,91,99,111,127,152,184,227,291]
["Fine Agg",886,834,791,755,723,682,640,615,592,568,535,496,444,384,312,215]
["Coarse Agg",1132,1159,1177,1188,1194,1195,1189,1180,1168,1153,1125,1083,1012,911,765,546]
["Plasticiser dosage",0.88,0.9,1,1.1000000000000001,1.2,1.3,1.5,1.7,1.8,2,2.2000000000000002,2.5,3,3.7,4.5,5.8]
["Concrete",{"$f":"B31+B32+B33+B34+B35+B36","v":2366.88},{"$f":"C31+C32+C33+C34+C35+C36","v":2367.9},2368,2368.1,2369.1999999999998,2367.3000000000002,2368.5,2368.6999999999998,2369.8000000000002,2370,2369.1999999999998,2369.5,2371,2370.6999999999998,2371.5,2372.8000000000002]
["ECO2",{"$f":"(B31*'c design-col'!$K$6)+(B32*'c design-col'!$K$7)+B33*'c design-col'!$K$8+B34*'c design-col'!$K$9+B35*'c design-col'!$K$10+B36*'c design-col'!$K$11","v":155.68881644019999},{"$f":"(C31*'c design-col'!$K$6)+(C32*'c design-col'!$K$7)+C33*'c design-col'!$K$8+C34*'c design-col'!$K$9+C35*'c design-col'!$K$10+C36*'c design-col'!$K$11","v":174.61218199179996},{"$f":"(D31*'c design-col'!$K$6)+(D32*'c design-col'!$K$7)+D33*'c design-col'!$K$8+D34*'c design-col'!$K$9+D35*'c design-col'!$K$10+D36*'c design-col'!$K$11","v":192.5567947877},{"$f":"(E31*'c design-col'!$K$6)+(E32*'c design-col'!$K$7)+E33*'c design-col'!$K$8+E34*'c design-col'!$K$9+E35*'c design-col'!$K$10+E36*'c design-col'!$K$11","v":210.42761959449996},{"$f":"(F31*'c design-col'!$K$6)+(F32*'c design-col'!$K$7)+F33*'c design-col'!$K$8+F34*'c design-col'!$K$9+F35*'c design-col'!$K$10+F36*'c design-col'!$K$11","v":229.15431014409998},{"$f":"(G31*'c design-col'!$K$6)+(G32*'c design-col'!$K$7)+G33*'c design-col'!$K$8+G34*'c design-col'!$K$9+G35*'c design-col'!$K$10+G36*'c design-col'!$K$11","v":256.66176367739996},{"$f":"(H31*'c design-col'!$K$6)+(H32*'c design-col'!$K$7)+H33*'c design-col'!$K$8+H34*'c design-col'!$K$9+H35*'c design-col'!$K$10+H36*'c design-col'!$K$11","v":291.22900133600001},{"$f":"(I31*'c design-col'!$K$6)+(I32*'c design-col'!$K$7)+I33*'c design-col'!$K$8+I34*'c design-col'!$K$9+I35*'c design-col'!$K$10+I36*'c design-col'!$K$11","v":315.10938108049999},{"$f":"(J31*'c design-col'!$K$6)+(J32*'c design-col'!$K$7)+J33*'c design-col'!$K$8+J34*'c design-col'!$K$9+J35*'c design-col'!$K$10+J36*'c design-col'!$K$11","v":340.72359123039996},{"$f":"(K31*'c design-col'!$K$6)+(K32*'c design-col'!$K$7)+K33*'c design-col'!$K$8+K34*'c design-col'!$K$9+K35*'c design-col'!$K$10+K36*'c design-col'!$K$11","v":368.09169847360005},{"$f":"(L31*'c design-col'!$K$6)+(L32*'c design-col'!$K$7)+L33*'c design-col'!$K$8+L34*'c design-col'!$K$9+L35*'c design-col'!$K$10+L36*'c design-col'!$K$11","v":410.40592826449995},{"$f":"(M31*'c design-col'!$K$6)+(M32*'c design-col'!$K$7)+M33*'c design-col'!$K$8+M34*'c design-col'!$K$9+M35*'c design-col'!$K$10+M36*'c design-col'!$K$11","v":467.66036288319992},{"$f":"(N31*'c design-col'!$K$6)+(N32*'c design-col'!$K$7)+N33*'c design-col'!$K$8+N34*'c design-col'!$K$9+N35*'c design-col'!$K$10+N36*'c design-col'!$K$11","v":554.80704311479997},{"$f":"(O31*'c design-col'!$K$6)+(O32*'c design-col'!$K$7)+O33*'c design-col'!$K$8+O34*'c design-col'!$K$9+O35*'c design-col'!$K$10+O36*'c design-col'!$K$11","v":667.37125912079989},{"$f":"(P31*'c design-col'!$K$6)+(P32*'c design-col'!$K$7)+P33*'c design-col'!$K$8+P34*'c design-col'!$K$9+P35*'c design-col'!$K$10+P36*'c design-col'!$K$11","v":821.16886789839998},{"$f":"(Q31*'c design-col'!$K$6)+(Q32*'c design-col'!$K$7)+Q33*'c design-col'!$K$8+Q34*'c design-col'!$K$9+Q35*'c design-col'!$K$10+Q36*'c design-col'!$K$11","v":1042.5964370925001}]
["ECO2/Mpa",{"$f":"B38/B30","v":19.461102055024998},{"$f":"C38/C30","v":14.55101516598333},12.03479967423125,10.521380979724999,9.1661724057639997,8.5553921225799989,8.3208286095999995,7.8777345270124997,7.5716353606755549,7.3618339694720012,7.4619259684454535,7.7943393813866653,7.9258149016399999,8.3421407390099986,9.1240985322044441,10.425964370925001]
[]
[]
[]
[]
["60-180",8,12,16,20,25,30,35,40,45,50,55,60,70,80,90,100]
["Water content",162,162,162,162,162,162,162,162,162,162,162,162,162,162,162,162]
["Cement content",166,187,208,230,252,285,326,355,385,418,469,538,643,779,963,1230]
["PFA content",41,47,52,57,63,71,82,89,96,104,117,134,161,195,241,308]
["Fine Agg",979,923,877,838,802,758,712,684,657,631,593,548,488,418,331,215]
["Coarse Agg",1009,1038,1057,1070,1077,1080,1075,1067,1056,1042,1015,974,902,804,660,442]
["Plasticiser dosage",0.8,0.9,1,1.1000000000000001,1.3,1.4,1.6,1.8,1.9,2.1,2.2999999999999998,2.7,3.2,3.9,4.8,6.2]
["Concrete",{"$f":"B45+B46+B47+B48+B49+B50","v":2357.8000000000002},{"$f":"C45+C46+C47+C48+C49+C50","v":2357.9},2357,2358.1,2357.3000000000002,2357.4,2358.6,2358.8000000000002,2357.9,2359.1,2358.3000000000002,2358.6999999999998,2359.1999999999998,2361.9,2361.8000000000002,2363.1999999999998]
["ECO2",{"$f":"(B45*'c design-col'!$K$6)+(B46*'c design-col'!$K$7)+B47*'c design-col'!$K$8+B48*'c design-col'!$K$9+B49*'c design-col'!$K$10+B50*'c design-col'!$K$11","v":163.22474112330002},{"$f":"(C45*'c design-col'!$K$6)+(C46*'c design-col'!$K$7)+C47*'c design-col'!$K$8+C48*'c design-col'!$K$9+C49*'c design-col'!$K$10+C50*'c design-col'!$K$11","v":182.19156647209996},{"$f":"(D45*'c design-col'!$K$6)+(D46*'c design-col'!$K$7)+D47*'c design-col'!$K$8+D48*'c design-col'!$K$9+D49*'c design-col'!$K$10+D50*'c design-col'!$K$11","v":201.02598040789999},{"$f":"(E45*'c design-col'!$K$6)+(E46*'c design-col'!$K$7)+E47*'c design-col'!$K$8+E48*'c design-col'!$K$9+E49*'c design-col'!$K$10+E50*'c design-col'!$K$11","v":220.68334184659997},{"$f":"(F45*'c design-col'!$K$6)+(F46*'c design-col'!$K$7)+F47*'c design-col'!$K$8+F48*'c design-col'!$K$9+F49*'c design-col'!$K$10+F50*'c design-col'!$K$11","v":240.29752260539996},{"$f":"(G45*'c design-col'!$K$6)+(G46*'c design-col'!$K$7)+G47*'c design-col'!$K$8+G48*'c design-col'!$K$9+G49*'c design-col'!$K$10+G50*'c design-col'!$K$11","v":269.61851277059998},{"$f":"(H45*'c design-col'!$K$6)+(H46*'c design-col'!$K$7)+H47*'c design-col'!$K$8+H48*'c design-col'!$K$9+H49*'c design-col'!$K$10+H50*'c design-col'!$K$11","v":305.9841230184},{"$f":"(I45*'c design-col'!$K$6)+(I46*'c design-col'!$K$7)+I47*'c design-col'!$K$8+I48*'c design-col'!$K$9+I49*'c design-col'!$K$10+I50*'c design-col'!$K$11","v":331.63818680279996},{"$f":"(J45*'c design-col'!$K$6)+(J46*'c design-col'!$K$7)+J47*'c design-col'!$K$8+J48*'c design-col'!$K$9+J49*'c design-col'!$K$10+J50*'c design-col'!$K$11","v":358.13988664189986},{"$f":"(K45*'c design-col'!$K$6)+(K46*'c design-col'!$K$7)+K47*'c design-col'!$K$8+K48*'c design-col'!$K$9+K49*'c design-col'!$K$10+K50*'c design-col'!$K$11","v":387.2839893757},{"$f":"(L45*'c design-col'!$K$6)+(L46*'c design-col'!$K$7)+L47*'c design-col'!$K$8+L48*'c design-col'!$K$9+L49*'c design-col'!$K$10+L50*'c design-col'!$K$11","v":432.27816320509993},{"$f":"(M45*'c design-col'!$K$6)+(M46*'c design-col'!$K$7)+M47*'c design-col'!$K$8+M48*'c design-col'!$K$9+M49*'c design-col'!$K$10+M50*'c design-col'!$K$11","v":493.09411383159988},{"$f":"(N45*'c design-col'!$K$6)+(N46*'c design-col'!$K$7)+N47*'c design-col'!$K$8+N48*'c design-col'!$K$9+N49*'c design-col'!$K$10+N50*'c design-col'!$K$11","v":585.56674726560004},{"$f":"(O45*'c design-col'!$K$6)+(O46*'c design-col'!$K$7)+O47*'c design-col'!$K$8+O48*'c design-col'!$K$9+O49*'c design-col'!$K$10+O50*'c design-col'!$K$11","v":705.27146974059985},{"$f":"(P45*'c design-col'!$K$6)+(P46*'c design-col'!$K$7)+P47*'c design-col'!$K$8+P48*'c design-col'!$K$9+P49*'c design-col'!$K$10+P50*'c design-col'!$K$11","v":867.09605856169992},{"$f":"(Q45*'c design-col'!$K$6)+(Q46*'c design-col'!$K$7)+Q47*'c design-col'!$K$8+Q48*'c design-col'!$K$9+Q49*'c design-col'!$K$10+Q50*'c design-col'!$K$11","v":1101.8318068045}]
["ECO2/Mpa",{"$f":"B52/B44","v":20.403092640412503},{"$f":"C52/C44","v":15.182630539341664},12.56412377549375,11.034167092329998,9.6119009042159984,8.9872837590199985,8.7424035148114285,8.2909546700699988,7.9586641475977746,7.7456797875139998,7.8596029673654533,8.2182352305266644,8.3652392466514289,8.8158933717574985,9.6344006506855546,11.018318068045]

{"sheet":"52.5 (40% PFA, 0SP)","index":7,"n_rows":52,"n_cols":17,"rows_kept":52,"cut":false,"hidden":false,"merged":[]}
[]
["0-10",8,12,16,20,25,30,35,40,45,50,55,60,70,80,90,100]
["Water content",115,115,115,115,115,115,115,115,115,115,115,115,115,115,115,115]
["Cement content",105,119,132,146,160,181,208,226,245,266,298,342,409,495,613,782]
["PFA content",70,79,88,97,107,121,138,150,163,177,199,228,272,330,408,522]
["Fine Agg",825,774,732,697,665,627,588,565,543,522,493,459,415,366,308,233]
["Coarse Agg",1295,1324,1343,1356,1363,1367,1362,1355,1345,1331,1306,1267,1200,1105,967,759]
["Plasticiser dosage"]
["Concrete",{"$f":"B3+B4+B5+B6+B7","v":2410},{"$f":"C3+C4+C5+C6+C7","v":2411},2410,2411,2410,2411,2411,2411,2411,2411,2411,2411,2411,2411,2411,2411]
["ECO2",{"$f":"(B3*'c design-col'!$K$6)+(B4*'c design-col'!$K$7)+B5*'c design-col'!$K$8+B6*'c design-col'!$K$9+B7*'c design-col'!$K$10+B8*'c design-col'!$K$11","v":113.36375796749998},{"$f":"(C3*'c design-col'!$K$6)+(C4*'c design-col'!$K$7)+C5*'c design-col'!$K$8+C6*'c design-col'!$K$9+C7*'c design-col'!$K$10+C8*'c design-col'!$K$11","v":126.23595974979997},{"$f":"(D3*'c design-col'!$K$6)+(D4*'c design-col'!$K$7)+D5*'c design-col'!$K$8+D6*'c design-col'!$K$9+D7*'c design-col'!$K$10+D8*'c design-col'!$K$11","v":138.11655576839999},{"$f":"(E3*'c design-col'!$K$6)+(E4*'c design-col'!$K$7)+E5*'c design-col'!$K$8+E6*'c design-col'!$K$9+E7*'c design-col'!$K$10+E8*'c design-col'!$K$11","v":150.82009928989999},{"$f":"(F3*'c design-col'!$K$6)+(F4*'c design-col'!$K$7)+F5*'c design-col'!$K$8+F6*'c design-col'!$K$9+F7*'c design-col'!$K$10+F8*'c design-col'!$K$11","v":163.4804616115},{"$f":"(G3*'c design-col'!$K$6)+(G4*'c design-col'!$K$7)+G5*'c design-col'!$K$8+G6*'c design-col'!$K$9+G7*'c design-col'!$K$10+G8*'c design-col'!$K$11","v":182.38357775289998},{"$f":"(H3*'c design-col'!$K$6)+(H4*'c design-col'!$K$7)+H5*'c design-col'!$K$8+H6*'c design-col'!$K$9+H7*'c design-col'!$K$10+H8*'c design-col'!$K$11","v":206.5530065156},{"$f":"(I3*'c design-col'!$K$6)+(I4*'c design-col'!$K$7)+I5*'c design-col'!$K$8+I6*'c design-col'!$K$9+I7*'c design-col'!$K$10+I8*'c design-col'!$K$11","v":222.64376720550001},{"$f":"(J3*'c design-col'!$K$6)+(J4*'c design-col'!$K$7)+J5*'c design-col'!$K$8+J6*'c design-col'!$K$9+J7*'c design-col'!$K$10+J8*'c design-col'!$K$11","v":239.60916447010001},{"$f":"(K3*'c design-col'!$K$6)+(K4*'c design-col'!$K$7)+K5*'c design-col'!$K$8+K6*'c design-col'!$K$9+K7*'c design-col'!$K$10+K8*'c design-col'!$K$11","v":258.32022861740001},{"$f":"(L3*'c design-col'!$K$6)+(L4*'c design-col'!$K$7)+L5*'c design-col'!$K$8+L6*'c design-col'!$K$9+L7*'c design-col'!$K$10+L8*'c design-col'!$K$11","v":286.81013454710001},{"$f":"(M3*'c design-col'!$K$6)+(M4*'c design-col'!$K$7)+M5*'c design-col'!$K$8+M6*'c design-col'!$K$9+M7*'c design-col'!$K$10+M8*'c design-col'!$K$11","v":325.90414173529996},{"$f":"(N3*'c design-col'!$K$6)+(N4*'c design-col'!$K$7)+N5*'c design-col'!$K$8+N6*'c design-col'!$K$9+N7*'c design-col'!$K$10+N8*'c design-col'!$K$11","v":385.34946854049997},{"$f":"(O3*'c design-col'!$K$6)+(O4*'c design-col'!$K$7)+O5*'c design-col'!$K$8+O6*'c design-col'!$K$9+O7*'c design-col'!$K$10+O8*'c design-col'!$K$11","v":461.59514061620001},{"$f":"(P3*'c design-col'!$K$6)+(P4*'c design-col'!$K$7)+P5*'c design-col'!$K$8+P6*'c design-col'!$K$9+P7*'c design-col'!$K$10+P8*'c design-col'!$K$11","v":566.09160097959989},{"$f":"(Q3*'c design-col'!$K$6)+(Q4*'c design-col'!$K$7)+Q5*'c design-col'!$K$8+Q6*'c design-col'!$K$9+Q7*'c design-col'!$K$10+Q8*'c design-col'!$K$11","v":715.69911314109993}]
["ECO2/Mpa",{"$f":"B10/B2","v":14.170469745937497},{"$f":"C10/C2","v":10.519663312483331},8.6322847355249994,7.5410049644949995,6.5392184644600002,6.0794525917633324,5.901514471874286,5.5660941801375001,5.3246480993355556,5.1664045723480001,5.2147297190381821,5.4317356955883325,5.5049924077214278,5.7699392577025002,6.2899066775511097,7.1569911314109991]
[]
[]
[]
["10--30",8,12,16,20,25,30,35,40,45,50,55,60,70,80,90,100]
["Water content",140,140,140,140,140,140,140,140,140,140,140,140,140,140,140,140]
["Cement content",128,145,161,178,195,221,253,275,298,324,363,416,497,603,746,953]
["PFA content",85,96,107,119,130,147,169,183,199,216,242,278,332,402,497,635]
["Fine Agg",837,783,740,702,669,628,585,560,536,512,479,440,389,330,259,165]
["Coarse Agg",1191,1218,1234,1243,1248,1246,1236,1224,1209,1191,1157,1108,1024,907,740,489]
["Plasticiser dosage"]
["Concrete",{"$f":"B16+B17+B18+B19+B20","v":2381},{"$f":"C16+C17+C18+C19+C20","v":2382},2382,2382,2382,2382,2383,2382,2382,2383,2381,2382,2382,2382,2382,2382]
["ECO2",{"$f":"(B16*'c design-col'!$K$6)+(B17*'c design-col'!$K$7)+B18*'c design-col'!$K$8+B19*'c design-col'!$K$9+B20*'c design-col'!$K$10+B21*'c design-col'!$K$11","v":132.81413250789998},{"$f":"(C16*'c design-col'!$K$6)+(C17*'c design-col'!$K$7)+C18*'c design-col'!$K$8+C19*'c design-col'!$K$9+C20*'c design-col'!$K$10+C21*'c design-col'!$K$11","v":148.35934345409999},{"$f":"(D16*'c design-col'!$K$6)+(D17*'c design-col'!$K$7)+D18*'c design-col'!$K$8+D19*'c design-col'!$K$9+D20*'c design-col'!$K$10+D21*'c design-col'!$K$11","v":162.90471894599997},{"$f":"(E16*'c design-col'!$K$6)+(E17*'c design-col'!$K$7)+E18*'c design-col'!$K$8+E19*'c design-col'!$K$9+E20*'c design-col'!$K$10+E21*'c design-col'!$K$11","v":178.28256644739994},{"$f":"(F16*'c design-col'!$K$6)+(F17*'c design-col'!$K$7)+F18*'c design-col'!$K$8+F19*'c design-col'!$K$9+F20*'c design-col'!$K$10+F21*'c design-col'!$K$11","v":193.59356083429995},{"$f":"(G16*'c design-col'!$K$6)+(G17*'c design-col'!$K$7)+G18*'c design-col'!$K$8+G19*'c design-col'!$K$9+G20*'c design-col'!$K$10+G21*'c design-col'!$K$11","v":216.91304157159996},{"$f":"(H16*'c design-col'!$K$6)+(H17*'c design-col'!$K$7)+H18*'c design-col'!$K$8+H19*'c design-col'!$K$9+H20*'c design-col'!$K$10+H21*'c design-col'!$K$11","v":245.56337607149996},{"$f":"(I16*'c design-col'!$K$6)+(I17*'c design-col'!$K$7)+I18*'c design-col'!$K$8+I19*'c design-col'!$K$9+I20*'c design-col'!$K$10+I21*'c design-col'!$K$11","v":265.17478249999999},{"$f":"(J16*'c design-col'!$K$6)+(J17*'c design-col'!$K$7)+J18*'c design-col'!$K$8+J19*'c design-col'!$K$9+J20*'c design-col'!$K$10+J21*'c design-col'!$K$11","v":285.68782550319997},{"$f":"(K16*'c design-col'!$K$6)+(K17*'c design-col'!$K$7)+K18*'c design-col'!$K$8+K19*'c design-col'!$K$9+K20*'c design-col'!$K$10+K21*'c design-col'!$K$11","v":308.84095943039995},{"$f":"(L16*'c design-col'!$K$6)+(L17*'c design-col'!$K$7)+L18*'c design-col'!$K$8+L19*'c design-col'!$K$9+L20*'c design-col'!$K$10+L21*'c design-col'!$K$11","v":343.50112652929994},{"$f":"(M16*'c design-col'!$K$6)+(M17*'c design-col'!$K$7)+M18*'c design-col'!$K$8+M19*'c design-col'!$K$9+M20*'c design-col'!$K$10+M21*'c design-col'!$K$11","v":390.59899664399995},{"$f":"(N16*'c design-col'!$K$6)+(N17*'c design-col'!$K$7)+N18*'c design-col'!$K$8+N19*'c design-col'!$K$9+N20*'c design-col'!$K$10+N21*'c design-col'!$K$11","v":462.45400983029992},{"$f":"(O16*'c design-col'!$K$6)+(O17*'c design-col'!$K$7)+O18*'c design-col'!$K$8+O19*'c design-col'!$K$9+O20*'c design-col'!$K$10+O21*'c design-col'!$K$11","v":556.39546837499995},{"$f":"(P16*'c design-col'!$K$6)+(P17*'c design-col'!$K$7)+P18*'c design-col'!$K$8+P19*'c design-col'!$K$9+P20*'c design-col'!$K$10+P21*'c design-col'!$K$11","v":683.0452272112999},{"$f":"(Q16*'c design-col'!$K$6)+(Q17*'c design-col'!$K$7)+Q18*'c design-col'!$K$8+Q19*'c design-col'!$K$9+Q20*'c design-col'!$K$10+Q21*'c design-col'!$K$11","v":866.29171055349991}]
["ECO2/Mpa",{"$f":"B23/B15","v":16.601766563487498},{"$f":"C23/C15","v":12.363278621174999},10.181544934124998,8.9141283223699972,7.743742433371998,7.2304347190533322,7.0160964591857136,6.6293695625,6.3486183445155548,6.1768191886079986,6.2454750278054538,6.509983277399999,6.6064858547185707,6.954943354687499,7.5893914134588876,8.6629171055349996]
[]
[]
[]
[]
["30--60",8,12,16,20,25,30,35,40,45,50,55,60,70,80,90,100]
["Water content",155,155,155,155,155,155,155,155,155,155,155,155,155,155,155,155]
["Cement content",142,160,178,197,216,245,280,304,330,358,402,461,551,667,826,1055]
["PFA content",95,107,119,131,144,163,187,203,220,239,268,307,367,445,550,703]
["Fine Agg",867,813,769,731,697,655,610,584,558,532,496,453,394,326,241,128]
["Coarse Agg",1107,1130,1143,1150,1152,1148,1133,1119,1102,1081,1043,989,898,772,592,324]
["Plasticiser dosage"]
["Concrete",{"$f":"B30+B31+B32+B33+B34","v":2366},{"$f":"C30+C31+C32+C33+C34","v":2365},2364,2364,2364,2366,2365,2365,2365,2365,2364,2365,2365,2365,2364,2365]
["ECO2",{"$f":"(B30*'c design-col'!$K$6)+(B31*'c design-col'!$K$7)+B32*'c design-col'!$K$8+B33*'c design-col'!$K$9+B34*'c design-col'!$K$10+B35*'c design-col'!$K$11","v":144.46321890090002},{"$f":"(C30*'c design-col'!$K$6)+(C31*'c design-col'!$K$7)+C32*'c design-col'!$K$8+C33*'c design-col'!$K$9+C34*'c design-col'!$K$10+C35*'c design-col'!$K$11","v":160.86790237909997},{"$f":"(D30*'c design-col'!$K$6)+(D31*'c design-col'!$K$7)+D32*'c design-col'!$K$8+D33*'c design-col'!$K$9+D34*'c design-col'!$K$10+D35*'c design-col'!$K$11","v":177.16717444429997},{"$f":"(E30*'c design-col'!$K$6)+(E31*'c design-col'!$K$7)+E32*'c design-col'!$K$8+E33*'c design-col'!$K$9+E34*'c design-col'!$K$10+E35*'c design-col'!$K$11","v":194.28708256169998},{"$f":"(F30*'c design-col'!$K$6)+(F31*'c design-col'!$K$7)+F32*'c design-col'!$K$8+F33*'c design-col'!$K$9+F34*'c design-col'!$K$10+F35*'c design-col'!$K$11","v":211.37897352189998},{"$f":"(G30*'c design-col'!$K$6)+(G31*'c design-col'!$K$7)+G32*'c design-col'!$K$8+G33*'c design-col'!$K$9+G34*'c design-col'!$K$10+G35*'c design-col'!$K$11","v":237.37608632449997},{"$f":"(H30*'c design-col'!$K$6)+(H31*'c design-col'!$K$7)+H32*'c design-col'!$K$8+H33*'c design-col'!$K$9+H34*'c design-col'!$K$10+H35*'c design-col'!$K$11","v":268.66318366299998},{"$f":"(I30*'c design-col'!$K$6)+(I31*'c design-col'!$K$7)+I32*'c design-col'!$K$8+I33*'c design-col'!$K$9+I34*'c design-col'!$K$10+I35*'c design-col'!$K$11","v":290.0683392567999},{"$f":"(J30*'c design-col'!$K$6)+(J31*'c design-col'!$K$7)+J32*'c design-col'!$K$8+J33*'c design-col'!$K$9+J34*'c design-col'!$K$10+J35*'c design-col'!$K$11","v":313.22970287459998},{"$f":"(K30*'c design-col'!$K$6)+(K31*'c design-col'!$K$7)+K32*'c design-col'!$K$8+K33*'c design-col'!$K$9+K34*'c design-col'!$K$10+K35*'c design-col'!$K$11","v":338.16142192439986},{"$f":"(L30*'c design-col'!$K$6)+(L31*'c design-col'!$K$7)+L32*'c design-col'!$K$8+L33*'c design-col'!$K$9+L34*'c design-col'!$K$10+L35*'c design-col'!$K$11","v":377.26365880319992},{"$f":"(M30*'c design-col'!$K$6)+(M31*'c design-col'!$K$7)+M32*'c design-col'!$K$8+M33*'c design-col'!$K$9+M34*'c design-col'!$K$10+M35*'c design-col'!$K$11","v":429.67231755509994},{"$f":"(N30*'c design-col'!$K$6)+(N31*'c design-col'!$K$7)+N32*'c design-col'!$K$8+N33*'c design-col'!$K$9+N34*'c design-col'!$K$10+N35*'c design-col'!$K$11","v":509.53581709179991},{"$f":"(O30*'c design-col'!$K$6)+(O31*'c design-col'!$K$7)+O32*'c design-col'!$K$8+O33*'c design-col'!$K$9+O34*'c design-col'!$K$10+O35*'c design-col'!$K$11","v":612.3956282521998},{"$f":"(P30*'c design-col'!$K$6)+(P31*'c design-col'!$K$7)+P32*'c design-col'!$K$8+P33*'c design-col'!$K$9+P34*'c design-col'!$K$10+P35*'c design-col'!$K$11","v":753.25806948269997},{"$f":"(Q30*'c design-col'!$K$6)+(Q31*'c design-col'!$K$7)+Q32*'c design-col'!$K$8+Q33*'c design-col'!$K$9+Q34*'c design-col'!$K$10+Q35*'c design-col'!$K$11","v":956.09256499759988}]
["ECO2/Mpa",{"$f":"B37/B29","v":18.057902362612502},{"$f":"C37/C29","v":13.405658531591664},11.072948402768748,9.7143541280849988,8.4551589408759984,7.9125362108166657,7.6760909617999999,7.2517084814199979,6.9606600638799998,6.7632284384879968,6.8593392509672713,7.1612052925849987,7.2790831013114277,7.6549453531524971,8.3695341053633321,9.5609256499759994]
[]
[]
[]
[]
["60--180",8,12,16,20,25,30,35,40,45,50,55,60,70,80,90,100]
["Water content",170,170,170,170,170,170,170,170,170,170,170,170,170,170,170,170]
["Cement content",156,176,196,216,237,268,307,333,362,393,441,505,604,732,906,1157]
["PFA content",104,117,131,144,158,179,205,222,241,262,294,337,403,488,604,771]
["Fine Agg",945,887,839,798,761,714,664,634,604,574,532,481,410,328,223,82]
["Coarse Agg",973,998,1012,1019,1022,1017,1003,989,971,949,910,854,761,630,445,168]
["Plasticiser dosage"]
["Concrete",{"$f":"B44+B45+B46+B47+B48","v":2348},{"$f":"C44+C45+C46+C47+C48","v":2348},2348,2347,2348,2348,2349,2348,2348,2348,2347,2347,2348,2348,2348,2348]
["ECO2",{"$f":"(B44*'c design-col'!$K$6)+(B45*'c design-col'!$K$7)+B46*'c design-col'!$K$8+B47*'c design-col'!$K$9+B48*'c design-col'!$K$10+B49*'c design-col'!$K$11","v":155.55362532749999},{"$f":"(C44*'c design-col'!$K$6)+(C45*'c design-col'!$K$7)+C46*'c design-col'!$K$8+C47*'c design-col'!$K$9+C48*'c design-col'!$K$10+C49*'c design-col'!$K$11","v":173.76953398689997},{"$f":"(D44*'c design-col'!$K$6)+(D45*'c design-col'!$K$7)+D46*'c design-col'!$K$8+D47*'c design-col'!$K$9+D48*'c design-col'!$K$10+D49*'c design-col'!$K$11","v":191.89417864129999},{"$f":"(E44*'c design-col'!$K$6)+(E45*'c design-col'!$K$7)+E46*'c design-col'!$K$8+E47*'c design-col'!$K$9+E48*'c design-col'!$K$10+E49*'c design-col'!$K$11","v":209.91803530659996},{"$f":"(F44*'c design-col'!$K$6)+(F45*'c design-col'!$K$7)+F46*'c design-col'!$K$8+F47*'c design-col'!$K$9+F48*'c design-col'!$K$10+F49*'c design-col'!$K$11","v":228.81061030669994},{"$f":"(G44*'c design-col'!$K$6)+(G45*'c design-col'!$K$7)+G46*'c design-col'!$K$8+G47*'c design-col'!$K$9+G48*'c design-col'!$K$10+G49*'c design-col'!$K$11","v":256.60507906379996},{"$f":"(H44*'c design-col'!$K$6)+(H45*'c design-col'!$K$7)+H46*'c design-col'!$K$8+H47*'c design-col'!$K$9+H48*'c design-col'!$K$10+H49*'c design-col'!$K$11","v":291.48300334080005},{"$f":"(I44*'c design-col'!$K$6)+(I45*'c design-col'!$K$7)+I46*'c design-col'!$K$8+I47*'c design-col'!$K$9+I48*'c design-col'!$K$10+I49*'c design-col'!$K$11","v":314.67367893179994},{"$f":"(J44*'c design-col'!$K$6)+(J45*'c design-col'!$K$7)+J46*'c design-col'!$K$8+J47*'c design-col'!$K$9+J48*'c design-col'!$K$10+J49*'c design-col'!$K$11","v":340.51859285479998},{"$f":"(K44*'c design-col'!$K$6)+(K45*'c design-col'!$K$7)+K46*'c design-col'!$K$8+K47*'c design-col'!$K$9+K48*'c design-col'!$K$10+K49*'c design-col'!$K$11","v":368.13386220979999},{"$f":"(L44*'c design-col'!$K$6)+(L45*'c design-col'!$K$7)+L46*'c design-col'!$K$8+L47*'c design-col'!$K$9+L48*'c design-col'!$K$10+L49*'c design-col'!$K$11","v":410.82590939239992},{"$f":"(M44*'c design-col'!$K$6)+(M45*'c design-col'!$K$7)+M46*'c design-col'!$K$8+M47*'c design-col'!$K$9+M48*'c design-col'!$K$10+M49*'c design-col'!$K$11","v":467.71778585469997},{"$f":"(N44*'c design-col'!$K$6)+(N45*'c design-col'!$K$7)+N46*'c design-col'!$K$8+N47*'c design-col'!$K$9+N48*'c design-col'!$K$10+N49*'c design-col'!$K$11","v":555.64478889899988},{"$f":"(O44*'c design-col'!$K$6)+(O45*'c design-col'!$K$7)+O46*'c design-col'!$K$8+O47*'c design-col'!$K$9+O48*'c design-col'!$K$10+O49*'c design-col'!$K$11","v":669.20357158959996},{"$f":"(P44*'c design-col'!$K$6)+(P45*'c design-col'!$K$7)+P46*'c design-col'!$K$8+P47*'c design-col'!$K$9+P48*'c design-col'!$K$10+P49*'c design-col'!$K$11","v":823.51076434609979},{"$f":"(Q44*'c design-col'!$K$6)+(Q45*'c design-col'!$K$7)+Q46*'c design-col'!$K$8+Q47*'c design-col'!$K$9+Q48*'c design-col'!$K$10+Q49*'c design-col'!$K$11","v":1045.9882897133998}]
["ECO2/Mpa",{"$f":"B51/B43","v":19.444203165937498},{"$f":"C51/C43","v":14.480794498908331},11.993386165081249,10.495901765329998,9.1524244122679974,8.5535026354599992,8.3280858097371446,7.8668419732949983,7.5670798412177769,7.362677244196,7.4695619889527256,7.7952964309116659,7.9377826985571414,8.3650446448700002,9.1501196038455532,10.459882897133998]

{"sheet":"Sheet2 (2)","index":8,"n_rows":335,"n_cols":17,"rows_kept":335,"cut":false,"hidden":false,"merged":[]}
["0% PFA, No SP"]
["0-10",8,12,16,20,25,30,35,40,45,50,55,60,70,80,90,100]
["Water content",135,135,135,135,135,135,135,135,135,135,135,135,135,135,135,135]
["Cement content",148,167,187,206,226,256,292,318,345,374,420,482,576,697,863,1102]
["PFA content",0,0,0,0,0,0,0,0,0,0,0,0,0,0,0,0]
["Fine Agg",819,796,729,695,665,628,591,569,549,529,502,471,431,387,336,270]
["Coarse Agg",1285,1316,1337,1352,1362,1369,1369,1366,1359,1349,1330,1300,1246,1168,1054,880]
["Plasticiser dosage",0,0,0,0,0,0,0,0,0,0,0,0,0,0,0,0]
["Concrete",{"$f":"SUM(B3:B8)","v":2387},{"$f":"SUM(C3:C8)","v":2414},2388,2388,2388,2388,2387,2388,2388,2387,{"$f":"SUM(L3:L8)","v":2387},{"$f":"SUM(M3:M8)","v":2388},2388,2387,2388,2387]
["ECO2 / m3",{"$f":"(B3*'c design-col'!$K$6)+(B4*'c design-col'!$K$7)+B5*'c design-col'!$K$8+B6*'c design-col'!$K$9+B7*'c design-col'!$K$10+B8*'c design-col'!$K$11","v":149.35832804329999},{"$f":"(C3*'c design-col'!$K$6)+(C4*'c design-col'!$K$7)+C5*'c design-col'!$K$8+C6*'c design-col'!$K$9+C7*'c design-col'!$K$10+C8*'c design-col'!$K$11","v":166.49737012919996},{"$f":"(D3*'c design-col'!$K$6)+(D4*'c design-col'!$K$7)+D5*'c design-col'!$K$8+D6*'c design-col'!$K$9+D7*'c design-col'!$K$10+D8*'c design-col'!$K$11","v":184.29006536429998},{"$f":"(E3*'c design-col'!$K$6)+(E4*'c design-col'!$K$7)+E5*'c design-col'!$K$8+E6*'c design-col'!$K$9+E7*'c design-col'!$K$10+E8*'c design-col'!$K$11","v":201.19804002049997},{"$f":"(F3*'c design-col'!$K$6)+(F4*'c design-col'!$K$7)+F5*'c design-col'!$K$8+F6*'c design-col'!$K$9+F7*'c design-col'!$K$10+F8*'c design-col'!$K$11","v":218.93488041949999},{"$f":"(G3*'c design-col'!$K$6)+(G4*'c design-col'!$K$7)+G5*'c design-col'!$K$8+G6*'c design-col'!$K$9+G7*'c design-col'!$K$10+G8*'c design-col'!$K$11","v":245.45581188759996},{"$f":"(H3*'c design-col'!$K$6)+(H4*'c design-col'!$K$7)+H5*'c design-col'!$K$8+H6*'c design-col'!$K$9+H7*'c design-col'!$K$10+H8*'c design-col'!$K$11","v":277.19007261169997},{"$f":"(I3*'c design-col'!$K$6)+(I4*'c design-col'!$K$7)+I5*'c design-col'!$K$8+I6*'c design-col'!$K$9+I7*'c design-col'!$K$10+I8*'c design-col'!$K$11","v":300.08161832029998},{"$f":"(J3*'c design-col'!$K$6)+(J4*'c design-col'!$K$7)+J5*'c design-col'!$K$8+J6*'c design-col'!$K$9+J7*'c design-col'!$K$10+J8*'c design-col'!$K$11","v":323.8102594623},{"$f":"(K3*'c design-col'!$K$6)+(K4*'c design-col'!$K$7)+K5*'c design-col'!$K$8+K6*'c design-col'!$K$9+K7*'c design-col'!$K$10+K8*'c design-col'!$K$11","v":349.26810862829996},{"$f":"(L3*'c design-col'!$K$6)+(L4*'c design-col'!$K$7)+L5*'c design-col'!$K$8+L6*'c design-col'!$K$9+L7*'c design-col'!$K$10+L8*'c design-col'!$K$11","v":389.62011361139997},{"$f":"(M3*'c design-col'!$K$6)+(M4*'c design-col'!$K$7)+M5*'c design-col'!$K$8+M6*'c design-col'!$K$9+M7*'c design-col'!$K$10+M8*'c design-col'!$K$11","v":443.9636206797},{"$f":"(N3*'c design-col'!$K$6)+(N4*'c design-col'!$K$7)+N5*'c design-col'!$K$8+N6*'c design-col'!$K$9+N7*'c design-col'!$K$10+N8*'c design-col'!$K$11","v":526.26211528369993},{"$f":"(O3*'c design-col'!$K$6)+(O4*'c design-col'!$K$7)+O5*'c design-col'!$K$8+O6*'c design-col'!$K$9+O7*'c design-col'!$K$10+O8*'c design-col'!$K$11","v":632.10774017689994},{"$f":"(P3*'c design-col'!$K$6)+(P4*'c design-col'!$K$7)+P5*'c design-col'!$K$8+P6*'c design-col'!$K$9+P7*'c design-col'!$K$10+P8*'c design-col'!$K$11","v":777.24922210319994},{"$f":"(Q3*'c design-col'!$K$6)+(Q4*'c design-col'!$K$7)+Q5*'c design-col'!$K$8+Q6*'c design-col'!$K$9+Q7*'c design-col'!$K$10+Q8*'c design-col'!$K$11","v":986.10832844899994}]
["ECO2/tonne",{"$f":"B10/B9","v":6.2571566000544615E-2},{"$f":"C10/C9","v":6.8971570061806112E-2},7.7173394206155765E-2,8.425378560322444E-2,9.1681273207495806E-2,0.10278719090770518,0.11612487331868453,0.12566231922960636,0.1355989361232412,0.14632095040984497,0.16322585404750731,0.18591441401997488,0.22037777021930482,0.26481262680222034,0.32548124878693463,0.4131161828441558]
["ECO2 / m3 / Mpa",{"$f":"B10/B2","v":18.669791005412499},{"$f":"C10/C2","v":13.874780844099996},11.518129085268749,10.059902001024998,8.7573952167799991,8.1818603962533327,7.9197163603342853,7.5020404580074995,7.1957835436066668,6.9853621725659991,7.0840020656618181,7.3993936779949996,7.5180302183385708,7.901346752211249,8.6361024678133322,9.8610832844900003]
["ECO2 / tonne / Mpa",{"$f":"B11/B2","v":7.8214457500680769E-3},{"$f":"C11/C2","v":5.7476308384838424E-3},4.8233371378847353E-3,4.2126892801612218E-3,3.6672509282998323E-3,3.4262396969235056E-3,3.3178535233909863E-3,3.1415579807401589E-3,3.0133096916275821E-3,2.9264190081968993E-3,2.9677428008637692E-3,3.0985735669995813E-3,3.1482538602757831E-3,3.3101578350277542E-3,3.6164583198548292E-3,4.1311618284415579E-3]
[]
["0% PFA, SP"]
["0-10",8,12,16,20,25,30,35,40,45,50,55,60,70,80,90,100]
["Water content",121.5,121.5,121.5,121.5,121.5,121.5,121.5,121.5,121.5,121.5,121.5,121.5,121.5,121.5,121.5,121.5]
["Cement content",133,151,168,185,203,230,263,286,310,337,378,434,518,628,777,999]
["PFA content",0,0,0,0,0,0,0,0,0,0,0,0,0,0,0,0]
["Fine Agg",836,786,746,712,682,645,608,587,567,548,521,492,453,412,364,302]
["Coarse Agg",1312,1345,1368,1385,1397,1407,1410,1409,1404,1397,1382,1357,1311,1242,1141,987]
["Plasticiser dosage",0.5,0.6,0.7,0.7,0.8,0.9,1.1000000000000001,1.1000000000000001,1.2,1.3,1.5,1.7,2.1,2.5,3.1,4]
["Concrete",{"$f":"B17+B18+B20+B21+B22","v":2403},{"$f":"C17+C18+C20+C21+C22","v":2404.1},2404.1999999999998,2404.1999999999998,2404.3000000000002,2404.4,2403.6,2404.6,2403.6999999999998,2404.8000000000002,2404,2406.1999999999998,2405.6,2406,2406.6,2413.5]
["ECO2 / m3",{"$f":"(B17*'c design-col'!$K$6)+(B18*'c design-col'!$K$7)+B19*'c design-col'!$K$8+B20*'c design-col'!$K$9+B21*'c design-col'!$K$10+B22*'c design-col'!$K$11","v":136.47290178919997},{"$f":"(C17*'c design-col'!$K$6)+(C18*'c design-col'!$K$7)+C19*'c design-col'!$K$8+C20*'c design-col'!$K$9+C21*'c design-col'!$K$10+C22*'c design-col'!$K$11","v":152.69135751019999},{"$f":"(D17*'c design-col'!$K$6)+(D18*'c design-col'!$K$7)+D19*'c design-col'!$K$8+D20*'c design-col'!$K$9+D21*'c design-col'!$K$10+D22*'c design-col'!$K$11","v":167.92051891819995},{"$f":"(E17*'c design-col'!$K$6)+(E18*'c design-col'!$K$7)+E19*'c design-col'!$K$8+E20*'c design-col'!$K$9+E21*'c design-col'!$K$10+E22*'c design-col'!$K$11","v":183.08643295839994},{"$f":"(F17*'c design-col'!$K$6)+(F18*'c design-col'!$K$7)+F19*'c design-col'!$K$8+F20*'c design-col'!$K$9+F21*'c design-col'!$K$10+F22*'c design-col'!$K$11","v":199.08121326139999},{"$f":"(G17*'c design-col'!$K$6)+(G18*'c design-col'!$K$7)+G19*'c design-col'!$K$8+G20*'c design-col'!$K$9+G21*'c design-col'!$K$10+G22*'c design-col'!$K$11","v":222.98905432549995},{"$f":"(H17*'c design-col'!$K$6)+(H18*'c design-col'!$K$7)+H19*'c design-col'!$K$8+H20*'c design-col'!$K$9+H21*'c design-col'!$K$10+H22*'c design-col'!$K$11","v":252.11022516559996},{"$f":"(I17*'c design-col'!$K$6)+(I18*'c design-col'!$K$7)+I19*'c design-col'!$K$8+I20*'c design-col'!$K$9+I21*'c design-col'!$K$10+I22*'c design-col'!$K$11","v":272.37813880889996},{"$f":"(J17*'c design-col'!$K$6)+(J18*'c design-col'!$K$7)+J19*'c design-col'!$K$8+J20*'c design-col'!$K$9+J21*'c design-col'!$K$10+J22*'c design-col'!$K$11","v":293.48083695490004},{"$f":"(K17*'c design-col'!$K$6)+(K18*'c design-col'!$K$7)+K19*'c design-col'!$K$8+K20*'c design-col'!$K$9+K21*'c design-col'!$K$10+K22*'c design-col'!$K$11","v":317.21179006760002},{"$f":"(L17*'c design-col'!$K$6)+(L18*'c design-col'!$K$7)+L19*'c design-col'!$K$8+L20*'c design-col'!$K$9+L21*'c design-col'!$K$10+L22*'c design-col'!$K$11","v":353.1957919587},{"$f":"(M17*'c design-col'!$K$6)+(M18*'c design-col'!$K$7)+M19*'c design-col'!$K$8+M20*'c design-col'!$K$9+M21*'c design-col'!$K$10+M22*'c design-col'!$K$11","v":402.30488852840006},{"$f":"(N17*'c design-col'!$K$6)+(N18*'c design-col'!$K$7)+N19*'c design-col'!$K$8+N20*'c design-col'!$K$9+N21*'c design-col'!$K$10+N22*'c design-col'!$K$11","v":475.86968839910003},{"$f":"(O17*'c design-col'!$K$6)+(O18*'c design-col'!$K$7)+O19*'c design-col'!$K$8+O20*'c design-col'!$K$9+O21*'c design-col'!$K$10+O22*'c design-col'!$K$11","v":572.11521115239987},{"$f":"(P17*'c design-col'!$K$6)+(P18*'c design-col'!$K$7)+P19*'c design-col'!$K$8+P20*'c design-col'!$K$9+P21*'c design-col'!$K$10+P22*'c design-col'!$K$11","v":702.40470494679994},{"$f":"(Q17*'c design-col'!$K$6)+(Q18*'c design-col'!$K$7)+Q19*'c design-col'!$K$8+Q20*'c design-col'!$K$9+Q21*'c design-col'!$K$10+Q22*'c design-col'!$K$11","v":896.5041043153999}]
["ECO2/tonne",{"$f":"B24/B23","v":5.6792718181106934E-2},{"$f":"C24/C23","v":6.3512897762239506E-2},{"$f":"D24/D23","v":6.9844654736793924E-2},{"$f":"E24/E23","v":7.6152746426420406E-2},{"$f":"F24/F23","v":8.2802151670507002E-2},{"$f":"G24/G23","v":9.2742078824446822E-2},{"$f":"H24/H23","v":0.10488859426094191},{"$f":"I24/I23","v":0.11327378308612658},{"$f":"J24/J23","v":0.12209545157669428},{"$f":"K24/K23","v":0.13190776366749835},{"$f":"L24/L23","v":0.1469200465718386},{"$f":"M24/M23","v":0.16719511617006072},{"$f":"N24/N23","v":0.19781746275320089},{"$f":"O24/O23","v":0.23778687080315872},{"$f":"P24/P23","v":0.29186599557333998},{"$f":"Q24/Q23","v":0.37145394833867823}]
["ECO2 / m3 / Mpa",{"$f":"B24/B16","v":17.059112723649996},{"$f":"C24/C16","v":12.724279792516667},10.495032432387497,9.1543216479199963,7.9632485304560001,7.4329684775166651,7.2031492904457126,6.8094534702224987,6.5217963767755567,6.3442358013520002,6.4217416719763634,6.7050814754733343,6.7981384057014287,7.1514401394049987,7.8044967216311107,8.9650410431539989]
["ECO2 / tonne / Mpa",{"$f":"B25/B16","v":7.0990897726383667E-3},{"$f":"C25/C16","v":5.2927414801866258E-3},4.3652909210496202E-3,3.8076373213210201E-3,3.3120860668202799E-3,3.0914026274815607E-3,2.9968169788840543E-3,2.8318445771531647E-3,2.713232257259873E-3,2.6381552733499669E-3,2.6712735740334293E-3,2.7865852695010121E-3,2.8259637536171556E-3,2.972335885039484E-3,3.2429555063704443E-3,3.7145394833867822E-3]
["20% PFA, No SP"]
["0-10",8,12,16,20,25,30,35,40,45,50,55,60,70,80,90,100]
["Water content",125,125,125,125,125,125,125,125,125,125,125,125,125,125,125,125]
["Cement content",128,144,161,177,195,220,252,274,297,322,362,415,496,601,743,949]
["PFA content",32,36,40,44,49,55,63,68,74,81,91,104,124,150,186,237]
["Fine Agg",823,772,731,697,666,629,591,569,548,527,499,467,425,379,325,256]
["Coarse Agg",1291,1322,1342,1356,1365,1370,1369,1364,1356,1344,1323,1289,1229,1144,1020,832]
["Plasticiser dosage",0,0,0,0,0,0,0,0,0,0,0,0,0,0,0,0]
["Concrete",{"$f":"B30+B31+B32+B33+B34+B35","v":2399},{"$f":"C30+C31+C32+C33+C34+C35","v":2399},2399,2399,2400,2399,2400,2400,2400,2399,2400,2400,2399,2399,2399,2399]
["ECO2 / m3",{"$f":"(B30*'c design-col'!$K$6)+(B31*'c design-col'!$K$7)+B32*'c design-col'!$K$8+B33*'c design-col'!$K$9+B34*'c design-col'!$K$10+B35*'c design-col'!$K$11","v":132.6210313981},{"$f":"(C30*'c design-col'!$K$6)+(C31*'c design-col'!$K$7)+C32*'c design-col'!$K$8+C33*'c design-col'!$K$9+C34*'c design-col'!$K$10+C35*'c design-col'!$K$11","v":147.1517041644},{"$f":"(D30*'c design-col'!$K$6)+(D31*'c design-col'!$K$7)+D32*'c design-col'!$K$8+D33*'c design-col'!$K$9+D34*'c design-col'!$K$10+D35*'c design-col'!$K$11","v":162.44799582569999},{"$f":"(E30*'c design-col'!$K$6)+(E31*'c design-col'!$K$7)+E32*'c design-col'!$K$8+E33*'c design-col'!$K$9+E34*'c design-col'!$K$10+E35*'c design-col'!$K$11","v":176.79946918989995},{"$f":"(F30*'c design-col'!$K$6)+(F31*'c design-col'!$K$7)+F32*'c design-col'!$K$8+F33*'c design-col'!$K$9+F34*'c design-col'!$K$10+F35*'c design-col'!$K$11","v":192.88837974619997},{"$f":"(G30*'c design-col'!$K$6)+(G31*'c design-col'!$K$7)+G32*'c design-col'!$K$8+G33*'c design-col'!$K$9+G34*'c design-col'!$K$10+G35*'c design-col'!$K$11","v":215.12619153029999},{"$f":"(H30*'c design-col'!$K$6)+(H31*'c design-col'!$K$7)+H32*'c design-col'!$K$8+H33*'c design-col'!$K$9+H34*'c design-col'!$K$10+H35*'c design-col'!$K$11","v":243.52575661169996},{"$f":"(I30*'c design-col'!$K$6)+(I31*'c design-col'!$K$7)+I32*'c design-col'!$K$8+I33*'c design-col'!$K$9+I34*'c design-col'!$K$10+I35*'c design-col'!$K$11","v":262.99106553629997},{"$f":"(J30*'c design-col'!$K$6)+(J31*'c design-col'!$K$7)+J32*'c design-col'!$K$8+J33*'c design-col'!$K$9+J34*'c design-col'!$K$10+J35*'c design-col'!$K$11","v":283.3310110356},{"$f":"(K30*'c design-col'!$K$6)+(K31*'c design-col'!$K$7)+K32*'c design-col'!$K$8+K33*'c design-col'!$K$9+K34*'c design-col'!$K$10+K35*'c design-col'!$K$11","v":305.41431196689996},{"$f":"(L30*'c design-col'!$K$6)+(L31*'c design-col'!$K$7)+L32*'c design-col'!$K$8+L33*'c design-col'!$K$9+L34*'c design-col'!$K$10+L35*'c design-col'!$K$11","v":340.70500291529999},{"$f":"(M30*'c design-col'!$K$6)+(M31*'c design-col'!$K$7)+M32*'c design-col'!$K$8+M33*'c design-col'!$K$9+M34*'c design-col'!$K$10+M35*'c design-col'!$K$11","v":387.39084206489997},{"$f":"(N30*'c design-col'!$K$6)+(N31*'c design-col'!$K$7)+N32*'c design-col'!$K$8+N33*'c design-col'!$K$9+N34*'c design-col'!$K$10+N35*'c design-col'!$K$11","v":458.65712051549997},{"$f":"(O30*'c design-col'!$K$6)+(O31*'c design-col'!$K$7)+O32*'c design-col'!$K$8+O33*'c design-col'!$K$9+O34*'c design-col'!$K$10+O35*'c design-col'!$K$11","v":550.96802796329985},{"$f":"(P30*'c design-col'!$K$6)+(P31*'c design-col'!$K$7)+P32*'c design-col'!$K$8+P33*'c design-col'!$K$9+P34*'c design-col'!$K$10+P35*'c design-col'!$K$11","v":675.7328600175},{"$f":"(Q30*'c design-col'!$K$6)+(Q31*'c design-col'!$K$7)+Q32*'c design-col'!$K$8+Q33*'c design-col'!$K$9+Q34*'c design-col'!$K$10+Q35*'c design-col'!$K$11","v":856.61396002319998}]
["ECO2/tonne",{"$f":"B37/B36","v":5.528179716469362E-2},{"$f":"C37/C36","v":6.1338767888453521E-2},{"$f":"D37/D36","v":6.7714879460483532E-2},{"$f":"E37/E36","v":7.369715264272611E-2},{"$f":"F37/F36","v":8.0370158227583324E-2},{"$f":"G37/G36","v":8.9673277003042937E-2},{"$f":"H37/H36","v":0.10146906525487498},{"$f":"I37/I36","v":0.10957961064012499},{"$f":"J37/J36","v":0.1180545879315},{"$f":"K37/K36","v":0.12730900873984993},{"$f":"L37/L36","v":0.14196041788137501},{"$f":"M37/M36","v":0.16141285086037499},{"$f":"N37/N36","v":0.19118679471258856},{"$f":"O37/O36","v":0.2296657056954147},{"$f":"P37/P36","v":0.28167272197478116},{"$f":"Q37/Q36","v":0.35707126303593162}]
["ECO2 / m3 / Mpa",{"$f":"B37/B29","v":16.5776289247625},{"$f":"C37/C29","v":12.262642013700001},10.152999739106249,8.8399734594949972,7.7155351898479987,7.1708730510100001,6.9578787603342844,6.5747766384074993,6.29624468968,6.1082862393379989,6.194636416641818,6.4565140344149992,6.5522445787928563,6.8871003495412477,7.5081428890833335,8.5661396002319989]
["ECO2 / tonne / Mpa",{"$f":"B38/B29","v":6.9102246455867026E-3},{"$f":"C38/C29","v":5.1115639907044598E-3},4.2321799662802207E-3,3.6848576321363057E-3,3.2148063291033329E-3,2.9891092334347644E-3,2.8991161501392853E-3,2.7394902660031247E-3,2.6234352873666668E-3,2.5461801747969988E-3,2.581098506934091E-3,2.6902141810062497E-3,2.7312399244655509E-3,2.8708213211926835E-3,3.129696910830902E-3,3.5707126303593162E-3]
[]
["20% PFA, SP"]
["0-10",8,12,16,20,25,30,35,40,45,50,55,60,70,80,90,100]
["Water content",112.5,112.5,112.5,112.5,112.5,112.5,112.5,112.5,112.5,112.5,112.5,112.5,112.5,112.5,112.5,112.5]
["Cement content",115,130,145,160,175,198,227,246,267,290,326,373,446,541,669,854]
["PFA content",29,32,36,40,44,50,57,62,67,73,81,93,112,135,167,214]
["Fine Agg",840,789,748,713,683,646,608,587,566,546,519,488,448,405,354,290]
["Coarse Agg",1318,1350,1372,1388,1399,1408,1410,1407,1401,1392,1375,1347,1295,1221,1111,943]
["Plasticiser dosage",0.6,0.6,0.7,0.8,0.9,1,1.1000000000000001,1.2,1.3,1.5,1.6,1.9,2.2000000000000002,2.7,3.3,4.3]
["Concrete",{"$f":"B44+B45+B46+B47+B48+B49","v":2415.1},{"$f":"C44+C45+C46+C47+C48+C49","v":2414.1},2414.1999999999998,2414.3000000000002,2414.4,2415.5,2415.6,2415.6999999999998,2414.8000000000002,2415,2415.1,2415.4,2415.6999999999998,2417.1999999999998,2416.8000000000002,2417.8000000000002]
["ECO2 / m3",{"$f":"(B44*'c design-col'!$K$6)+(B45*'c design-col'!$K$7)+B46*'c design-col'!$K$8+B47*'c design-col'!$K$9+B48*'c design-col'!$K$10+B49*'c design-col'!$K$11","v":121.42337146399998},{"$f":"(C44*'c design-col'!$K$6)+(C45*'c design-col'!$K$7)+C46*'c design-col'!$K$8+C47*'c design-col'!$K$9+C48*'c design-col'!$K$10+C49*'c design-col'!$K$11","v":135.0560139223},{"$f":"(D44*'c design-col'!$K$6)+(D45*'c design-col'!$K$7)+D46*'c design-col'!$K$8+D47*'c design-col'!$K$9+D48*'c design-col'!$K$10+D49*'c design-col'!$K$11","v":148.6102454876},{"$f":"(E44*'c design-col'!$K$6)+(E45*'c design-col'!$K$7)+E46*'c design-col'!$K$8+E47*'c design-col'!$K$9+E48*'c design-col'!$K$10+E49*'c design-col'!$K$11","v":162.10123020509999},{"$f":"(F44*'c design-col'!$K$6)+(F45*'c design-col'!$K$7)+F46*'c design-col'!$K$8+F47*'c design-col'!$K$9+F48*'c design-col'!$K$10+F49*'c design-col'!$K$11","v":175.53950921609996},{"$f":"(G44*'c design-col'!$K$6)+(G45*'c design-col'!$K$7)+G46*'c design-col'!$K$8+G47*'c design-col'!$K$9+G48*'c design-col'!$K$10+G49*'c design-col'!$K$11","v":196.06096608819999},{"$f":"(H44*'c design-col'!$K$6)+(H45*'c design-col'!$K$7)+H46*'c design-col'!$K$8+H47*'c design-col'!$K$9+H48*'c design-col'!$K$10+H49*'c design-col'!$K$11","v":221.82044076559995},{"$f":"(I44*'c design-col'!$K$6)+(I45*'c design-col'!$K$7)+I46*'c design-col'!$K$8+I47*'c design-col'!$K$9+I48*'c design-col'!$K$10+I49*'c design-col'!$K$11","v":238.66211814489998},{"$f":"(J44*'c design-col'!$K$6)+(J45*'c design-col'!$K$7)+J46*'c design-col'!$K$8+J47*'c design-col'!$K$9+J48*'c design-col'!$K$10+J49*'c design-col'!$K$11","v":257.23300354820003},{"$f":"(K44*'c design-col'!$K$6)+(K45*'c design-col'!$K$7)+K46*'c design-col'!$K$8+K47*'c design-col'!$K$9+K48*'c design-col'!$K$10+K49*'c design-col'!$K$11","v":277.56240894619998},{"$f":"(L44*'c design-col'!$K$6)+(L45*'c design-col'!$K$7)+L46*'c design-col'!$K$8+L47*'c design-col'!$K$9+L48*'c design-col'!$K$10+L49*'c design-col'!$K$11","v":309.31729063329999},{"$f":"(M44*'c design-col'!$K$6)+(M45*'c design-col'!$K$7)+M46*'c design-col'!$K$8+M47*'c design-col'!$K$9+M48*'c design-col'!$K$10+M49*'c design-col'!$K$11","v":350.75226094559997},{"$f":"(N44*'c design-col'!$K$6)+(N45*'c design-col'!$K$7)+N46*'c design-col'!$K$8+N47*'c design-col'!$K$9+N48*'c design-col'!$K$10+N49*'c design-col'!$K$11","v":415.02792139359997},{"$f":"(O44*'c design-col'!$K$6)+(O45*'c design-col'!$K$7)+O46*'c design-col'!$K$8+O47*'c design-col'!$K$9+O48*'c design-col'!$K$10+O49*'c design-col'!$K$11","v":498.56731530549996},{"$f":"(P44*'c design-col'!$K$6)+(P45*'c design-col'!$K$7)+P46*'c design-col'!$K$8+P47*'c design-col'!$K$9+P48*'c design-col'!$K$10+P49*'c design-col'!$K$11","v":611.03666051979985},{"$f":"(Q44*'c design-col'!$K$6)+(Q45*'c design-col'!$K$7)+Q46*'c design-col'!$K$8+Q47*'c design-col'!$K$9+Q48*'c design-col'!$K$10+Q49*'c design-col'!$K$11","v":773.51683391899996}]
["ECO2/tonne",{"$f":"B51/B50","v":5.0276746910686926E-2},{"$f":"C51/C50","v":5.5944664231929085E-2},{"$f":"D51/D50","v":6.1556724996934806E-2},{"$f":"E51/E50","v":6.7142124096052677E-2},{"$f":"F51/F50","v":7.2705230788643119E-2},{"$f":"G51/G50","v":8.1167860106892975E-2},{"$f":"H51/H50","v":9.1828299704255656E-2},{"$f":"I51/I50","v":9.8796257045535449E-2},{"$f":"J51/J50","v":0.10652352308605267},{"$f":"K51/K50","v":0.11493267451188405},{"$f":"L51/L50","v":0.12807639047381061},{"$f":"M51/M50","v":0.14521497927697274},{"$f":"N51/N50","v":0.17180441337649544},{"$f":"O51/O50","v":0.20625819762762701},{"$f":"P51/P50","v":0.25282880690160536},{"$f":"Q51/Q50","v":0.31992589706303248}]
["ECO2 / m3 / Mpa",{"$f":"B51/B43","v":15.177921432999998},{"$f":"C51/C43","v":11.254667826858332},9.2881403429749998,8.1050615102550001,7.0215803686439981,6.5353655362733329,6.3377268790171417,5.9665529536224993,5.7162889677377784,5.5512481789239994,5.6239507387872729,5.8458710157599993,5.9289703056228564,6.2320914413187491,6.7892962279977764,7.7351683391899995]
["ECO2 / tonne / Mpa",{"$f":"B52/B43","v":6.2845933638358657E-3},{"$f":"C52/C43","v":4.6620553526607574E-3},3.8472953123084254E-3,3.3571062048026339E-3,2.9082092315457246E-3,2.7055953368964325E-3,2.6236657058358757E-3,2.4699064261383863E-3,2.3671894019122817E-3,2.2986534902376811E-3,2.3286616449783746E-3,2.4202496546162126E-3,2.4543487625213632E-3,2.5782274703453375E-3,2.809208965573393E-3,3.1992589706303248E-3]
[]
["40% PFA, No SP"]
["0-10",8,12,16,20,25,30,35,40,45,50,55,60,70,80,90,100]
["Water content",115,115,115,115,115,115,115,115,115,115,115,115,115,115,115,115]
["Cement content",105,119,132,146,160,181,208,226,245,266,298,342,409,495,613,782]
["PFA content",70,79,88,97,107,121,138,150,163,177,199,228,272,330,408,522]
["Fine Agg",825,774,732,697,665,627,588,565,543,522,493,459,415,366,308,233]
["Coarse Agg",1295,1324,1343,1356,1363,1367,1362,1355,1345,1331,1306,1267,1200,1105,967,759]
["Plasticiser dosage"]
["Concrete",{"$f":"B58+B59+B60+B61+B62","v":2410},{"$f":"C58+C59+C60+C61+C62","v":2411},2410,2411,2410,2411,2411,2411,2411,2411,2411,2411,2411,2411,2411,2411]
["ECO2 / m3",{"$f":"(B58*'c design-col'!$K$6)+(B59*'c design-col'!$K$7)+B60*'c design-col'!$K$8+B61*'c design-col'!$K$9+B62*'c design-col'!$K$10+B63*'c design-col'!$K$11","v":113.36375796749998},{"$f":"(C58*'c design-col'!$K$6)+(C59*'c design-col'!$K$7)+C60*'c design-col'!$K$8+C61*'c design-col'!$K$9+C62*'c design-col'!$K$10+C63*'c design-col'!$K$11","v":126.23595974979997},{"$f":"(D58*'c design-col'!$K$6)+(D59*'c design-col'!$K$7)+D60*'c design-col'!$K$8+D61*'c design-col'!$K$9+D62*'c design-col'!$K$10+D63*'c design-col'!$K$11","v":138.11655576839999},{"$f":"(E58*'c design-col'!$K$6)+(E59*'c design-col'!$K$7)+E60*'c design-col'!$K$8+E61*'c design-col'!$K$9+E62*'c design-col'!$K$10+E63*'c design-col'!$K$11","v":150.82009928989999},{"$f":"(F58*'c design-col'!$K$6)+(F59*'c design-col'!$K$7)+F60*'c design-col'!$K$8+F61*'c design-col'!$K$9+F62*'c design-col'!$K$10+F63*'c design-col'!$K$11","v":163.4804616115},{"$f":"(G58*'c design-col'!$K$6)+(G59*'c design-col'!$K$7)+G60*'c design-col'!$K$8+G61*'c design-col'!$K$9+G62*'c design-col'!$K$10+G63*'c design-col'!$K$11","v":182.38357775289998},{"$f":"(H58*'c design-col'!$K$6)+(H59*'c design-col'!$K$7)+H60*'c design-col'!$K$8+H61*'c design-col'!$K$9+H62*'c design-col'!$K$10+H63*'c design-col'!$K$11","v":206.5530065156},{"$f":"(I58*'c design-col'!$K$6)+(I59*'c design-col'!$K$7)+I60*'c design-col'!$K$8+I61*'c design-col'!$K$9+I62*'c design-col'!$K$10+I63*'c design-col'!$K$11","v":222.64376720550001},{"$f":"(J58*'c design-col'!$K$6)+(J59*'c design-col'!$K$7)+J60*'c design-col'!$K$8+J61*'c design-col'!$K$9+J62*'c design-col'!$K$10+J63*'c design-col'!$K$11","v":239.60916447010001},{"$f":"(K58*'c design-col'!$K$6)+(K59*'c design-col'!$K$7)+K60*'c design-col'!$K$8+K61*'c design-col'!$K$9+K62*'c design-col'!$K$10+K63*'c design-col'!$K$11","v":258.32022861740001},{"$f":"(L58*'c design-col'!$K$6)+(L59*'c design-col'!$K$7)+L60*'c design-col'!$K$8+L61*'c design-col'!$K$9+L62*'c design-col'!$K$10+L63*'c design-col'!$K$11","v":286.81013454710001},{"$f":"(M58*'c design-col'!$K$6)+(M59*'c design-col'!$K$7)+M60*'c design-col'!$K$8+M61*'c design-col'!$K$9+M62*'c design-col'!$K$10+M63*'c design-col'!$K$11","v":325.90414173529996},{"$f":"(N58*'c design-col'!$K$6)+(N59*'c design-col'!$K$7)+N60*'c design-col'!$K$8+N61*'c design-col'!$K$9+N62*'c design-col'!$K$10+N63*'c design-col'!$K$11","v":385.34946854049997},{"$f":"(O58*'c design-col'!$K$6)+(O59*'c design-col'!$K$7)+O60*'c design-col'!$K$8+O61*'c design-col'!$K$9+O62*'c design-col'!$K$10+O63*'c design-col'!$K$11","v":461.59514061620001},{"$f":"(P58*'c design-col'!$K$6)+(P59*'c design-col'!$K$7)+P60*'c design-col'!$K$8+P61*'c design-col'!$K$9+P62*'c design-col'!$K$10+P63*'c design-col'!$K$11","v":566.09160097959989},{"$f":"(Q58*'c design-col'!$K$6)+(Q59*'c design-col'!$K$7)+Q60*'c design-col'!$K$8+Q61*'c design-col'!$K$9+Q62*'c design-col'!$K$10+Q63*'c design-col'!$K$11","v":715.69911314109993}]
["ECO2/tonne",{"$f":"B65/B64","v":4.7038903720954345E-2},{"$f":"C65/C64","v":5.2358340833596008E-2},{"$f":"D65/D64","v":5.7309774177759329E-2},{"$f":"E65/E64","v":6.2554997631646611E-2},{"$f":"F65/F64","v":6.7834216436307063E-2},{"$f":"G65/G64","v":7.5646444526296139E-2},{"$f":"H65/H64","v":8.5671093536126092E-2},{"$f":"I65/I64","v":9.2344988471795939E-2},{"$f":"J65/J64","v":9.9381652621360436E-2},{"$f":"K65/K64","v":0.10714235944313563},{"$f":"L65/L64","v":0.11895899400543343},{"$f":"M65/M64","v":0.13517384559738696},{"$f":"N65/N64","v":0.15982972564931563},{"$f":"O65/O64","v":0.19145381195197014},{"$f":"P65/P64","v":0.23479535503094148},{"$f":"Q65/Q64","v":0.2968474131651182}]
["ECO2 / m3 / Mpa",{"$f":"B65/B57","v":14.170469745937497},{"$f":"C65/C57","v":10.519663312483331},8.6322847355249994,7.5410049644949995,6.5392184644600002,6.0794525917633324,5.901514471874286,5.5660941801375001,5.3246480993355556,5.1664045723480001,5.2147297190381821,5.4317356955883325,5.5049924077214278,5.7699392577025002,6.2899066775511097,7.1569911314109991]
["ECO2 / tonne / Mpa",{"$f":"B66/B57","v":5.8798629651192931E-3},{"$f":"C66/C57","v":4.363195069466334E-3},3.5818608861099581E-3,3.1277498815823306E-3,2.7133686574522826E-3,2.521548150876538E-3,2.4477455296036026E-3,2.3086247117948986E-3,2.2084811693635653E-3,2.1428471888627126E-3,2.1628908000987895E-3,2.252897426623116E-3,2.2832817949902232E-3,2.3931726493996268E-3,2.6088372781215719E-3,2.9684741316511822E-3]
[]
["40% PFA, SP"]
["0-10",8,12,16,20,25,30,35,40,45,50,55,60,70,80,90,100]
["Water content",103.5,103.5,103.5,103.5,103.5,103.5,103.5,103.5,103.5,103.5,103.5,103.5,103.5,103.5,103.5,103.5]
["Cement content",95,107,119,132,144,163,187,203,220,239,269,308,368,446,551,704]
["PFA content",63,71,79,88,96,109,125,135,147,159,179,205,245,297,368,469]
["Fine Agg",842,790,749,713,682,644,606,583,562,541,513,481,439,393,339,270]
["Coarse Agg",1321,1352,1373,1388,1398,1404,1403,1399,1391,1381,1360,1327,1269,1185,1063,877]
["Plasticiser dosage",0.6,0.7,0.8,0.9,1,1.1000000000000001,1.2,1.4,1.5,1.6,1.8,2.1,2.5,3,3.7,4.7]
["Concrete",{"$f":"B72+B73+B74+B75+B76+B77","v":2425.1},{"$f":"C72+C73+C74+C75+C76","v":2423.5},2423.5,2424.5,2423.5,2423.5,2424.5,2423.5,2423.5,2423.5,2424.5,2424.5,2424.5,2424.5,2424.5,2423.5]
["ECO2 / m3",{"$f":"(B72*'c design-col'!$K$6)+(B73*'c design-col'!$K$7)+B74*'c design-col'!$K$8+B75*'c design-col'!$K$9+B76*'c design-col'!$K$10+B77*'c design-col'!$K$11","v":104.69789414139998},{"$f":"(C72*'c design-col'!$K$6)+(C73*'c design-col'!$K$7)+C74*'c design-col'!$K$8+C75*'c design-col'!$K$9+C76*'c design-col'!$K$10+C77*'c design-col'!$K$11","v":115.798724377},{"$f":"(D72*'c design-col'!$K$6)+(D73*'c design-col'!$K$7)+D74*'c design-col'!$K$8+D75*'c design-col'!$K$9+D76*'c design-col'!$K$10+D77*'c design-col'!$K$11","v":126.79645465029998},{"$f":"(E72*'c design-col'!$K$6)+(E73*'c design-col'!$K$7)+E74*'c design-col'!$K$8+E75*'c design-col'!$K$9+E76*'c design-col'!$K$10+E77*'c design-col'!$K$11","v":138.63950952509998},{"$f":"(F72*'c design-col'!$K$6)+(F73*'c design-col'!$K$7)+F74*'c design-col'!$K$8+F75*'c design-col'!$K$9+F76*'c design-col'!$K$10+F77*'c design-col'!$K$11","v":149.51897579340002},{"$f":"(G72*'c design-col'!$K$6)+(G73*'c design-col'!$K$7)+G74*'c design-col'!$K$8+G75*'c design-col'!$K$9+G76*'c design-col'!$K$10+G77*'c design-col'!$K$11","v":166.65303183879999},{"$f":"(H72*'c design-col'!$K$6)+(H73*'c design-col'!$K$7)+H74*'c design-col'!$K$8+H75*'c design-col'!$K$9+H76*'c design-col'!$K$10+H77*'c design-col'!$K$11","v":188.19753424019996},{"$f":"(I72*'c design-col'!$K$6)+(I73*'c design-col'!$K$7)+I74*'c design-col'!$K$8+I75*'c design-col'!$K$9+I76*'c design-col'!$K$10+I77*'c design-col'!$K$11","v":202.50508794609999},{"$f":"(J72*'c design-col'!$K$6)+(J73*'c design-col'!$K$7)+J74*'c design-col'!$K$8+J75*'c design-col'!$K$9+J76*'c design-col'!$K$10+J77*'c design-col'!$K$11","v":217.70373656539996},{"$f":"(K72*'c design-col'!$K$6)+(K73*'c design-col'!$K$7)+K74*'c design-col'!$K$8+K75*'c design-col'!$K$9+K76*'c design-col'!$K$10+K77*'c design-col'!$K$11","v":234.6444458007},{"$f":"(L72*'c design-col'!$K$6)+(L73*'c design-col'!$K$7)+L74*'c design-col'!$K$8+L75*'c design-col'!$K$9+L76*'c design-col'!$K$10+L77*'c design-col'!$K$11","v":261.36630878909995},{"$f":"(M72*'c design-col'!$K$6)+(M73*'c design-col'!$K$7)+M74*'c design-col'!$K$8+M75*'c design-col'!$K$9+M76*'c design-col'!$K$10+M77*'c design-col'!$K$11","v":296.04164149070004},{"$f":"(N72*'c design-col'!$K$6)+(N73*'c design-col'!$K$7)+N74*'c design-col'!$K$8+N75*'c design-col'!$K$9+N76*'c design-col'!$K$10+N77*'c design-col'!$K$11","v":349.31208630529994},{"$f":"(O72*'c design-col'!$K$6)+(O73*'c design-col'!$K$7)+O74*'c design-col'!$K$8+O75*'c design-col'!$K$9+O76*'c design-col'!$K$10+O77*'c design-col'!$K$11","v":418.47301064509998},{"$f":"(P72*'c design-col'!$K$6)+(P73*'c design-col'!$K$7)+P74*'c design-col'!$K$8+P75*'c design-col'!$K$9+P76*'c design-col'!$K$10+P77*'c design-col'!$K$11","v":511.50488422329994},{"$f":"(Q72*'c design-col'!$K$6)+(Q73*'c design-col'!$K$7)+Q74*'c design-col'!$K$8+Q75*'c design-col'!$K$9+Q76*'c design-col'!$K$10+Q77*'c design-col'!$K$11","v":646.91590091299997}]
["ECO2/tonne",{"$f":"B79/B78","v":4.3172609022885652E-2},{"$f":"C79/C78","v":4.7781606922632558E-2},{"$f":"D79/D78","v":5.2319560408623879E-2},{"$f":"E79/E78","v":5.7182722014889657E-2},{"$f":"F79/F78","v":6.1695471753001864E-2},{"$f":"G79/G78","v":6.8765435047988446E-2},{"$f":"H79/H78","v":7.7623235405320665E-2},{"$f":"I79/I78","v":8.355893870274396E-2},{"$f":"J79/J78","v":8.9830301863173076E-2},{"$f":"K79/K78","v":9.6820485166370956E-2},{"$f":"L79/L78","v":0.10780214839723652},{"$f":"M79/M78","v":0.1221042035432873},{"$f":"N79/N78","v":0.14407592753363577},{"$f":"O79/O78","v":0.17260177795219631},{"$f":"P79/P78","v":0.2109733488237987},{"$f":"Q79/Q78","v":0.26693455783494946}]
["ECO2 / m3 / Mpa",{"$f":"B79/B71","v":13.087236767674998},{"$f":"C79/C71","v":9.6498936980833339},7.9247784156437486,6.9319754762549994,5.9807590317360004,5.5551010612933327,5.3770724068628555,5.0626271986524998,4.8378608125644433,4.6928889160139997,4.7521147052563624,4.9340273581783345,4.9901726615042845,5.2309126330637499,5.6833876024811101,6.4691590091299993]
["ECO2 / tonne / Mpa",{"$f":"B80/B71","v":5.3965761278607065E-3},{"$f":"C80/C71","v":3.9818005768860465E-3},3.2699725255389924E-3,2.859136100744483E-3,2.4678188701200746E-3,2.2921811682662815E-3,2.2178067258663047E-3,2.0889734675685989E-3,1.9962289302927348E-3,1.9364097033274191E-3,1.9600390617679369E-3,2.0350700590547883E-3,2.0582275361947966E-3,2.1575222244024539E-3,2.3441483202644299E-3,2.6693455783494946E-3]
[]
["0% PFA, No SP"]
["10-30",8,12,16,20,25,30,35,40,45,50,55,60,70,80,90,100]
["Water content",160,160,160,160,160,160,160,160,160,160,160,160,160,160,160,160]
["Cement content",176,199,221,244,268,303,347,376,409,444,498,571,682,827,1023,1306]
["ECO2 / m3",0,0,0,0,0,0,0,0,0,0,0,0,0,0,0,0]
["ECO2/tonne",835,783,741,706,674,635,595,572,550,528,498,463,417,366,305,225]
["ECO2 / m3 / Mpa",1188,1217,1237,1250,1258,1261,1257,1250,1241,1227,1203,1165,1100,1006,871,668]
["ECO2 / tonne / Mpa",0,0,0,0,0,0,0,0,0,0,0,0,0,0,0,0]
["Concrete",{"$f":"SUM(B86:B91)","v":2359},2359,2359,2360,2360,2359,2359,2358,2360,2359,2359,2359,2359,2359,2359,2359]
["ECO2 / m3",{"$f":"(B86*'c design-col'!$K$6)+(B87*'c design-col'!$K$7)+B88*'c design-col'!$K$8+B89*'c design-col'!$K$9+B90*'c design-col'!$K$10+B91*'c design-col'!$K$11","v":172.92233103049998},{"$f":"(C86*'c design-col'!$K$6)+(C87*'c design-col'!$K$7)+C88*'c design-col'!$K$8+C89*'c design-col'!$K$9+C90*'c design-col'!$K$10+C91*'c design-col'!$K$11","v":193.50416746209999},{"$f":"(D86*'c design-col'!$K$6)+(D87*'c design-col'!$K$7)+D88*'c design-col'!$K$8+D89*'c design-col'!$K$9+D90*'c design-col'!$K$10+D91*'c design-col'!$K$11","v":213.10956217269995},{"$f":"(E86*'c design-col'!$K$6)+(E87*'c design-col'!$K$7)+E88*'c design-col'!$K$8+E89*'c design-col'!$K$9+E90*'c design-col'!$K$10+E91*'c design-col'!$K$11","v":233.52505179419998},{"$f":"(F86*'c design-col'!$K$6)+(F87*'c design-col'!$K$7)+F88*'c design-col'!$K$8+F89*'c design-col'!$K$9+F90*'c design-col'!$K$10+F91*'c design-col'!$K$11","v":254.76709570779997},{"$f":"(G86*'c design-col'!$K$6)+(G87*'c design-col'!$K$7)+G88*'c design-col'!$K$8+G89*'c design-col'!$K$9+G90*'c design-col'!$K$10+G91*'c design-col'!$K$11","v":285.65140840650002},{"$f":"(H86*'c design-col'!$K$6)+(H87*'c design-col'!$K$7)+H88*'c design-col'!$K$8+H89*'c design-col'!$K$9+H90*'c design-col'!$K$10+H91*'c design-col'!$K$11","v":324.39838761050004},{"$f":"(I86*'c design-col'!$K$6)+(I87*'c design-col'!$K$7)+I88*'c design-col'!$K$8+I89*'c design-col'!$K$9+I90*'c design-col'!$K$10+I91*'c design-col'!$K$11","v":349.88786020039998},{"$f":"(J86*'c design-col'!$K$6)+(J87*'c design-col'!$K$7)+J88*'c design-col'!$K$8+J89*'c design-col'!$K$9+J90*'c design-col'!$K$10+J91*'c design-col'!$K$11","v":378.889470657},{"$f":"(K86*'c design-col'!$K$6)+(K87*'c design-col'!$K$7)+K88*'c design-col'!$K$8+K89*'c design-col'!$K$9+K90*'c design-col'!$K$10+K91*'c design-col'!$K$11","v":409.59458395360002},{"$f":"(L86*'c design-col'!$K$6)+(L87*'c design-col'!$K$7)+L88*'c design-col'!$K$8+L89*'c design-col'!$K$9+L90*'c design-col'!$K$10+L91*'c design-col'!$K$11","v":456.94645482459998},{"$f":"(M86*'c design-col'!$K$6)+(M87*'c design-col'!$K$7)+M88*'c design-col'!$K$8+M89*'c design-col'!$K$9+M90*'c design-col'!$K$10+M91*'c design-col'!$K$11","v":520.90060725410001},{"$f":"(N86*'c design-col'!$K$6)+(N87*'c design-col'!$K$7)+N88*'c design-col'!$K$8+N89*'c design-col'!$K$9+N90*'c design-col'!$K$10+N91*'c design-col'!$K$11","v":618.06986394189994},{"$f":"(O86*'c design-col'!$K$6)+(O87*'c design-col'!$K$7)+O88*'c design-col'!$K$8+O89*'c design-col'!$K$9+O90*'c design-col'!$K$10+O91*'c design-col'!$K$11","v":744.9068568081999},{"$f":"(P86*'c design-col'!$K$6)+(P87*'c design-col'!$K$7)+P88*'c design-col'!$K$8+P89*'c design-col'!$K$9+P90*'c design-col'!$K$10+P91*'c design-col'!$K$11","v":916.27180679549997},{"$f":"(Q86*'c design-col'!$K$6)+(Q87*'c design-col'!$K$7)+Q88*'c design-col'!$K$8+Q89*'c design-col'!$K$9+Q90*'c design-col'!$K$10+Q91*'c design-col'!$K$11","v":1163.6166752634999}]
["ECO2/tonne",{"$f":"B93/B92","v":7.3303234858202615E-2},{"$f":"C93/C92","v":8.2028048945358201E-2},{"$f":"D93/D92","v":9.0338941149936389E-2},{"$f":"E93/E92","v":9.8951293133135582E-2},{"$f":"F93/F92","v":0.10795215919822032},{"$f":"G93/G92","v":0.1210900417153455},{"$f":"H93/H92","v":0.13751521306083087},{"$f":"I93/I92","v":0.14838331645479219},{"$f":"J93/J92","v":0.16054638587161016},{"$f":"K93/K92","v":0.17363059938685885},{"$f":"L93/L92","v":0.19370345689894022},{"$f":"M93/M92","v":0.22081416161682918},{"$f":"N93/N92","v":0.26200502922505298},{"$f":"O93/O92","v":0.31577230046977528},{"$f":"P93/P92","v":0.38841534836604491},{"$f":"Q93/Q92","v":0.49326692465599825}]
["ECO2 / m3 / Mpa",{"$f":"B93/B85","v":21.615291378812497},{"$f":"C93/C85","v":16.125347288508333},13.319347635793747,11.67625258971,10.190683828311998,9.5217136135500002,9.2685253603000017,8.7471965050099989,8.4197660146000004,8.1918916790720004,8.3081173604472731,8.6816767875683336,8.8295694848842849,9.3113357101024992,10.180797853283334,11.636166752634999]
["ECO2 / tonne / Mpa",{"$f":"B94/B85","v":9.1629043572753269E-3},{"$f":"C94/C85","v":6.8356707454465164E-3},5.6461838218710243E-3,4.9475646566567791E-3,4.3180863679288129E-3,4.0363347238448503E-3,3.9290060874523107E-3,3.7095829113698046E-3,3.5676974638135591E-3,3.4726119877371768E-3,3.5218810345261859E-3,3.6802360269471532E-3,3.7429289889293282E-3,3.9471537558721913E-3,4.3157260929560549E-3,4.9326692465599823E-3]
[]
["0% PFA, SP"]
["10-30",8,12,16,20,25,30,35,40,45,50,55,60,70,80,90,100]
["Water content",144,144,144,144,144,144,144,144,144,144,144,144,144,144,144,144]
["Cement content",158,179,199,220,241,273,312,339,368,399,448,514,614,744,921,1176]
["PFA content",0,0,0,0,0,0,0,0,0,0,0,0,0,0,0,0]
["Fine Agg",857,805,762,727,695,657,618,595,573,552,523,489,446,397,340,267]
["Coarse Agg",1219,1250,1272,1287,1297,1304,1304,1300,1293,1282,1262,1231,1174,1092,973,791]
["Plasticiser dosage",0.6,0.7,0.8,0.9,1,1.1000000000000001,1.2,1.4,1.5,1.6,1.8,2.1,2.5,3,3.7,4.7]
["Concrete",{"$f":"B100+B101+B102+B103+B104+B105","v":2378.6},2378.6999999999998,2377.8000000000002,2378.9,2378,2379.1,2379.1999999999998,2379.4,2379.5,2378.6,2378.8000000000002,2380.1,2380.5,2380,2381.6999999999998,2382.6999999999998]
["ECO2 / m3",{"$f":"(B100*'c design-col'!$K$6)+(B101*'c design-col'!$K$7)+B102*'c design-col'!$K$8+B103*'c design-col'!$K$9+B104*'c design-col'!$K$10+B105*'c design-col'!$K$11","v":157.44572421789999},{"$f":"(C100*'c design-col'!$K$6)+(C101*'c design-col'!$K$7)+C102*'c design-col'!$K$8+C103*'c design-col'!$K$9+C104*'c design-col'!$K$10+C105*'c design-col'!$K$11","v":176.28550055349999},{"$f":"(D100*'c design-col'!$K$6)+(D101*'c design-col'!$K$7)+D102*'c design-col'!$K$8+D103*'c design-col'!$K$9+D104*'c design-col'!$K$10+D105*'c design-col'!$K$11","v":194.14652371740002},{"$f":"(E100*'c design-col'!$K$6)+(E101*'c design-col'!$K$7)+E102*'c design-col'!$K$8+E103*'c design-col'!$K$9+E104*'c design-col'!$K$10+E105*'c design-col'!$K$11","v":212.81995324289997},{"$f":"(F100*'c design-col'!$K$6)+(F101*'c design-col'!$K$7)+F102*'c design-col'!$K$8+F103*'c design-col'!$K$9+F104*'c design-col'!$K$10+F105*'c design-col'!$K$11","v":231.43605416049999},{"$f":"(G100*'c design-col'!$K$6)+(G101*'c design-col'!$K$7)+G102*'c design-col'!$K$8+G103*'c design-col'!$K$9+G104*'c design-col'!$K$10+G105*'c design-col'!$K$11","v":259.72244049789998},{"$f":"(H100*'c design-col'!$K$6)+(H101*'c design-col'!$K$7)+H102*'c design-col'!$K$8+H103*'c design-col'!$K$9+H104*'c design-col'!$K$10+H105*'c design-col'!$K$11","v":294.10372754059995},{"$f":"(I100*'c design-col'!$K$6)+(I101*'c design-col'!$K$7)+I102*'c design-col'!$K$8+I103*'c design-col'!$K$9+I104*'c design-col'!$K$10+I105*'c design-col'!$K$11","v":317.86399314649998},{"$f":"(J100*'c design-col'!$K$6)+(J101*'c design-col'!$K$7)+J102*'c design-col'!$K$8+J103*'c design-col'!$K$9+J104*'c design-col'!$K$10+J105*'c design-col'!$K$11","v":343.35577770709995},{"$f":"(K100*'c design-col'!$K$6)+(K101*'c design-col'!$K$7)+K102*'c design-col'!$K$8+K103*'c design-col'!$K$9+K104*'c design-col'!$K$10+K105*'c design-col'!$K$11","v":370.56622915039998},{"$f":"(L100*'c design-col'!$K$6)+(L101*'c design-col'!$K$7)+L102*'c design-col'!$K$8+L103*'c design-col'!$K$9+L104*'c design-col'!$K$10+L105*'c design-col'!$K$11","v":413.55240838009996},{"$f":"(M100*'c design-col'!$K$6)+(M101*'c design-col'!$K$7)+M102*'c design-col'!$K$8+M103*'c design-col'!$K$9+M104*'c design-col'!$K$10+M105*'c design-col'!$K$11","v":471.41166166429997},{"$f":"(N100*'c design-col'!$K$6)+(N101*'c design-col'!$K$7)+N102*'c design-col'!$K$8+N103*'c design-col'!$K$9+N104*'c design-col'!$K$10+N105*'c design-col'!$K$11","v":558.96796362019995},{"$f":"(O100*'c design-col'!$K$6)+(O101*'c design-col'!$K$7)+O102*'c design-col'!$K$8+O103*'c design-col'!$K$9+O104*'c design-col'!$K$10+O105*'c design-col'!$K$11","v":672.70556959189992},{"$f":"(P100*'c design-col'!$K$6)+(P101*'c design-col'!$K$7)+P102*'c design-col'!$K$8+P103*'c design-col'!$K$9+P104*'c design-col'!$K$10+P105*'c design-col'!$K$11","v":827.4916353939999},{"$f":"(Q100*'c design-col'!$K$6)+(Q101*'c design-col'!$K$7)+Q102*'c design-col'!$K$8+Q103*'c design-col'!$K$9+Q104*'c design-col'!$K$10+Q105*'c design-col'!$K$11","v":1050.3738724488999}]
["ECO2/tonne",{"$f":"B107/B106","v":6.6192602462751202E-2},{"$f":"C107/C106","v":7.4110018309791068E-2},{"$f":"D107/D106","v":8.1649644090083268E-2},{"$f":"E107/E106","v":8.9461496171718002E-2},{"$f":"F107/F106","v":9.7323824289529015E-2},{"$f":"G107/G106","v":0.10916835799163549},{"$f":"H107/H106","v":0.12361454587281438},{"$f":"I107/I106","v":0.13358997778704715},{"$f":"J107/J106","v":0.14429744808031097},{"$f":"K107/K106","v":0.15579173848078701},{"$f":"L107/L106","v":0.17384917117037998},{"$f":"M107/M106","v":0.1980638047411033},{"$f":"N107/N106","v":0.2348111588406637},{"$f":"O107/O106","v":0.28264939898819325},{"$f":"P107/P106","v":0.34743739152454128},{"$f":"Q107/Q106","v":0.44083345467280816}]
["ECO2 / m3 / Mpa",{"$f":"B107/B99","v":19.680715527237499},{"$f":"C107/C99","v":14.690458379458333},12.134157732337501,10.640997662144999,9.2574421664199988,8.6574146832633332,8.4029636440171416,7.9465998286624995,7.6301283934911099,7.4113245830079997,7.5191346978199993,7.8568610277383328,7.9852566231457134,8.4088196198987486,9.1943515043777762,10.503738724488999]
["ECO2 / tonne / Mpa",{"$f":"B108/B99","v":8.2740753078439002E-3},{"$f":"C108/C99","v":6.1758348591492559E-3},5.1031027556302042E-3,4.4730748085859001E-3,3.8929529715811604E-3,3.6389452663878495E-3,3.5318441677946967E-3,3.3397494446761786E-3,3.206609957340244E-3,3.1158347696157401E-3,3.1608940212796361E-3,3.3010634123517217E-3,3.3544451262951958E-3,3.5331174873524155E-3,3.8604154613837921E-3,4.4083345467280819E-3]
[]
["20% PFA, No SP"]
["10-30",8,12,16,20,25,30,35,40,45,50,55,60,70,80,90,100]
["Water content",150,150,150,150,150,150,150,150,150,150,150,150,150,150,150,150]
["Cement content",153,173,193,213,234,264,302,328,356,387,435,498,595,721,892,1139]
["PFA content",38,43,48,53,58,66,76,82,89,97,109,124,149,180,223,285]
["Fine Agg",837,785,742,705,673,633,592,568,545,523,491,455,406,352,287,201]
["Coarse Agg",1192,1220,1238,1249,1255,1257,1251,1242,1230,1214,1186,1144,1071,967,819,596]
["Plasticiser dosage"]
["Concrete",{"$f":"B114+B115+B116+B117+B118","v":2370},2371,2371,2370,2370,2370,2371,2370,2370,2371,2371,2371,2371,2370,2371,2371]
["ECO2 / m3",{"$f":"(B114*'c design-col'!$K$6)+(B115*'c design-col'!$K$7)+B116*'c design-col'!$K$8+B117*'c design-col'!$K$9+B118*'c design-col'!$K$10+B119*'c design-col'!$K$11","v":153.6650575999},{"$f":"(C114*'c design-col'!$K$6)+(C115*'c design-col'!$K$7)+C116*'c design-col'!$K$8+C117*'c design-col'!$K$9+C118*'c design-col'!$K$10+C119*'c design-col'!$K$11","v":171.71739273949999},{"$f":"(D114*'c design-col'!$K$6)+(D115*'c design-col'!$K$7)+D116*'c design-col'!$K$8+D117*'c design-col'!$K$9+D118*'c design-col'!$K$10+D119*'c design-col'!$K$11","v":189.66200501539996},{"$f":"(E114*'c design-col'!$K$6)+(E115*'c design-col'!$K$7)+E116*'c design-col'!$K$8+E117*'c design-col'!$K$9+E118*'c design-col'!$K$10+E119*'c design-col'!$K$11","v":207.53051785150001},{"$f":"(F114*'c design-col'!$K$6)+(F115*'c design-col'!$K$7)+F116*'c design-col'!$K$8+F117*'c design-col'!$K$9+F118*'c design-col'!$K$10+F119*'c design-col'!$K$11","v":226.2302078811},{"$f":"(G114*'c design-col'!$K$6)+(G115*'c design-col'!$K$7)+G116*'c design-col'!$K$8+G117*'c design-col'!$K$9+G118*'c design-col'!$K$10+G119*'c design-col'!$K$11","v":252.89594203709999},{"$f":"(H114*'c design-col'!$K$6)+(H115*'c design-col'!$K$7)+H116*'c design-col'!$K$8+H117*'c design-col'!$K$9+H118*'c design-col'!$K$10+H119*'c design-col'!$K$11","v":286.58160720639995},{"$f":"(I114*'c design-col'!$K$6)+(I115*'c design-col'!$K$7)+I116*'c design-col'!$K$8+I117*'c design-col'!$K$9+I118*'c design-col'!$K$10+I119*'c design-col'!$K$11","v":309.55341446159997},{"$f":"(J114*'c design-col'!$K$6)+(J115*'c design-col'!$K$7)+J116*'c design-col'!$K$8+J117*'c design-col'!$K$9+J118*'c design-col'!$K$10+J119*'c design-col'!$K$11","v":334.28374119149993},{"$f":"(K114*'c design-col'!$K$6)+(K115*'c design-col'!$K$7)+K116*'c design-col'!$K$8+K117*'c design-col'!$K$9+K118*'c design-col'!$K$10+K119*'c design-col'!$K$11","v":361.64361770409988},{"$f":"(L114*'c design-col'!$K$6)+(L115*'c design-col'!$K$7)+L116*'c design-col'!$K$8+L117*'c design-col'!$K$9+L118*'c design-col'!$K$10+L119*'c design-col'!$K$11","v":403.96015790569999},{"$f":"(M114*'c design-col'!$K$6)+(M115*'c design-col'!$K$7)+M116*'c design-col'!$K$8+M117*'c design-col'!$K$9+M118*'c design-col'!$K$10+M119*'c design-col'!$K$11","v":459.42675951649994},{"$f":"(N114*'c design-col'!$K$6)+(N115*'c design-col'!$K$7)+N116*'c design-col'!$K$8+N117*'c design-col'!$K$9+N118*'c design-col'!$K$10+N119*'c design-col'!$K$11","v":544.78690051620003},{"$f":"(O114*'c design-col'!$K$6)+(O115*'c design-col'!$K$7)+O116*'c design-col'!$K$8+O117*'c design-col'!$K$9+O118*'c design-col'!$K$10+O119*'c design-col'!$K$11","v":655.53165801039995},{"$f":"(P114*'c design-col'!$K$6)+(P115*'c design-col'!$K$7)+P116*'c design-col'!$K$8+P117*'c design-col'!$K$9+P118*'c design-col'!$K$10+P119*'c design-col'!$K$11","v":805.78420599889989},{"$f":"(Q114*'c design-col'!$K$6)+(Q115*'c design-col'!$K$7)+Q116*'c design-col'!$K$8+Q117*'c design-col'!$K$9+Q118*'c design-col'!$K$10+Q119*'c design-col'!$K$11","v":1022.7123695227}]
["ECO2/tonne",{"$f":"B121/B120","v":6.4837577046371303E-2},{"$f":"C121/C120","v":7.2424037427035001E-2},{"$f":"D121/D120","v":7.9992410381864179E-2},{"$f":"E121/E120","v":8.7565619346624476E-2},{"$f":"F121/F120","v":9.5455783916075954E-2},{"$f":"G121/G120","v":0.10670714853886075},{"$f":"H121/H120","v":0.12086950957671866},{"$f":"I121/I120","v":0.13061325504708859},{"$f":"J121/J120","v":0.14104799206392402},{"$f":"K121/K120","v":0.15252788599919859},{"$f":"L121/L120","v":0.17037543564137494},{"$f":"M121/M120","v":0.1937691942288064},{"$f":"N121/N120","v":0.2297709407491354},{"$f":"O121/O120","v":0.27659563629130801},{"$f":"P121/P120","v":0.33984993926566842},{"$f":"Q121/Q120","v":0.43134220561902148}]
["ECO2 / m3 / Mpa",{"$f":"B121/B113","v":19.208132199987499},{"$f":"C121/C113","v":14.309782728291665},11.853875313462497,10.376525892575,9.0492083152439999,8.4298647345699997,8.188045920182855,7.7388353615399996,7.4285275820333316,7.2328723540819979,7.3447301437399997,7.657112658608332,7.7826700073742865,8.1941457251299994,8.9531578444322211,10.227123695227]
["ECO2 / tonne / Mpa",{"$f":"B122/B113","v":8.1046971307964129E-3},{"$f":"C122/C113","v":6.0353364522529171E-3},4.9995256488665112E-3,4.3782809673312238E-3,3.8182313566430381E-3,3.5569049512953585E-3,3.4534145593348186E-3,3.265331376177215E-3,3.1343998236427559E-3,3.0505577199839719E-3,3.0977351934795444E-3,3.2294865704801065E-3,3.2824420107019341E-3,3.4574454536413501E-3,3.7761104362852046E-3,4.3134220561902147E-3]
[]
["20% PFA, SP"]
["10-30",8,12,16,20,25,30,35,40,45,50,55,60,70,80,90,100]
["Water content",135,135,135,135,135,135,135,135,135,135,135,135,135,135,135,135]
["Cement content",138,156,174,192,210,238,272,295,321,348,391,448,535,649,803,1025]
["PFA content",34,39,43,48,53,59,68,74,80,87,98,112,134,162,201,256]
["Fine Agg",859,806,763,727,695,655,615,591,569,547,516,482,436,385,324,245]
["Coarse Agg",1222,1252,1273,1287,1295,1301,1298,1292,1283,1271,1248,1211,1148,1057,925,726]
["Plasticiser dosage",0.7,0.8,0.9,1,1.1000000000000001,1.2,1.4,1.5,1.6,1.7,2,2.2000000000000002,2.7,3.2,4,5.0999999999999996]
["Concrete",{"$f":"SUM(B128:B133)","v":2388.6999999999998},2388.8000000000002,2388.9,2390,2389.1,2389.1999999999998,2389.4,2388.5,2389.6,2389.6999999999998,2390,2390.1999999999998,2390.6999999999998,2391.1999999999998,2392,2392.1]
["ECO2 / m3",{"$f":"(B128*'c design-col'!$K$6)+(B129*'c design-col'!$K$7)+B130*'c design-col'!$K$8+B131*'c design-col'!$K$9+B132*'c design-col'!$K$10+B133*'c design-col'!$K$11","v":140.72024741529998},{"$f":"(C128*'c design-col'!$K$6)+(C129*'c design-col'!$K$7)+C130*'c design-col'!$K$8+C131*'c design-col'!$K$9+C132*'c design-col'!$K$10+C133*'c design-col'!$K$11","v":157.0282110082},{"$f":"(D128*'c design-col'!$K$6)+(D129*'c design-col'!$K$7)+D130*'c design-col'!$K$8+D131*'c design-col'!$K$9+D132*'c design-col'!$K$10+D133*'c design-col'!$K$11","v":173.2166157801},{"$f":"(E128*'c design-col'!$K$6)+(E129*'c design-col'!$K$7)+E130*'c design-col'!$K$8+E131*'c design-col'!$K$9+E132*'c design-col'!$K$10+E133*'c design-col'!$K$11","v":189.35823256289999},{"$f":"(F128*'c design-col'!$K$6)+(F129*'c design-col'!$K$7)+F130*'c design-col'!$K$8+F131*'c design-col'!$K$9+F132*'c design-col'!$K$10+F133*'c design-col'!$K$11","v":205.43197959649996},{"$f":"(G128*'c design-col'!$K$6)+(G129*'c design-col'!$K$7)+G130*'c design-col'!$K$8+G131*'c design-col'!$K$9+G132*'c design-col'!$K$10+G133*'c design-col'!$K$11","v":230.32735884049995},{"$f":"(H128*'c design-col'!$K$6)+(H129*'c design-col'!$K$7)+H130*'c design-col'!$K$8+H131*'c design-col'!$K$9+H132*'c design-col'!$K$10+H133*'c design-col'!$K$11","v":260.49136267649999},{"$f":"(I128*'c design-col'!$K$6)+(I129*'c design-col'!$K$7)+I130*'c design-col'!$K$8+I131*'c design-col'!$K$9+I132*'c design-col'!$K$10+I133*'c design-col'!$K$11","v":280.85007952769996},{"$f":"(J128*'c design-col'!$K$6)+(J129*'c design-col'!$K$7)+J130*'c design-col'!$K$8+J131*'c design-col'!$K$9+J132*'c design-col'!$K$10+J133*'c design-col'!$K$11","v":303.82651020430001},{"$f":"(K128*'c design-col'!$K$6)+(K129*'c design-col'!$K$7)+K130*'c design-col'!$K$8+K131*'c design-col'!$K$9+K132*'c design-col'!$K$10+K133*'c design-col'!$K$11","v":327.67526600489998},{"$f":"(L128*'c design-col'!$K$6)+(L129*'c design-col'!$K$7)+L130*'c design-col'!$K$8+L131*'c design-col'!$K$9+L132*'c design-col'!$K$10+L133*'c design-col'!$K$11","v":365.61196767719997},{"$f":"(M128*'c design-col'!$K$6)+(M129*'c design-col'!$K$7)+M130*'c design-col'!$K$8+M131*'c design-col'!$K$9+M132*'c design-col'!$K$10+M133*'c design-col'!$K$11","v":415.81715878939997},{"$f":"(N128*'c design-col'!$K$6)+(N129*'c design-col'!$K$7)+N130*'c design-col'!$K$8+N131*'c design-col'!$K$9+N132*'c design-col'!$K$10+N133*'c design-col'!$K$11","v":492.39293366119995},{"$f":"(O128*'c design-col'!$K$6)+(O129*'c design-col'!$K$7)+O130*'c design-col'!$K$8+O131*'c design-col'!$K$9+O132*'c design-col'!$K$10+O133*'c design-col'!$K$11","v":592.62411700349992},{"$f":"(P128*'c design-col'!$K$6)+(P129*'c design-col'!$K$7)+P130*'c design-col'!$K$8+P131*'c design-col'!$K$9+P132*'c design-col'!$K$10+P133*'c design-col'!$K$11","v":727.95754712679991},{"$f":"(Q128*'c design-col'!$K$6)+(Q129*'c design-col'!$K$7)+Q130*'c design-col'!$K$8+Q131*'c design-col'!$K$9+Q132*'c design-col'!$K$10+Q133*'c design-col'!$K$11","v":922.92428623349997}]
["ECO2/tonne",{"$f":"B135/B134","v":5.8910808144723069E-2},{"$f":"C135/C134","v":6.5735185452193562E-2},{"$f":"D135/D134","v":7.2508943773326631E-2},{"$f":"E135/E134","v":7.9229386009581584E-2},{"$f":"F135/F134","v":8.5987183289313956E-2},{"$f":"G135/G134","v":9.6403548819897864E-2},{"$f":"H135/H134","v":0.10901957088662424},{"$f":"I135/I134","v":0.11758429119853463},{"$f":"J135/J134","v":0.12714534240220121},{"$f":"K135/K134","v":0.13711983345394821},{"$f":"L135/L134","v":0.15297571869338911},{"$f":"M135/M134","v":0.173967516856079},{"$f":"N135/N134","v":0.20596182442849373},{"$f":"O135/O134","v":0.24783544538453495},{"$f":"P135/P134","v":0.30433007823026753},{"$f":"Q135/Q134","v":0.38582178263178796}]
["ECO2 / m3 / Mpa",{"$f":"B135/B127","v":17.590030926912497},{"$f":"C135/C127","v":13.085684250683334},10.82603848625625,9.467911628145,8.2172791838599988,7.6775786280166649,7.4426103621857136,7.0212519881924988,6.7517002267622228,6.553505320098,6.6474903214036356,6.9302859798233332,7.0341847665885711,7.4078014625437492,8.0884171902977773,9.2292428623349991]
["ECO2 / tonne / Mpa",{"$f":"B136/B127","v":7.3638510180903836E-3},{"$f":"C136/C127","v":5.4779321210161299E-3},4.5318089858329145E-3,3.9614693004790796E-3,3.4394873315725582E-3,3.2134516273299289E-3,3.1148448824749784E-3,2.9396072799633658E-3,2.8254520533822491E-3,2.7423966690789644E-3,2.7813767035161654E-3,2.8994586142679834E-3,2.9423117775499103E-3,3.0979430673066868E-3,3.3814453136696392E-3,3.8582178263178797E-3]
[]
["40% PFA, No SP"]
["10-30",8,12,16,20,25,30,35,40,45,50,55,60,70,80,90,100]
["Water content",140,140,140,140,140,140,140,140,140,140,140,140,140,140,140,140]
["Cement content",128,145,161,178,195,221,253,275,298,324,363,416,497,603,746,953]
["PFA content",85,96,107,119,130,147,169,183,199,216,242,278,332,402,497,635]
["Fine Agg",837,783,740,702,669,628,585,560,536,512,479,440,389,330,259,165]
["Coarse Agg",1191,1218,1234,1243,1248,1246,1236,1224,1209,1191,1157,1108,1024,907,740,489]
["Plasticiser dosage"]
["Concrete",{"$f":"B142+B143+B144+B145+B146","v":2381},2382,2382,2382,2382,2382,2383,2382,2382,2383,2381,2382,2382,2382,2382,2382]
["ECO2 / m3",{"$f":"(B142*'c design-col'!$K$6)+(B143*'c design-col'!$K$7)+B144*'c design-col'!$K$8+B145*'c design-col'!$K$9+B146*'c design-col'!$K$10+B147*'c design-col'!$K$11","v":132.81413250789998},{"$f":"(C142*'c design-col'!$K$6)+(C143*'c design-col'!$K$7)+C144*'c design-col'!$K$8+C145*'c design-col'!$K$9+C146*'c design-col'!$K$10+C147*'c design-col'!$K$11","v":148.35934345409999},{"$f":"(D142*'c design-col'!$K$6)+(D143*'c design-col'!$K$7)+D144*'c design-col'!$K$8+D145*'c design-col'!$K$9+D146*'c design-col'!$K$10+D147*'c design-col'!$K$11","v":162.90471894599997},{"$f":"(E142*'c design-col'!$K$6)+(E143*'c design-col'!$K$7)+E144*'c design-col'!$K$8+E145*'c design-col'!$K$9+E146*'c design-col'!$K$10+E147*'c design-col'!$K$11","v":178.28256644739994},{"$f":"(F142*'c design-col'!$K$6)+(F143*'c design-col'!$K$7)+F144*'c design-col'!$K$8+F145*'c design-col'!$K$9+F146*'c design-col'!$K$10+F147*'c design-col'!$K$11","v":193.59356083429995},{"$f":"(G142*'c design-col'!$K$6)+(G143*'c design-col'!$K$7)+G144*'c design-col'!$K$8+G145*'c design-col'!$K$9+G146*'c design-col'!$K$10+G147*'c design-col'!$K$11","v":216.91304157159996},{"$f":"(H142*'c design-col'!$K$6)+(H143*'c design-col'!$K$7)+H144*'c design-col'!$K$8+H145*'c design-col'!$K$9+H146*'c design-col'!$K$10+H147*'c design-col'!$K$11","v":245.56337607149996},{"$f":"(I142*'c design-col'!$K$6)+(I143*'c design-col'!$K$7)+I144*'c design-col'!$K$8+I145*'c design-col'!$K$9+I146*'c design-col'!$K$10+I147*'c design-col'!$K$11","v":265.17478249999999},{"$f":"(J142*'c design-col'!$K$6)+(J143*'c design-col'!$K$7)+J144*'c design-col'!$K$8+J145*'c design-col'!$K$9+J146*'c design-col'!$K$10+J147*'c design-col'!$K$11","v":285.68782550319997},{"$f":"(K142*'c design-col'!$K$6)+(K143*'c design-col'!$K$7)+K144*'c design-col'!$K$8+K145*'c design-col'!$K$9+K146*'c design-col'!$K$10+K147*'c design-col'!$K$11","v":308.84095943039995},{"$f":"(L142*'c design-col'!$K$6)+(L143*'c design-col'!$K$7)+L144*'c design-col'!$K$8+L145*'c design-col'!$K$9+L146*'c design-col'!$K$10+L147*'c design-col'!$K$11","v":343.50112652929994},{"$f":"(M142*'c design-col'!$K$6)+(M143*'c design-col'!$K$7)+M144*'c design-col'!$K$8+M145*'c design-col'!$K$9+M146*'c design-col'!$K$10+M147*'c design-col'!$K$11","v":390.59899664399995},{"$f":"(N142*'c design-col'!$K$6)+(N143*'c design-col'!$K$7)+N144*'c design-col'!$K$8+N145*'c design-col'!$K$9+N146*'c design-col'!$K$10+N147*'c design-col'!$K$11","v":462.45400983029992},{"$f":"(O142*'c design-col'!$K$6)+(O143*'c design-col'!$K$7)+O144*'c design-col'!$K$8+O145*'c design-col'!$K$9+O146*'c design-col'!$K$10+O147*'c design-col'!$K$11","v":556.39546837499995},{"$f":"(P142*'c design-col'!$K$6)+(P143*'c design-col'!$K$7)+P144*'c design-col'!$K$8+P145*'c design-col'!$K$9+P146*'c design-col'!$K$10+P147*'c design-col'!$K$11","v":683.0452272112999},{"$f":"(Q142*'c design-col'!$K$6)+(Q143*'c design-col'!$K$7)+Q144*'c design-col'!$K$8+Q145*'c design-col'!$K$9+Q146*'c design-col'!$K$10+Q147*'c design-col'!$K$11","v":866.29171055349991}]
["ECO2/tonne",{"$f":"B149/B148","v":5.5780820036917256E-2},{"$f":"C149/C148","v":6.2283519502141053E-2},{"$f":"D149/D148","v":6.8389890405541554E-2},{"$f":"E149/E148","v":7.4845745779764883E-2},{"$f":"F149/F148","v":8.1273535194920213E-2},{"$f":"G149/G148","v":9.1063409559865638E-2},{"$f":"H149/H148","v":0.1030479966728913},{"$f":"I149/I148","v":0.11132442590260286},{"$f":"J149/J148","v":0.11993611482082282},{"$f":"K149/K148","v":0.12960174545967265},{"$f":"L149/L148","v":0.14426758779055016},{"$f":"M149/M148","v":0.16397942764231735},{"$f":"N149/N148","v":0.1941452602142317},{"$f":"O149/O148","v":0.23358332005667504},{"$f":"P149/P148","v":0.28675282418610409},{"$f":"Q149/Q148","v":0.36368249813329129}]
["ECO2 / m3 / Mpa",{"$f":"B149/B141","v":16.601766563487498},{"$f":"C149/C141","v":12.363278621174999},10.181544934124998,8.9141283223699972,7.743742433371998,7.2304347190533322,7.0160964591857136,6.6293695625,6.3486183445155548,6.1768191886079986,6.2454750278054538,6.509983277399999,6.6064858547185707,6.954943354687499,7.5893914134588876,8.6629171055349996]
["ECO2 / tonne / Mpa",{"$f":"B150/B141","v":6.972602504614657E-3},{"$f":"C150/C141","v":5.1902932918450875E-3},4.2743681503463471E-3,3.7422872889882443E-3,3.2509414077968087E-3,3.0354469853288548E-3,2.9442284763683229E-3,2.7831106475650715E-3,2.6652469960182848E-3,2.5920349091934532E-3,2.6230470507372754E-3,2.7329904607052893E-3,2.7735037173461674E-3,2.919791500708438E-3,3.1861424909567122E-3,3.6368249813329128E-3]
[]
["40% PFA, SP"]
["10-30",8,12,16,20,25,30,35,40,45,50,55,60,70,80,90,100]
["Water content",126,126,126,126,126,126,126,126,126,126,126,126,126,126,126,126]
["Cement content",115,130,145,160,176,199,227,247,268,291,327,375,448,542,671,857]
["PFA content",77,87,97,107,117,133,152,165,179,194,218,250,298,362,447,572]
["Fine Agg",858,805,761,724,691,650,608,584,561,538,506,469,420,365,299,213]
["Coarse Agg",1221,1250,1269,1282,1288,1291,1285,1276,1265,1249,1221,1179,1106,1003,854,631]
["Plasticiser dosage",0.8,0.9,1,1.1000000000000001,1.2,1.3,1.5,1.6,1.8,1.9,2.2000000000000002,2.5,3,3.6,4.5,5.7]
["Concrete",{"$f":"B156+B157+B158+B159+B160+B161","v":2397.8000000000002},2398.9,2399,2400.1,2399.1999999999998,2400.3000000000002,2399.5,2399.6,2400.8000000000002,2399.9,2400.1999999999998,2401.5,2401,2401.6,2401.5,2404.6999999999998]
["ECO2 / m3",{"$f":"(B156*'c design-col'!$K$6)+(B157*'c design-col'!$K$7)+B158*'c design-col'!$K$8+B159*'c design-col'!$K$9+B160*'c design-col'!$K$10+B161*'c design-col'!$K$11","v":121.5277771926},{"$f":"(C156*'c design-col'!$K$6)+(C157*'c design-col'!$K$7)+C158*'c design-col'!$K$8+C159*'c design-col'!$K$9+C160*'c design-col'!$K$10+C161*'c design-col'!$K$11","v":135.30623949349999},{"$f":"(D156*'c design-col'!$K$6)+(D157*'c design-col'!$K$7)+D158*'c design-col'!$K$8+D159*'c design-col'!$K$9+D160*'c design-col'!$K$10+D161*'c design-col'!$K$11","v":148.9769789307},{"$f":"(E156*'c design-col'!$K$6)+(E157*'c design-col'!$K$7)+E158*'c design-col'!$K$8+E159*'c design-col'!$K$9+E160*'c design-col'!$K$10+E161*'c design-col'!$K$11","v":162.58678297079999},{"$f":"(F156*'c design-col'!$K$6)+(F157*'c design-col'!$K$7)+F158*'c design-col'!$K$8+F159*'c design-col'!$K$9+F160*'c design-col'!$K$10+F161*'c design-col'!$K$11","v":176.99974756969999},{"$f":"(G156*'c design-col'!$K$6)+(G157*'c design-col'!$K$7)+G158*'c design-col'!$K$8+G159*'c design-col'!$K$9+G160*'c design-col'!$K$10+G161*'c design-col'!$K$11","v":197.704843087},{"$f":"(H156*'c design-col'!$K$6)+(H157*'c design-col'!$K$7)+H158*'c design-col'!$K$8+H159*'c design-col'!$K$9+H160*'c design-col'!$K$10+H161*'c design-col'!$K$11","v":222.79236884559998},{"$f":"(I156*'c design-col'!$K$6)+(I157*'c design-col'!$K$7)+I158*'c design-col'!$K$8+I159*'c design-col'!$K$9+I160*'c design-col'!$K$10+I161*'c design-col'!$K$11","v":240.64987922079999},{"$f":"(J156*'c design-col'!$K$6)+(J157*'c design-col'!$K$7)+J158*'c design-col'!$K$8+J159*'c design-col'!$K$9+J160*'c design-col'!$K$10+J161*'c design-col'!$K$11","v":259.39487928269995},{"$f":"(K156*'c design-col'!$K$6)+(K157*'c design-col'!$K$7)+K158*'c design-col'!$K$8+K159*'c design-col'!$K$9+K160*'c design-col'!$K$10+K161*'c design-col'!$K$11","v":279.87038166459996},{"$f":"(L156*'c design-col'!$K$6)+(L157*'c design-col'!$K$7)+L158*'c design-col'!$K$8+L159*'c design-col'!$K$9+L160*'c design-col'!$K$10+L161*'c design-col'!$K$11","v":311.90432862619997},{"$f":"(M156*'c design-col'!$K$6)+(M157*'c design-col'!$K$7)+M158*'c design-col'!$K$8+M159*'c design-col'!$K$9+M160*'c design-col'!$K$10+M161*'c design-col'!$K$11","v":354.56937684629997},{"$f":"(N156*'c design-col'!$K$6)+(N157*'c design-col'!$K$7)+N158*'c design-col'!$K$8+N159*'c design-col'!$K$9+N160*'c design-col'!$K$10+N161*'c design-col'!$K$11","v":419.33733084599993},{"$f":"(O156*'c design-col'!$K$6)+(O157*'c design-col'!$K$7)+O158*'c design-col'!$K$8+O159*'c design-col'!$K$9+O160*'c design-col'!$K$10+O161*'c design-col'!$K$11","v":502.69937980149996},{"$f":"(P156*'c design-col'!$K$6)+(P157*'c design-col'!$K$7)+P158*'c design-col'!$K$8+P159*'c design-col'!$K$9+P160*'c design-col'!$K$10+P161*'c design-col'!$K$11","v":616.94768662729984},{"$f":"(Q156*'c design-col'!$K$6)+(Q157*'c design-col'!$K$7)+Q158*'c design-col'!$K$8+Q159*'c design-col'!$K$9+Q160*'c design-col'!$K$10+Q161*'c design-col'!$K$11","v":781.65999949109982}]
["ECO2/tonne",{"$f":"B163/B162","v":5.0683033277420964E-2},{"$f":"C163/C162","v":5.6403451370836626E-2},{"$f":"D163/D162","v":6.2099616061150477E-2},{"$f":"E163/E162","v":6.7741670334902707E-2},{"$f":"F163/F162","v":7.3774486316147053E-2},{"$f":"G163/G162","v":8.2366722112652585E-2},{"$f":"H163/H162","v":9.2849497330943942E-2},{"$f":"I163/I162","v":0.10028749759159859},{"$f":"J163/J162","v":0.10804518463957845},{"$f":"K163/K162","v":0.1166175180901704},{"$f":"L163/L162","v":0.12994930781859845},{"$f":"M163/M162","v":0.14764496225121798},{"$f":"N163/N162","v":0.17465111655393584},{"$f":"O163/O162","v":0.20931852923113756},{"$f":"P163/P162","v":0.25690097298659165},{"$f":"Q163/Q162","v":0.32505510021670059}]
["ECO2 / m3 / Mpa",{"$f":"B163/B155","v":15.190972149075},{"$f":"C163/C155","v":11.275519957791666},9.31106118316875,8.1293391485399997,7.0799899027879993,6.5901614362333332,6.3654962527314281,6.0162469805200001,5.7643306507266656,5.5974076332919989,5.6709877932036354,5.9094896141049995,5.990533297799999,6.2837422475187497,6.8549742958588871,7.8165999949109981]
["ECO2 / tonne / Mpa",{"$f":"B164/B155","v":6.3353791596776204E-3},{"$f":"C164/C155","v":4.7002876142363858E-3},3.8812260038219048E-3,3.3870835167451353E-3,2.950979452645882E-3,2.7455574037550863E-3,2.6528427808841125E-3,2.507187439789965E-3,2.4010041031017433E-3,2.3323503618034079E-3,2.3627146876108811E-3,2.4607493708536329E-3,2.495015950770512E-3,2.6164816153892195E-3,2.854455255406574E-3,3.2505510021670057E-3]
[]
["0% PFA, No SP"]
["30-60",8,12,16,20,25,30,35,40,45,50,55,60,70,80,90,100]
["Water content",180,180,180,180,180,180,180,180,180,180,180,180,180,180,180,180]
["Cement content",198,223,249,275,301,341,390,424,460,499,561,642,767,930,1151,1470]
["PFA content",0,0,0,0,0,0,0,0,0,0,0,0,0,0,0,0]
["Fine Agg",860,809,767,731,699,659,618,594,570,547,514,475,424,364,251,194]
["Coarse Agg",1098,1124,1141,1151,1156,1156,1148,1139,1126,1110,1082,1039,965,862,714,492]
["Plasticiser dosage",0,0,0,0,0,0,0,0,0,0,0,0,0,0,0,0]
["Concrete",{"$f":"SUM(B170:B175)","v":2336},2336,2337,2337,2336,2336,2336,2337,2336,2336,2337,2336,2336,2336,2296,2336]
["ECO2 / m3",{"$f":"(B170*'c design-col'!$K$6)+(B171*'c design-col'!$K$7)+B172*'c design-col'!$K$8+B173*'c design-col'!$K$9+B174*'c design-col'!$K$10+B175*'c design-col'!$K$11","v":191.28880781799998},{"$f":"(C170*'c design-col'!$K$6)+(C171*'c design-col'!$K$7)+C172*'c design-col'!$K$8+C173*'c design-col'!$K$9+C174*'c design-col'!$K$10+C175*'c design-col'!$K$11","v":213.6021637243},{"$f":"(D170*'c design-col'!$K$6)+(D171*'c design-col'!$K$7)+D172*'c design-col'!$K$8+D173*'c design-col'!$K$9+D174*'c design-col'!$K$10+D175*'c design-col'!$K$11","v":236.7045322589},{"$f":"(E170*'c design-col'!$K$6)+(E171*'c design-col'!$K$7)+E172*'c design-col'!$K$8+E173*'c design-col'!$K$9+E174*'c design-col'!$K$10+E175*'c design-col'!$K$11","v":259.73080135369997},{"$f":"(F170*'c design-col'!$K$6)+(F171*'c design-col'!$K$7)+F172*'c design-col'!$K$8+F173*'c design-col'!$K$9+F174*'c design-col'!$K$10+F175*'c design-col'!$K$11","v":282.70205329129993},{"$f":"(G170*'c design-col'!$K$6)+(G171*'c design-col'!$K$7)+G172*'c design-col'!$K$8+G173*'c design-col'!$K$9+G174*'c design-col'!$K$10+G175*'c design-col'!$K$11","v":317.96491126329994},{"$f":"(H170*'c design-col'!$K$6)+(H171*'c design-col'!$K$7)+H172*'c design-col'!$K$8+H173*'c design-col'!$K$9+H174*'c design-col'!$K$10+H175*'c design-col'!$K$11","v":361.07758314859996},{"$f":"(I170*'c design-col'!$K$6)+(I171*'c design-col'!$K$7)+I172*'c design-col'!$K$8+I173*'c design-col'!$K$9+I174*'c design-col'!$K$10+I175*'c design-col'!$K$11","v":390.95845360379997},{"$f":"(J170*'c design-col'!$K$6)+(J171*'c design-col'!$K$7)+J172*'c design-col'!$K$8+J173*'c design-col'!$K$9+J174*'c design-col'!$K$10+J175*'c design-col'!$K$11","v":422.55567949099992},{"$f":"(K170*'c design-col'!$K$6)+(K171*'c design-col'!$K$7)+K172*'c design-col'!$K$8+K173*'c design-col'!$K$9+K174*'c design-col'!$K$10+K175*'c design-col'!$K$11","v":456.7683077529},{"$f":"(L170*'c design-col'!$K$6)+(L171*'c design-col'!$K$7)+L172*'c design-col'!$K$8+L173*'c design-col'!$K$9+L174*'c design-col'!$K$10+L175*'c design-col'!$K$11","v":511.13289710379991},{"$f":"(M170*'c design-col'!$K$6)+(M171*'c design-col'!$K$7)+M172*'c design-col'!$K$8+M173*'c design-col'!$K$9+M174*'c design-col'!$K$10+M175*'c design-col'!$K$11","v":582.08460397049987},{"$f":"(N170*'c design-col'!$K$6)+(N171*'c design-col'!$K$7)+N172*'c design-col'!$K$8+N173*'c design-col'!$K$9+N174*'c design-col'!$K$10+N175*'c design-col'!$K$11","v":691.50099067679992},{"$f":"(O170*'c design-col'!$K$6)+(O171*'c design-col'!$K$7)+O172*'c design-col'!$K$8+O173*'c design-col'!$K$9+O174*'c design-col'!$K$10+O175*'c design-col'!$K$11","v":834.11139935879987},{"$f":"(P170*'c design-col'!$K$6)+(P171*'c design-col'!$K$7)+P172*'c design-col'!$K$8+P173*'c design-col'!$K$9+P174*'c design-col'!$K$10+P175*'c design-col'!$K$11","v":1027.2861427136997},{"$f":"(Q170*'c design-col'!$K$6)+(Q171*'c design-col'!$K$7)+Q172*'c design-col'!$K$8+Q173*'c design-col'!$K$9+Q174*'c design-col'!$K$10+Q175*'c design-col'!$K$11","v":1306.2597596997998}]
["ECO2/tonne",{"$f":"B177/B176","v":8.1887332113869851E-2},{"$f":"C177/C176","v":9.1439282416224316E-2},{"$f":"D177/D176","v":0.1012856363966196},{"$f":"E177/E176","v":0.11113855428057337},{"$f":"F177/F176","v":0.12101971459387839},{"$f":"G177/G176","v":0.13611511612298799},{"$f":"H177/H176","v":0.15457088319717463},{"$f":"I177/I176","v":0.1672907375283697},{"$f":"J177/J176","v":0.18088856142594176},{"$f":"K177/K176","v":0.19553437831887843},{"$f":"L177/L176","v":0.21871326363020963},{"$f":"M177/M176","v":0.24918005306956331},{"$f":"N177/N176","v":0.29601925970753423},{"$f":"O177/O176","v":0.35706823602688353},{"$f":"P177/P176","v":0.44742427818540931},{"$f":"Q177/Q176","v":0.55918654096738007}]
["ECO2 / m3 / Mpa",{"$f":"B177/B169","v":23.911100977249998},{"$f":"C177/C169","v":17.800180310358332},14.79403326618125,12.986540067684999,11.308082131651997,10.598830375443331,10.316502375674284,9.7739613400949992,9.3901262109111094,9.1353661550579996,9.2933254018872713,9.7014100661749971,9.8785855810971412,10.426392491984998,11.414290474596664,13.062597596997998]
["ECO2 / tonne / Mpa",{"$f":"B178/B169","v":1.0235916514233731E-2},{"$f":"C178/C169","v":7.6199402013520266E-3},6.3303522747887248E-3,5.5569277140286684E-3,4.8407885837551358E-3,4.5371705374329333E-3,4.4163109484907041E-3,4.1822684382092426E-3,4.0197458094653723E-3,3.9106875663775685E-3,3.976604793276539E-3,4.1530008844927217E-3,4.2288465672504893E-3,4.4633529503360445E-3,4.9713808687267703E-3,5.5918654096738006E-3]
[]
["0% PFA, SP"]
["30-60",8,12,16,20,25,30,35,40,45,50,55,60,70,80,90,100]
["Water content",162,162,162,162,162,162,162,162,162,162,162,162,162,162,162,162]
["Cement content",178,201,224,247,271,307,351,381,414,449,505,578,691,837,1036,1323]
["PFA content",0,0,0,0,0,0,0,0,0,0,0,0,0,0,0,0]
["Fine Agg",886,834,792,757,725,686,645,622,592,576,545,508,459,403,336,247]
["Coarse Agg",1131,1160,1179,1191,1198,1202,1198,1192,1182,1170,1146,1109,1045,955,824,626]
["Plasticiser dosage",0.7,0.8,0.9,1,1.1000000000000001,1.2,1.4,1.5,1.7,1.8,2,2.2999999999999998,2.8,3.3,4.0999999999999996,5.3]
["Concrete",{"$f":"B184+B185+B186+B187+B188+B189","v":2357.6999999999998},2357.8000000000002,2357.9,2358,2357.1,2358.1999999999998,2357.4,2358.5,2351.6999999999998,2358.8000000000002,2360,2359.3000000000002,2359.8000000000002,2360.3000000000002,2362.1,2363.3000000000002]
["ECO2 / m3",{"$f":"(B184*'c design-col'!$K$6)+(B185*'c design-col'!$K$7)+B186*'c design-col'!$K$8+B187*'c design-col'!$K$9+B188*'c design-col'!$K$10+B189*'c design-col'!$K$11","v":174.07738671219997},{"$f":"(C184*'c design-col'!$K$6)+(C185*'c design-col'!$K$7)+C186*'c design-col'!$K$8+C187*'c design-col'!$K$9+C188*'c design-col'!$K$10+C189*'c design-col'!$K$11","v":194.65922366379999},{"$f":"(D184*'c design-col'!$K$6)+(D185*'c design-col'!$K$7)+D186*'c design-col'!$K$8+D187*'c design-col'!$K$9+D188*'c design-col'!$K$10+D189*'c design-col'!$K$11","v":215.1356492024},{"$f":"(E184*'c design-col'!$K$6)+(E185*'c design-col'!$K$7)+E186*'c design-col'!$K$8+E187*'c design-col'!$K$9+E188*'c design-col'!$K$10+E189*'c design-col'!$K$11","v":235.53828675189999},{"$f":"(F184*'c design-col'!$K$6)+(F185*'c design-col'!$K$7)+F186*'c design-col'!$K$8+F187*'c design-col'!$K$9+F188*'c design-col'!$K$10+F189*'c design-col'!$K$11","v":256.76747859349996},{"$f":"(G184*'c design-col'!$K$6)+(G185*'c design-col'!$K$7)+G186*'c design-col'!$K$8+G187*'c design-col'!$K$9+G188*'c design-col'!$K$10+G189*'c design-col'!$K$11","v":288.54852730419992},{"$f":"(H184*'c design-col'!$K$6)+(H185*'c design-col'!$K$7)+H186*'c design-col'!$K$8+H187*'c design-col'!$K$9+H188*'c design-col'!$K$10+H189*'c design-col'!$K$11","v":327.2931960974999},{"$f":"(I184*'c design-col'!$K$6)+(I185*'c design-col'!$K$7)+I186*'c design-col'!$K$8+I187*'c design-col'!$K$9+I188*'c design-col'!$K$10+I189*'c design-col'!$K$11","v":353.67940469939992},{"$f":"(J184*'c design-col'!$K$6)+(J185*'c design-col'!$K$7)+J186*'c design-col'!$K$8+J187*'c design-col'!$K$9+J188*'c design-col'!$K$10+J189*'c design-col'!$K$11","v":382.64967199839998},{"$f":"(K184*'c design-col'!$K$6)+(K185*'c design-col'!$K$7)+K186*'c design-col'!$K$8+K187*'c design-col'!$K$9+K188*'c design-col'!$K$10+K189*'c design-col'!$K$11","v":413.39435970319994},{"$f":"(L184*'c design-col'!$K$6)+(L185*'c design-col'!$K$7)+L186*'c design-col'!$K$8+L187*'c design-col'!$K$9+L188*'c design-col'!$K$10+L189*'c design-col'!$K$11","v":462.51168596349993},{"$f":"(M184*'c design-col'!$K$6)+(M185*'c design-col'!$K$7)+M186*'c design-col'!$K$8+M187*'c design-col'!$K$9+M188*'c design-col'!$K$10+M189*'c design-col'!$K$11","v":526.47406964359993},{"$f":"(N184*'c design-col'!$K$6)+(N185*'c design-col'!$K$7)+N186*'c design-col'!$K$8+N187*'c design-col'!$K$9+N188*'c design-col'!$K$10+N189*'c design-col'!$K$11","v":625.41701297129998},{"$f":"(O184*'c design-col'!$K$6)+(O185*'c design-col'!$K$7)+O186*'c design-col'!$K$8+O187*'c design-col'!$K$9+O188*'c design-col'!$K$10+O189*'c design-col'!$K$11","v":753.17774445209977},{"$f":"(P184*'c design-col'!$K$6)+(P185*'c design-col'!$K$7)+P186*'c design-col'!$K$8+P187*'c design-col'!$K$9+P188*'c design-col'!$K$10+P189*'c design-col'!$K$11","v":927.23188896319994},{"$f":"(Q184*'c design-col'!$K$6)+(Q185*'c design-col'!$K$7)+Q186*'c design-col'!$K$8+Q187*'c design-col'!$K$9+Q188*'c design-col'!$K$10+Q189*'c design-col'!$K$11","v":1178.1557551748999}]
["ECO2/tonne",{"$f":"B191/B190","v":7.383356097561182E-2},{"$f":"C191/C190","v":8.2559684309016876E-2},{"$f":"D191/D190","v":9.1240361848424448E-2},{"$f":"E191/E190","v":9.9889010496988964E-2},{"$f":"F191/F190","v":0.10893363819672477},{"$f":"G191/G190","v":0.122359650285896},{"$f":"H191/H190","v":0.13883651314902007},{"$f":"I191/I190","v":0.14995946775467456},{"$f":"J191/J190","v":0.16271194114827572},{"$f":"K191/K190","v":0.17525621489876203},{"$f":"L191/L190","v":0.19597952795063556},{"$f":"M191/M190","v":0.22314842099080232},{"$f":"N191/N190","v":0.26502966902758707},{"$f":"O191/O190","v":0.31910254817273215},{"$f":"P191/P190","v":0.39254556918132172},{"$f":"Q191/Q190","v":0.49852145524262675}]
["ECO2 / m3 / Mpa",{"$f":"B191/B183","v":21.759673339024996},{"$f":"C191/C183","v":16.221601971983333},13.44597807515,11.776914337594999,10.270699143739998,9.6182842434733313,9.3512341742142837,8.8419851174849988,8.5033260444088885,8.2678871940639986,8.4093033811545439,8.7745678273933319,8.9345287567328562,9.4147218056512472,10.302576544035555,11.781557551749]
["ECO2 / tonne / Mpa",{"$f":"B192/B183","v":9.2291951219514775E-3},{"$f":"C192/C183","v":6.8799736924180727E-3},5.702522615526528E-3,4.9944505248494479E-3,4.357345527868991E-3,4.078655009529867E-3,3.9667575185434309E-3,3.7489866938668639E-3,3.6158209144061273E-3,3.5051242979752405E-3,3.56326414455701E-3,3.7191403498467051E-3,3.7861381289655293E-3,3.9887818521591517E-3,4.3616174353480188E-3,4.9852145524262679E-3]
[]
["20% PFA, No SP"]
["30-60",8,12,16,20,25,30,35,40,45,50,55,60,70,80,90,100]
["Water content",170,170,170,170,170,170,170,170,170,170,170,170,170,170,170,170]
["Cement content",174,196,219,241,265,299,343,372,404,439,493,564,674,817,1011,1291]
["PFA content",43,49,55,60,66,75,86,93,101,110,123,141,169,204,253,323]
["Fine Agg",861,809,766,729,696,655,612,587,562,538,503,464,407,343,265,159]
["Coarse Agg",1100,1124,1139,1147,1151,1148,1137,1126,1110,1092,1059,1010,928,813,649,404]
["Plasticiser dosage"]
["Concrete",{"$f":"B198+B199+B200+B201+B202","v":2348},2348,2349,2347,2348,2347,2348,2348,2347,2349,2348,2349,2348,2347,2348,2347]
["ECO2 / m3",{"$f":"(B198*'c design-col'!$K$6)+(B199*'c design-col'!$K$7)+B200*'c design-col'!$K$8+B201*'c design-col'!$K$9+B202*'c design-col'!$K$10+B203*'c design-col'!$K$11","v":171.25463485269998},{"$f":"(C198*'c design-col'!$K$6)+(C199*'c design-col'!$K$7)+C200*'c design-col'!$K$8+C201*'c design-col'!$K$9+C202*'c design-col'!$K$10+C203*'c design-col'!$K$11","v":191.05032542429998},{"$f":"(D198*'c design-col'!$K$6)+(D199*'c design-col'!$K$7)+D200*'c design-col'!$K$8+D201*'c design-col'!$K$9+D202*'c design-col'!$K$10+D203*'c design-col'!$K$11","v":211.63502862419998},{"$f":"(E198*'c design-col'!$K$6)+(E199*'c design-col'!$K$7)+E200*'c design-col'!$K$8+E201*'c design-col'!$K$9+E202*'c design-col'!$K$10+E203*'c design-col'!$K$11","v":231.23274948429997},{"$f":"(F198*'c design-col'!$K$6)+(F199*'c design-col'!$K$7)+F200*'c design-col'!$K$8+F201*'c design-col'!$K$9+F202*'c design-col'!$K$10+F203*'c design-col'!$K$11","v":252.58307157919998},{"$f":"(G198*'c design-col'!$K$6)+(G199*'c design-col'!$K$7)+G200*'c design-col'!$K$8+G201*'c design-col'!$K$9+G202*'c design-col'!$K$10+G203*'c design-col'!$K$11","v":282.74476292449998},{"$f":"(H198*'c design-col'!$K$6)+(H199*'c design-col'!$K$7)+H200*'c design-col'!$K$8+H201*'c design-col'!$K$9+H202*'c design-col'!$K$10+H203*'c design-col'!$K$11","v":321.69183963239999},{"$f":"(I198*'c design-col'!$K$6)+(I199*'c design-col'!$K$7)+I200*'c design-col'!$K$8+I201*'c design-col'!$K$9+I202*'c design-col'!$K$10+I203*'c design-col'!$K$11","v":347.3142789529},{"$f":"(J198*'c design-col'!$K$6)+(J199*'c design-col'!$K$7)+J200*'c design-col'!$K$8+J201*'c design-col'!$K$9+J202*'c design-col'!$K$10+J203*'c design-col'!$K$11","v":375.55110401339994},{"$f":"(K198*'c design-col'!$K$6)+(K199*'c design-col'!$K$7)+K200*'c design-col'!$K$8+K201*'c design-col'!$K$9+K202*'c design-col'!$K$10+K203*'c design-col'!$K$11","v":406.44318404059999},{"$f":"(L198*'c design-col'!$K$6)+(L199*'c design-col'!$K$7)+L200*'c design-col'!$K$8+L201*'c design-col'!$K$9+L202*'c design-col'!$K$10+L203*'c design-col'!$K$11","v":454.01882433009996},{"$f":"(M198*'c design-col'!$K$6)+(M199*'c design-col'!$K$7)+M200*'c design-col'!$K$8+M201*'c design-col'!$K$9+M202*'c design-col'!$K$10+M203*'c design-col'!$K$11","v":516.54058664479999},{"$f":"(N198*'c design-col'!$K$6)+(N199*'c design-col'!$K$7)+N200*'c design-col'!$K$8+N201*'c design-col'!$K$9+N202*'c design-col'!$K$10+N203*'c design-col'!$K$11","v":613.33804041089979},{"$f":"(O198*'c design-col'!$K$6)+(O199*'c design-col'!$K$7)+O200*'c design-col'!$K$8+O201*'c design-col'!$K$9+O202*'c design-col'!$K$10+O203*'c design-col'!$K$11","v":739.05231418609992},{"$f":"(P198*'c design-col'!$K$6)+(P199*'c design-col'!$K$7)+P200*'c design-col'!$K$8+P201*'c design-col'!$K$9+P202*'c design-col'!$K$10+P203*'c design-col'!$K$11","v":909.56047854349993},{"$f":"(Q198*'c design-col'!$K$6)+(Q199*'c design-col'!$K$7)+Q200*'c design-col'!$K$8+Q201*'c design-col'!$K$9+Q202*'c design-col'!$K$10+Q203*'c design-col'!$K$11","v":1155.5437917293}]
["ECO2/tonne",{"$f":"B205/B204","v":7.2936386223466765E-2},{"$f":"C205/C204","v":8.1367259550383292E-2},{"$f":"D205/D204","v":9.0095797626309052E-2},{"$f":"E205/E204","v":9.8522688318832541E-2},{"$f":"F205/F204","v":0.10757371021260646},{"$f":"G205/G204","v":0.1204707127927141},{"$f":"H205/H204","v":0.13700674601039181},{"$f":"I205/I204","v":0.14791919887261498},{"$f":"J205/J204","v":0.16001325266868341},{"$f":"K205/K204","v":0.17302817541106855},{"$f":"L205/L204","v":0.19336406487653321},{"$f":"M205/M204","v":0.21989807860570454},{"$f":"N205/N204","v":0.2612172233436541},{"$f":"O205/O204","v":0.31489233667920746},{"$f":"P205/P204","v":0.38737669443931},{"$f":"Q205/Q204","v":0.49234929345091605}]
["ECO2 / m3 / Mpa",{"$f":"B205/B197","v":21.406829356587497},{"$f":"C205/C197","v":15.920860452024998},13.227189289012498,11.561637474214999,10.103322863168,9.4248254308166661,9.1911954180685704,8.6828569738224992,8.3455800891866652,8.1288636808119996,8.2548877150927265,8.6090097774133323,8.7619720058699979,9.2381539273262483,10.106227539372222,11.555437917293]
["ECO2 / tonne / Mpa",{"$f":"B206/B197","v":9.1170482779333456E-3},{"$f":"C206/C197","v":6.7806049625319413E-3},5.6309873516443157E-3,4.926134415941627E-3,4.3029484085042582E-3,4.0156904264238031E-3,3.9144784574397656E-3,3.6979799718153744E-3,3.5558500593040757E-3,3.4605635082213711E-3,3.5157102704824221E-3,3.6649679767617421E-3,3.7316746191950584E-3,3.9361542084900931E-3,4.304185493770111E-3,4.9234929345091608E-3]
[]
["20% PFA, SP"]
["30-60",8,12,16,20,25,30,35,40,45,50,55,60,70,80,90,100]
["Water content",153,153,153,153,153,153,153,153,153,153,153,153,153,153,153,153]
["Cement content",156,177,197,217,238,269,308,335,364,395,443,508,607,735,910,1162]
["PFA content",39,44,49,54,60,67,77,84,91,99,111,127,152,184,227,291]
["Fine Agg",886,834,791,755,723,682,640,615,592,568,535,496,444,384,312,215]
["Coarse Agg",1132,1159,1177,1188,1194,1195,1189,1180,1168,1153,1125,1083,1012,911,765,546]
["Plasticiser dosage",0.88,0.9,1,1.1000000000000001,1.2,1.3,1.5,1.7,1.8,2,2.2000000000000002,2.5,3,3.7,4.5,5.8]
["Concrete",{"$f":"B212+B213+B214+B215+B216+B217","v":2366.88},2367.9,2368,2368.1,2369.1999999999998,2367.3000000000002,2368.5,2368.6999999999998,2369.8000000000002,2370,2369.1999999999998,2369.5,2371,2370.6999999999998,2371.5,2372.8000000000002]
["ECO2 / m3",{"$f":"(B212*'c design-col'!$K$6)+(B213*'c design-col'!$K$7)+B214*'c design-col'!$K$8+B215*'c design-col'!$K$9+B216*'c design-col'!$K$10+B217*'c design-col'!$K$11","v":155.68881644019999},{"$f":"(C212*'c design-col'!$K$6)+(C213*'c design-col'!$K$7)+C214*'c design-col'!$K$8+C215*'c design-col'!$K$9+C216*'c design-col'!$K$10+C217*'c design-col'!$K$11","v":174.61218199179996},{"$f":"(D212*'c design-col'!$K$6)+(D213*'c design-col'!$K$7)+D214*'c design-col'!$K$8+D215*'c design-col'!$K$9+D216*'c design-col'!$K$10+D217*'c design-col'!$K$11","v":192.5567947877},{"$f":"(E212*'c design-col'!$K$6)+(E213*'c design-col'!$K$7)+E214*'c design-col'!$K$8+E215*'c design-col'!$K$9+E216*'c design-col'!$K$10+E217*'c design-col'!$K$11","v":210.42761959449996},{"$f":"(F212*'c design-col'!$K$6)+(F213*'c design-col'!$K$7)+F214*'c design-col'!$K$8+F215*'c design-col'!$K$9+F216*'c design-col'!$K$10+F217*'c design-col'!$K$11","v":229.15431014409998},{"$f":"(G212*'c design-col'!$K$6)+(G213*'c design-col'!$K$7)+G214*'c design-col'!$K$8+G215*'c design-col'!$K$9+G216*'c design-col'!$K$10+G217*'c design-col'!$K$11","v":256.66176367739996},{"$f":"(H212*'c design-col'!$K$6)+(H213*'c design-col'!$K$7)+H214*'c design-col'!$K$8+H215*'c design-col'!$K$9+H216*'c design-col'!$K$10+H217*'c design-col'!$K$11","v":291.22900133600001},{"$f":"(I212*'c design-col'!$K$6)+(I213*'c design-col'!$K$7)+I214*'c design-col'!$K$8+I215*'c design-col'!$K$9+I216*'c design-col'!$K$10+I217*'c design-col'!$K$11","v":315.10938108049999},{"$f":"(J212*'c design-col'!$K$6)+(J213*'c design-col'!$K$7)+J214*'c design-col'!$K$8+J215*'c design-col'!$K$9+J216*'c design-col'!$K$10+J217*'c design-col'!$K$11","v":340.72359123039996},{"$f":"(K212*'c design-col'!$K$6)+(K213*'c design-col'!$K$7)+K214*'c design-col'!$K$8+K215*'c design-col'!$K$9+K216*'c design-col'!$K$10+K217*'c design-col'!$K$11","v":368.09169847360005},{"$f":"(L212*'c design-col'!$K$6)+(L213*'c design-col'!$K$7)+L214*'c design-col'!$K$8+L215*'c design-col'!$K$9+L216*'c design-col'!$K$10+L217*'c design-col'!$K$11","v":410.40592826449995},{"$f":"(M212*'c design-col'!$K$6)+(M213*'c design-col'!$K$7)+M214*'c design-col'!$K$8+M215*'c design-col'!$K$9+M216*'c design-col'!$K$10+M217*'c design-col'!$K$11","v":467.66036288319992},{"$f":"(N212*'c design-col'!$K$6)+(N213*'c design-col'!$K$7)+N214*'c design-col'!$K$8+N215*'c design-col'!$K$9+N216*'c design-col'!$K$10+N217*'c design-col'!$K$11","v":554.80704311479997},{"$f":"(O212*'c design-col'!$K$6)+(O213*'c design-col'!$K$7)+O214*'c design-col'!$K$8+O215*'c design-col'!$K$9+O216*'c design-col'!$K$10+O217*'c design-col'!$K$11","v":667.37125912079989},{"$f":"(P212*'c design-col'!$K$6)+(P213*'c design-col'!$K$7)+P214*'c design-col'!$K$8+P215*'c design-col'!$K$9+P216*'c design-col'!$K$10+P217*'c design-col'!$K$11","v":821.16886789839998},{"$f":"(Q212*'c design-col'!$K$6)+(Q213*'c design-col'!$K$7)+Q214*'c design-col'!$K$8+Q215*'c design-col'!$K$9+Q216*'c design-col'!$K$10+Q217*'c design-col'!$K$11","v":1042.5964370925001}]
["ECO2/tonne",{"$f":"B219/B218","v":6.577807765505643E-2},{"$f":"C219/C218","v":7.3741366608302689E-2},{"$f":"D219/D218","v":8.1316214015076008E-2},{"$f":"E219/E218","v":8.8859262528820565E-2},{"$f":"F219/F218","v":9.6722231193694067E-2},{"$f":"G219/G218","v":0.10841961883893041},{"$f":"H219/H218","v":0.12295925747772853},{"$f":"I219/I218","v":0.1330305150844345},{"$f":"J219/J218","v":0.1437773614779306},{"$f":"K219/K218","v":0.15531295294244729},{"$f":"L219/L218","v":0.17322553109256289},{"$f":"M219/M218","v":0.19736668617142855},{"$f":"N219/N218","v":0.23399706584344157},{"$f":"O219/O218","v":0.28150810272105281},{"$f":"P219/P218","v":0.3462655989451402},{"$f":"Q219/Q218","v":0.43939499203156607}]
["ECO2 / m3 / Mpa",{"$f":"B219/B211","v":19.461102055024998},{"$f":"C219/C211","v":14.55101516598333},12.03479967423125,10.521380979724999,9.1661724057639997,8.5553921225799989,8.3208286095999995,7.8777345270124997,7.5716353606755549,7.3618339694720012,7.4619259684454535,7.7943393813866653,7.9258149016399999,8.3421407390099986,9.1240985322044441,10.425964370925001]
["ECO2 / tonne / Mpa",{"$f":"B220/B211","v":8.2222597068820538E-3},{"$f":"C220/C211","v":6.1451138840252243E-3},5.0822633759422505E-3,4.4429631264410281E-3,3.8688892477477628E-3,3.6139872946310135E-3,3.5131216422208148E-3,3.3257628771108626E-3,3.1950524772873467E-3,3.1062590588489458E-3,3.1495551107738706E-3,3.2894447695238091E-3,3.3428152263348795E-3,3.5188512840131601E-3,3.8473955438348912E-3,4.3939499203156608E-3]
[]
["40% PFA, No SP"]
["30--60",8,12,16,20,25,30,35,40,45,50,55,60,70,80,90,100]
["Water content",155,155,155,155,155,155,155,155,155,155,155,155,155,155,155,155]
["Cement content",142,160,178,197,216,245,280,304,330,358,402,461,551,667,826,1055]
["PFA content",95,107,119,131,144,163,187,203,220,239,268,307,367,445,550,703]
["Fine Agg",867,813,769,731,697,655,610,584,558,532,496,453,394,326,241,128]
["Coarse Agg",1107,1130,1143,1150,1152,1148,1133,1119,1102,1081,1043,989,898,772,592,324]
["Plasticiser dosage"]
["Concrete",{"$f":"B226+B227+B228+B229+B230","v":2366},2365,2364,2364,2364,2366,2365,2365,2365,2365,2364,2365,2365,2365,2364,2365]
["ECO2 / m3",{"$f":"(B226*'c design-col'!$K$6)+(B227*'c design-col'!$K$7)+B228*'c design-col'!$K$8+B229*'c design-col'!$K$9+B230*'c design-col'!$K$10+B231*'c design-col'!$K$11","v":144.46321890090002},{"$f":"(C226*'c design-col'!$K$6)+(C227*'c design-col'!$K$7)+C228*'c design-col'!$K$8+C229*'c design-col'!$K$9+C230*'c design-col'!$K$10+C231*'c design-col'!$K$11","v":160.86790237909997},{"$f":"(D226*'c design-col'!$K$6)+(D227*'c design-col'!$K$7)+D228*'c design-col'!$K$8+D229*'c design-col'!$K$9+D230*'c design-col'!$K$10+D231*'c design-col'!$K$11","v":177.16717444429997},{"$f":"(E226*'c design-col'!$K$6)+(E227*'c design-col'!$K$7)+E228*'c design-col'!$K$8+E229*'c design-col'!$K$9+E230*'c design-col'!$K$10+E231*'c design-col'!$K$11","v":194.28708256169998},{"$f":"(F226*'c design-col'!$K$6)+(F227*'c design-col'!$K$7)+F228*'c design-col'!$K$8+F229*'c design-col'!$K$9+F230*'c design-col'!$K$10+F231*'c design-col'!$K$11","v":211.37897352189998},{"$f":"(G226*'c design-col'!$K$6)+(G227*'c design-col'!$K$7)+G228*'c design-col'!$K$8+G229*'c design-col'!$K$9+G230*'c design-col'!$K$10+G231*'c design-col'!$K$11","v":237.37608632449997},{"$f":"(H226*'c design-col'!$K$6)+(H227*'c design-col'!$K$7)+H228*'c design-col'!$K$8+H229*'c design-col'!$K$9+H230*'c design-col'!$K$10+H231*'c design-col'!$K$11","v":268.66318366299998},{"$f":"(I226*'c design-col'!$K$6)+(I227*'c design-col'!$K$7)+I228*'c design-col'!$K$8+I229*'c design-col'!$K$9+I230*'c design-col'!$K$10+I231*'c design-col'!$K$11","v":290.0683392567999},{"$f":"(J226*'c design-col'!$K$6)+(J227*'c design-col'!$K$7)+J228*'c design-col'!$K$8+J229*'c design-col'!$K$9+J230*'c design-col'!$K$10+J231*'c design-col'!$K$11","v":313.22970287459998},{"$f":"(K226*'c design-col'!$K$6)+(K227*'c design-col'!$K$7)+K228*'c design-col'!$K$8+K229*'c design-col'!$K$9+K230*'c design-col'!$K$10+K231*'c design-col'!$K$11","v":338.16142192439986},{"$f":"(L226*'c design-col'!$K$6)+(L227*'c design-col'!$K$7)+L228*'c design-col'!$K$8+L229*'c design-col'!$K$9+L230*'c design-col'!$K$10+L231*'c design-col'!$K$11","v":377.26365880319992},{"$f":"(M226*'c design-col'!$K$6)+(M227*'c design-col'!$K$7)+M228*'c design-col'!$K$8+M229*'c design-col'!$K$9+M230*'c design-col'!$K$10+M231*'c design-col'!$K$11","v":429.67231755509994},{"$f":"(N226*'c design-col'!$K$6)+(N227*'c design-col'!$K$7)+N228*'c design-col'!$K$8+N229*'c design-col'!$K$9+N230*'c design-col'!$K$10+N231*'c design-col'!$K$11","v":509.53581709179991},{"$f":"(O226*'c design-col'!$K$6)+(O227*'c design-col'!$K$7)+O228*'c design-col'!$K$8+O229*'c design-col'!$K$9+O230*'c design-col'!$K$10+O231*'c design-col'!$K$11","v":612.3956282521998},{"$f":"(P226*'c design-col'!$K$6)+(P227*'c design-col'!$K$7)+P228*'c design-col'!$K$8+P229*'c design-col'!$K$9+P230*'c design-col'!$K$10+P231*'c design-col'!$K$11","v":753.25806948269997},{"$f":"(Q226*'c design-col'!$K$6)+(Q227*'c design-col'!$K$7)+Q228*'c design-col'!$K$8+Q229*'c design-col'!$K$9+Q230*'c design-col'!$K$10+Q231*'c design-col'!$K$11","v":956.09256499759988}]
["ECO2/tonne",{"$f":"B233/B232","v":6.1057996154226551E-2},{"$f":"C233/C232","v":6.8020254705750516E-2},{"$f":"D233/D232","v":7.4943813216708954E-2},{"$f":"E233/E232","v":8.2185737124238573E-2},{"$f":"F233/F232","v":8.9415809442428079E-2},{"$f":"G233/G232","v":0.10032801619801351},{"$f":"H233/H232","v":0.1135996548257928},{"$f":"I233/I232","v":0.12265046057369974},{"$f":"J233/J232","v":0.13244384899560252},{"$f":"K233/K232","v":0.14298580208219866},{"$f":"L233/L232","v":0.15958699610964464},{"$f":"M233/M232","v":0.18167962687319236},{"$f":"N233/N232","v":0.21544854845319236},{"$f":"O233/O232","v":0.25894106902841429},{"$f":"P233/P232","v":0.31863708522956852},{"$f":"Q233/Q232","v":0.40426746934359403}]
["ECO2 / m3 / Mpa",{"$f":"B233/B225","v":18.057902362612502},{"$f":"C233/C225","v":13.405658531591664},11.072948402768748,9.7143541280849988,8.4551589408759984,7.9125362108166657,7.6760909617999999,7.2517084814199979,6.9606600638799998,6.7632284384879968,6.8593392509672713,7.1612052925849987,7.2790831013114277,7.6549453531524971,8.3695341053633321,9.5609256499759994]
["ECO2 / tonne / Mpa",{"$f":"B234/B225","v":7.6322495192783189E-3},{"$f":"C234/C225","v":5.6683545588125427E-3},4.6839883260443096E-3,4.1092868562119288E-3,3.5766323776971233E-3,3.3442672066004504E-3,3.2457044235940802E-3,3.0662615143424938E-3,2.9431966443467226E-3,2.859716041643973E-3,2.9015817474480842E-3,3.0279937812198727E-3,3.0778364064741764E-3,3.2367633628551788E-3,3.5404120581063168E-3,4.0426746934359402E-3]
[]
["40% PFA, SP"]
["30--60",8,12,16,20,25,30,35,40,45,50,55,60,70,80,90,100]
["Water content",139.5,139.5,139.5,139.5,139.5,139.5,139.5,139.5,139.5,139.5,139.5,139.5,139.5,139.5,139.5,139.5]
["Cement content",128,144,161,177,195,220,252,274,297,322,362,415,496,601,743,949]
["PFA content",85,96,107,118,130,147,168,182,198,215,241,277,330,400,495,633]
["Fine Agg",892,836,794,757,723,682,638,613,588,563,528,487,432,369,291,187]
["Coarse Agg",1139,1165,1181,1191,1195,1195,1185,1185,1161,1143,1112,1065,985,873,714,474]
["Plasticiser dosage",0.9,1,1.1000000000000001,1.2,1.3,1.5,1.7,1.8,2,2.1,2.4,2.8,3.3,4,5,6.3]
["Concrete",{"$f":"B240+B241+B242+B243+B244+B245","v":2384.4},2381.5,2383.6,2383.6999999999998,2383.8000000000002,2385,2384.1999999999998,2395.3000000000002,2385.5,2384.6,2384.9,2386.3000000000002,2385.8000000000002,2386.5,2387.5,2388.8000000000002]
["ECO2 / m3",{"$f":"(B240*'c design-col'!$K$6)+(B241*'c design-col'!$K$7)+B242*'c design-col'!$K$8+B243*'c design-col'!$K$9+B244*'c design-col'!$K$10+B245*'c design-col'!$K$11","v":132.27243219239998},{"$f":"(C240*'c design-col'!$K$6)+(C241*'c design-col'!$K$7)+C242*'c design-col'!$K$8+C243*'c design-col'!$K$9+C244*'c design-col'!$K$10+C245*'c design-col'!$K$11","v":146.91628526519997},{"$f":"(D240*'c design-col'!$K$6)+(D241*'c design-col'!$K$7)+D242*'c design-col'!$K$8+D243*'c design-col'!$K$9+D244*'c design-col'!$K$10+D245*'c design-col'!$K$11","v":162.34785562779999},{"$f":"(E240*'c design-col'!$K$6)+(E241*'c design-col'!$K$7)+E242*'c design-col'!$K$8+E243*'c design-col'!$K$9+E244*'c design-col'!$K$10+E245*'c design-col'!$K$11","v":176.82998479189999},{"$f":"(F240*'c design-col'!$K$6)+(F241*'c design-col'!$K$7)+F242*'c design-col'!$K$8+F243*'c design-col'!$K$9+F244*'c design-col'!$K$10+F245*'c design-col'!$K$11","v":193.03669855609996},{"$f":"(G240*'c design-col'!$K$6)+(G241*'c design-col'!$K$7)+G242*'c design-col'!$K$8+G243*'c design-col'!$K$9+G244*'c design-col'!$K$10+G245*'c design-col'!$K$11","v":215.49800261739998},{"$f":"(H240*'c design-col'!$K$6)+(H241*'c design-col'!$K$7)+H242*'c design-col'!$K$8+H243*'c design-col'!$K$9+H244*'c design-col'!$K$10+H245*'c design-col'!$K$11","v":244.11902670659995},{"$f":"(I240*'c design-col'!$K$6)+(I241*'c design-col'!$K$7)+I242*'c design-col'!$K$8+I243*'c design-col'!$K$9+I244*'c design-col'!$K$10+I245*'c design-col'!$K$11","v":263.88466475909996},{"$f":"(J240*'c design-col'!$K$6)+(J241*'c design-col'!$K$7)+J242*'c design-col'!$K$8+J243*'c design-col'!$K$9+J244*'c design-col'!$K$10+J245*'c design-col'!$K$11","v":284.27972402360001},{"$f":"(K240*'c design-col'!$K$6)+(K241*'c design-col'!$K$7)+K242*'c design-col'!$K$8+K243*'c design-col'!$K$9+K244*'c design-col'!$K$10+K245*'c design-col'!$K$11","v":306.54666412009999},{"$f":"(L240*'c design-col'!$K$6)+(L241*'c design-col'!$K$7)+L242*'c design-col'!$K$8+L243*'c design-col'!$K$9+L244*'c design-col'!$K$10+L245*'c design-col'!$K$11","v":342.12465055360002},{"$f":"(M240*'c design-col'!$K$6)+(M241*'c design-col'!$K$7)+M242*'c design-col'!$K$8+M243*'c design-col'!$K$9+M244*'c design-col'!$K$10+M245*'c design-col'!$K$11","v":389.24360503089997},{"$f":"(N240*'c design-col'!$K$6)+(N241*'c design-col'!$K$7)+N242*'c design-col'!$K$8+N243*'c design-col'!$K$9+N244*'c design-col'!$K$10+N245*'c design-col'!$K$11","v":461.11378538240001},{"$f":"(O240*'c design-col'!$K$6)+(O241*'c design-col'!$K$7)+O242*'c design-col'!$K$8+O243*'c design-col'!$K$9+O244*'c design-col'!$K$10+O245*'c design-col'!$K$11","v":554.22638182429989},{"$f":"(P240*'c design-col'!$K$6)+(P241*'c design-col'!$K$7)+P242*'c design-col'!$K$8+P243*'c design-col'!$K$9+P244*'c design-col'!$K$10+P245*'c design-col'!$K$11","v":680.0789035416999},{"$f":"(Q240*'c design-col'!$K$6)+(Q241*'c design-col'!$K$7)+Q242*'c design-col'!$K$8+Q243*'c design-col'!$K$9+Q244*'c design-col'!$K$10+Q245*'c design-col'!$K$11","v":862.55977474889994}]
["ECO2/tonne",{"$f":"B247/B246","v":5.5474095031202805E-2},{"$f":"C247/C246","v":6.1690650961662805E-2},{"$f":"D247/D246","v":6.8110360642641379E-2},{"$f":"E247/E246","v":7.4182986446239038E-2},{"$f":"F247/F246","v":8.0978563032175502E-2},{"$f":"G247/G246","v":9.0355556652997895E-2},{"$f":"H247/H246","v":0.10239033080555321},{"$f":"I247/I246","v":0.11016768870667555},{"$f":"J247/J246","v":0.11916986963890171},{"$f":"K247/K246","v":0.12855265626105009},{"$f":"L247/L246","v":0.1434545056621242},{"$f":"M247/M246","v":0.16311595567652848},{"$f":"N247/N246","v":0.19327428341956576},{"$f":"O247/O246","v":0.23223397520398067},{"$f":"P247/P246","v":0.28484980253055492},{"$f":"Q247/Q246","v":0.3610849693356078}]
["ECO2 / m3 / Mpa",{"$f":"B247/B239","v":16.534054024049997},{"$f":"C247/C239","v":12.243023772099997},10.146740976737499,8.8414992395949987,7.7214679422439989,7.1832667539133324,6.9748293344742844,6.5971166189774992,6.3173272005244447,6.1309332824020002,6.2204481918836363,6.4873934171816661,6.5873397911771434,6.927829772803749,7.556432261574443,8.6255977474889995]
["ECO2 / tonne / Mpa",{"$f":"B248/B239","v":6.9342618789003507E-3},{"$f":"C248/C239","v":5.1408875801385668E-3},4.2568975401650862E-3,3.709149322311952E-3,3.23914252128702E-3,3.011851888433263E-3,2.9254380230158061E-3,2.7541922176668888E-3,2.6482193253089268E-3,2.5710531252210018E-3,2.6082637393113491E-3,2.7185992612754747E-3,2.7610611917080821E-3,2.9029246900497585E-3,3.1649978058950548E-3,3.610849693356078E-3]
[]
[]
["0% PFA, No SP"]
["60-180",8,12,16,20,25,30,35,40,45,50,55,60,70,80,90,100]
["Water content",195,195,195,195,195,195,195,195,195,195,195,195,195,195,195,195]
["Cement content",214,242,269,297,326,369,422,459,498,541,607,696,831,1007,1247,1592]
["PFA content",0,0,0,0,0,0,0,0,0,0,0,0,0,0,0,0]
["Fine Agg",941,886,841,802,727,724,678,650,628,597,559,514,453,382,293,174]
["Coarse Agg",969,996,1014,1025,1030,1031,1024,1015,1002,986,957,914,839,735,584,358]
["Plasticiser dosage",0,0,0,0,0,0,0,0,0,0,0,0,0,0,0,0]
["Concrete",{"$f":"SUM(B255:B260)","v":2319},2319,2319,2319,2278,2319,2319,2319,2323,2319,2318,2319,2318,2319,2319,2319]
["ECO2 / m3",{"$f":"(B255*'c design-col'!$K$6)+(B256*'c design-col'!$K$7)+B257*'c design-col'!$K$8+B258*'c design-col'!$K$9+B259*'c design-col'!$K$10+B260*'c design-col'!$K$11","v":203.97517735669996},{"$f":"(C255*'c design-col'!$K$6)+(C256*'c design-col'!$K$7)+C257*'c design-col'!$K$8+C258*'c design-col'!$K$9+C259*'c design-col'!$K$10+C260*'c design-col'!$K$11","v":228.94378875219999},{"$f":"(D255*'c design-col'!$K$6)+(D256*'c design-col'!$K$7)+D257*'c design-col'!$K$8+D258*'c design-col'!$K$9+D259*'c design-col'!$K$10+D260*'c design-col'!$K$11","v":252.93595842669995},{"$f":"(E255*'c design-col'!$K$6)+(E256*'c design-col'!$K$7)+E257*'c design-col'!$K$8+E258*'c design-col'!$K$9+E259*'c design-col'!$K$10+E260*'c design-col'!$K$11","v":277.73591156139997},{"$f":"(F255*'c design-col'!$K$6)+(F256*'c design-col'!$K$7)+F257*'c design-col'!$K$8+F258*'c design-col'!$K$9+F259*'c design-col'!$K$10+F260*'c design-col'!$K$11","v":303.25941981889997},{"$f":"(G255*'c design-col'!$K$6)+(G256*'c design-col'!$K$7)+G257*'c design-col'!$K$8+G258*'c design-col'!$K$9+G259*'c design-col'!$K$10+G260*'c design-col'!$K$11","v":341.27230275879992},{"$f":"(H255*'c design-col'!$K$6)+(H256*'c design-col'!$K$7)+H257*'c design-col'!$K$8+H258*'c design-col'!$K$9+H259*'c design-col'!$K$10+H260*'c design-col'!$K$11","v":387.92180158259993},{"$f":"(I255*'c design-col'!$K$6)+(I256*'c design-col'!$K$7)+I257*'c design-col'!$K$8+I258*'c design-col'!$K$9+I259*'c design-col'!$K$10+I260*'c design-col'!$K$11","v":420.44507493499992},{"$f":"(J255*'c design-col'!$K$6)+(J256*'c design-col'!$K$7)+J257*'c design-col'!$K$8+J258*'c design-col'!$K$9+J259*'c design-col'!$K$10+J260*'c design-col'!$K$11","v":454.69857242359996},{"$f":"(K255*'c design-col'!$K$6)+(K256*'c design-col'!$K$7)+K257*'c design-col'!$K$8+K258*'c design-col'!$K$9+K259*'c design-col'!$K$10+K260*'c design-col'!$K$11","v":492.42824067989994},{"$f":"(L255*'c design-col'!$K$6)+(L256*'c design-col'!$K$7)+L257*'c design-col'!$K$8+L258*'c design-col'!$K$9+L259*'c design-col'!$K$10+L260*'c design-col'!$K$11","v":550.30395178529989},{"$f":"(M255*'c design-col'!$K$6)+(M256*'c design-col'!$K$7)+M257*'c design-col'!$K$8+M258*'c design-col'!$K$9+M259*'c design-col'!$K$10+M260*'c design-col'!$K$11","v":628.31285314780007},{"$f":"(N255*'c design-col'!$K$6)+(N256*'c design-col'!$K$7)+N257*'c design-col'!$K$8+N258*'c design-col'!$K$9+N259*'c design-col'!$K$10+N260*'c design-col'!$K$11","v":746.53210175510003},{"$f":"(O255*'c design-col'!$K$6)+(O256*'c design-col'!$K$7)+O257*'c design-col'!$K$8+O258*'c design-col'!$K$9+O259*'c design-col'!$K$10+O260*'c design-col'!$K$11","v":900.59470958739985},{"$f":"(P255*'c design-col'!$K$6)+(P256*'c design-col'!$K$7)+P257*'c design-col'!$K$8+P258*'c design-col'!$K$9+P259*'c design-col'!$K$10+P260*'c design-col'!$K$11","v":1110.5801450830998},{"$f":"(Q255*'c design-col'!$K$6)+(Q256*'c design-col'!$K$7)+Q257*'c design-col'!$K$8+Q258*'c design-col'!$K$9+Q259*'c design-col'!$K$10+Q260*'c design-col'!$K$11","v":1412.3399971577999}]
["ECO2/tonne",{"$f":"B262/B261","v":8.795824810551961E-2},{"$f":"C262/C261","v":9.8725221540405347E-2},{"$f":"D262/D261","v":0.10907113343109097},{"$f":"E262/E261","v":0.11976537799111685},{"$f":"F262/F261","v":0.13312529403814749},{"$f":"G262/G261","v":0.14716356306977141},{"$f":"H262/H261","v":0.16727977644786543},{"$f":"I262/I261","v":0.18130447388313925},{"$f":"J262/J261","v":0.19573765493913042},{"$f":"K262/K261","v":0.21234508006895211},{"$f":"L262/L261","v":0.23740463838882653},{"$f":"M262/M261","v":0.27094129070625272},{"$f":"N262/N261","v":0.3220587151661346},{"$f":"O262/O261","v":0.38835476911918926},{"$f":"P262/P261","v":0.47890476286463984},{"$f":"Q262/Q261","v":0.60902975297878392}]
["ECO2 / m3 / Mpa",{"$f":"B262/B254","v":25.496897169587495},{"$f":"C262/C254","v":19.078649062683333},15.808497401668747,13.886795578069998,12.130376792756,11.375743425293331,11.08348004521714,10.511126873374998,10.104412720524444,9.8485648135979993,10.005526396096361,10.471880885796669,10.664744310787142,11.257433869842497,12.33977938981222,14.123399971577999]
["ECO2 / tonne / Mpa",{"$f":"B263/B254","v":1.0994781013189951E-2},{"$f":"C263/C254","v":8.2271017950337789E-3},6.8169458394431856E-3,5.9882688995558427E-3,5.3250117615258998E-3,4.9054521023257133E-3,4.7794221842247268E-3,4.5326118470784809E-3,4.3497256653140092E-3,4.246901601379042E-3,4.3164479707059368E-3,4.5156881784375455E-3,4.6008387880876371E-3,4.8544346139898654E-3,5.3211640318293315E-3,6.0902975297878392E-3]
[]
["0% PFA, SP"]
["60-180",8,12,16,20,25,30,35,40,45,50,55,60,70,80,90,100]
["Water content",175.5,175.5,175.5,175.5,175.5,175.5,175.5,175.5,175.5,175.5,175.5,175.5,175.5,175.5,175.5,175.5]
["Cement content",193,218,243,268,294,332,380,413,448,487,547,626,748,907,1122,1433]
["PFA content",0,0,0,0,0,0,0,0,0,0,0,0,0,0,0,0]
["Fine Agg",792,917,872,833,799,756,711,685,659,633,597,555,497,431,349,240]
["Coarse Agg",1001,1031,1051,1065,1073,1078,1074,1068,1059,1046,1022,985,921,829,695,493]
["Plasticiser dosage",0.8,0.9,1,1.1000000000000001,1.2,1.3,1.5,1.7,1.8,1.9,2.2000000000000002,2.5,3,3.6,4.5,5.7]
["Concrete",{"$f":"B269+B270+B271+B272+B273+B274","v":2162.3000000000002},2342.4,2342.5,2342.6,2342.6999999999998,2342.8000000000002,2342,2343.1999999999998,2343.3000000000002,2343.4,2343.6999999999998,2344,2344.5,2346.1,2346,2347.1999999999998]
["ECO2 / m3",{"$f":"(B269*'c design-col'!$K$6)+(B270*'c design-col'!$K$7)+B271*'c design-col'!$K$8+B272*'c design-col'!$K$9+B273*'c design-col'!$K$10+B274*'c design-col'!$K$11","v":185.46101740639998},{"$f":"(C269*'c design-col'!$K$6)+(C270*'c design-col'!$K$7)+C271*'c design-col'!$K$8+C272*'c design-col'!$K$9+C273*'c design-col'!$K$10+C274*'c design-col'!$K$11","v":208.23259952389998},{"$f":"(D269*'c design-col'!$K$6)+(D270*'c design-col'!$K$7)+D271*'c design-col'!$K$8+D272*'c design-col'!$K$9+D273*'c design-col'!$K$10+D274*'c design-col'!$K$11","v":230.48270910240001},{"$f":"(E269*'c design-col'!$K$6)+(E270*'c design-col'!$K$7)+E271*'c design-col'!$K$8+E272*'c design-col'!$K$9+E273*'c design-col'!$K$10+E274*'c design-col'!$K$11","v":252.66957183309998},{"$f":"(F269*'c design-col'!$K$6)+(F270*'c design-col'!$K$7)+F271*'c design-col'!$K$8+F272*'c design-col'!$K$9+F273*'c design-col'!$K$10+F274*'c design-col'!$K$11","v":275.67475916530003},{"$f":"(G269*'c design-col'!$K$6)+(G270*'c design-col'!$K$7)+G271*'c design-col'!$K$8+G272*'c design-col'!$K$9+G273*'c design-col'!$K$10+G274*'c design-col'!$K$11","v":309.22718046520004},{"$f":"(H269*'c design-col'!$K$6)+(H270*'c design-col'!$K$7)+H271*'c design-col'!$K$8+H272*'c design-col'!$K$9+H273*'c design-col'!$K$10+H274*'c design-col'!$K$11","v":351.4981350557},{"$f":"(I269*'c design-col'!$K$6)+(I270*'c design-col'!$K$7)+I271*'c design-col'!$K$8+I272*'c design-col'!$K$9+I273*'c design-col'!$K$10+I274*'c design-col'!$K$11","v":380.52905852549998},{"$f":"(J269*'c design-col'!$K$6)+(J270*'c design-col'!$K$7)+J271*'c design-col'!$K$8+J272*'c design-col'!$K$9+J273*'c design-col'!$K$10+J274*'c design-col'!$K$11","v":411.28918949929994},{"$f":"(K269*'c design-col'!$K$6)+(K270*'c design-col'!$K$7)+K271*'c design-col'!$K$8+K272*'c design-col'!$K$9+K273*'c design-col'!$K$10+K274*'c design-col'!$K$11","v":445.5334417050999},{"$f":"(L269*'c design-col'!$K$6)+(L270*'c design-col'!$K$7)+L271*'c design-col'!$K$8+L272*'c design-col'!$K$9+L273*'c design-col'!$K$10+L274*'c design-col'!$K$11","v":498.17474283189995},{"$f":"(M269*'c design-col'!$K$6)+(M270*'c design-col'!$K$7)+M271*'c design-col'!$K$8+M272*'c design-col'!$K$9+M273*'c design-col'!$K$10+M274*'c design-col'!$K$11","v":567.42886665850006},{"$f":"(N269*'c design-col'!$K$6)+(N270*'c design-col'!$K$7)+N271*'c design-col'!$K$8+N272*'c design-col'!$K$9+N273*'c design-col'!$K$10+N274*'c design-col'!$K$11","v":674.30595302990002},{"$f":"(O269*'c design-col'!$K$6)+(O270*'c design-col'!$K$7)+O271*'c design-col'!$K$8+O272*'c design-col'!$K$9+O273*'c design-col'!$K$10+O274*'c design-col'!$K$11","v":813.50834303969987},{"$f":"(P269*'c design-col'!$K$6)+(P270*'c design-col'!$K$7)+P271*'c design-col'!$K$8+P272*'c design-col'!$K$9+P273*'c design-col'!$K$10+P274*'c design-col'!$K$11","v":1001.6313849342999},{"$f":"(Q269*'c design-col'!$K$6)+(Q270*'c design-col'!$K$7)+Q271*'c design-col'!$K$8+Q272*'c design-col'!$K$9+Q273*'c design-col'!$K$10+Q274*'c design-col'!$K$11","v":1273.6708013640002}]
["ECO2/tonne",{"$f":"B276/B275","v":8.5770252696850555E-2},{"$f":"C276/C275","v":8.8897113867785163E-2},{"$f":"D276/D275","v":9.839176482493063E-2},{"$f":"E276/E275","v":0.1078586066050969},{"$f":"F276/F275","v":0.11767394850612543},{"$f":"G276/G275","v":0.13199043045296227},{"$f":"H276/H275","v":0.15008460079235697},{"$f":"I276/I275","v":0.1623971741744196},{"$f":"J276/J275","v":0.17551708680036696},{"$f":"K276/K275","v":0.19012266011141926},{"$f":"L276/L275","v":0.21255909153556343},{"$f":"M276/M275","v":0.24207716154372869},{"$f":"N276/N275","v":0.28761183750475583},{"$f":"O276/O275","v":0.346749219146541},{"$f":"P276/P275","v":0.42695284950311163},{"$f":"Q276/Q275","v":0.5426341178271985}]
["ECO2 / m3 / Mpa",{"$f":"B276/B268","v":23.182627175799997},{"$f":"C276/C268","v":17.352716626991665},14.405169318900001,12.633478591654999,11.026990366612001,10.307572682173335,10.042803858734286,9.5132264631374994,9.1397597666511103,8.9106688341019975,9.0577225969436359,9.4571477776416675,9.6329421861414293,10.168854287996249,11.129237610381111,12.736708013640003]
["ECO2 / tonne / Mpa",{"$f":"B277/B268","v":1.0721281587106319E-2},{"$f":"C277/C268","v":7.40809282231543E-3},6.1494853015581644E-3,5.3929303302548449E-3,4.7069579402450176E-3,4.3996810150987425E-3,4.2881314512101991E-3,4.0599293543604901E-3,3.9003797066748213E-3,3.8024532022283854E-3,3.8647107551920625E-3,4.0346193590621452E-3,4.1087405357822264E-3,4.3343652393317625E-3,4.7439205500345739E-3,5.4263411782719852E-3]
[]
["20% PFA, No SP"]
["60-180",8,12,16,20,25,30,35,40,45,50,55,60,70,80,90,100]
["Water content",180,180,180,180,180,180,180,180,180,180,180,180,180,180,180,180]
["Cement content",184,208,231,255,280,317,363,394,428,464,521,597,714,865,1070,1367]
["PFA content",46,52,58,64,70,79,91,98,107,116,130,149,178,216,268,342]
["Fine Agg",949,893,847,807,771,726,678,650,622,594,555,508,443,368,273,146]
["Coarse Agg",977,1004,1020,1030,1035,1034,1025,1014,1000,982,950,902,821,707,545,301]
["Plasticiser dosage"]
["Concrete",{"$f":"B283+B284+B285+B286+B287","v":2336},2337,2336,2336,2336,2336,2337,2336,2337,2336,2336,2336,2336,2336,2336,2336]
["ECO2 / m3",{"$f":"(B283*'c design-col'!$K$6)+(B284*'c design-col'!$K$7)+B285*'c design-col'!$K$8+B286*'c design-col'!$K$9+B287*'c design-col'!$K$10+B288*'c design-col'!$K$11","v":178.80700269829998},{"$f":"(C283*'c design-col'!$K$6)+(C284*'c design-col'!$K$7)+C285*'c design-col'!$K$8+C286*'c design-col'!$K$9+C287*'c design-col'!$K$10+C288*'c design-col'!$K$11","v":200.3997710431},{"$f":"(D283*'c design-col'!$K$6)+(D284*'c design-col'!$K$7)+D285*'c design-col'!$K$8+D286*'c design-col'!$K$9+D287*'c design-col'!$K$10+D288*'c design-col'!$K$11","v":220.99039248289998},{"$f":"(E283*'c design-col'!$K$6)+(E284*'c design-col'!$K$7)+E285*'c design-col'!$K$8+E286*'c design-col'!$K$9+E287*'c design-col'!$K$10+E288*'c design-col'!$K$11","v":242.40164997489998},{"$f":"(F283*'c design-col'!$K$6)+(F284*'c design-col'!$K$7)+F285*'c design-col'!$K$8+F286*'c design-col'!$K$9+F287*'c design-col'!$K$10+F288*'c design-col'!$K$11","v":264.64177320969998},{"$f":"(G283*'c design-col'!$K$6)+(G284*'c design-col'!$K$7)+G285*'c design-col'!$K$8+G286*'c design-col'!$K$9+G287*'c design-col'!$K$10+G288*'c design-col'!$K$11","v":297.47157263619994},{"$f":"(H283*'c design-col'!$K$6)+(H284*'c design-col'!$K$7)+H285*'c design-col'!$K$8+H286*'c design-col'!$K$9+H287*'c design-col'!$K$10+H288*'c design-col'!$K$11","v":338.22756307459997},{"$f":"(I283*'c design-col'!$K$6)+(I284*'c design-col'!$K$7)+I285*'c design-col'!$K$8+I286*'c design-col'!$K$9+I287*'c design-col'!$K$10+I288*'c design-col'!$K$11","v":365.61083384299997},{"$f":"(J283*'c design-col'!$K$6)+(J284*'c design-col'!$K$7)+J285*'c design-col'!$K$8+J286*'c design-col'!$K$9+J287*'c design-col'!$K$10+J288*'c design-col'!$K$11","v":395.6611955354},{"$f":"(K283*'c design-col'!$K$6)+(K284*'c design-col'!$K$7)+K285*'c design-col'!$K$8+K286*'c design-col'!$K$9+K287*'c design-col'!$K$10+K288*'c design-col'!$K$11","v":427.42791265979997},{"$f":"(L283*'c design-col'!$K$6)+(L284*'c design-col'!$K$7)+L285*'c design-col'!$K$8+L286*'c design-col'!$K$9+L287*'c design-col'!$K$10+L288*'c design-col'!$K$11","v":477.68580843849992},{"$f":"(M283*'c design-col'!$K$6)+(M284*'c design-col'!$K$7)+M285*'c design-col'!$K$8+M286*'c design-col'!$K$9+M287*'c design-col'!$K$10+M288*'c design-col'!$K$11","v":544.64834623959996},{"$f":"(N283*'c design-col'!$K$6)+(N284*'c design-col'!$K$7)+N285*'c design-col'!$K$8+N286*'c design-col'!$K$9+N287*'c design-col'!$K$10+N288*'c design-col'!$K$11","v":647.65434129209984},{"$f":"(O283*'c design-col'!$K$6)+(O284*'c design-col'!$K$7)+O285*'c design-col'!$K$8+O286*'c design-col'!$K$9+O287*'c design-col'!$K$10+O288*'c design-col'!$K$11","v":780.50810490159995},{"$f":"(P283*'c design-col'!$K$6)+(P284*'c design-col'!$K$7)+P285*'c design-col'!$K$8+P286*'c design-col'!$K$9+P287*'c design-col'!$K$10+P288*'c design-col'!$K$11","v":960.80639168109985},{"$f":"(Q283*'c design-col'!$K$6)+(Q284*'c design-col'!$K$7)+Q285*'c design-col'!$K$8+Q286*'c design-col'!$K$9+Q287*'c design-col'!$K$10+Q288*'c design-col'!$K$11","v":1221.8880262941998}]
["ECO2/tonne",{"$f":"B290/B289","v":7.6544093620847589E-2},{"$f":"C290/C289","v":8.5750864802353444E-2},{"$f":"D290/D289","v":9.4602051576583898E-2},{"$f":"E290/E289","v":0.1037678296125428},{"$f":"F290/F289","v":0.11328843031237157},{"$f":"G290/G289","v":0.12734228280659243},{"$f":"H290/H289","v":0.14472724136696619},{"$f":"I290/I289","v":0.15651148709032534},{"$f":"J290/J289","v":0.16930303617261447},{"$f":"K290/K289","v":0.18297427767970889},{"$f":"L290/L289","v":0.20448878785894689},{"$f":"M290/M289","v":0.23315425780804794},{"$f":"N290/N289","v":0.27724928993668657},{"$f":"O290/O289","v":0.33412162024897257},{"$f":"P290/P289","v":0.4113041060278681},{"$f":"Q290/Q289","v":0.52306850440676356}]
["ECO2 / m3 / Mpa",{"$f":"B290/B282","v":22.350875337287498},{"$f":"C290/C282","v":16.699980920258334},13.811899530181249,12.120082498744999,10.585670928388,9.915719087873331,9.6636446592742846,9.1402708460749995,8.7924710118977778,8.5485582531959992,8.685196517063634,9.0774724373266658,9.2522048756014268,9.7563513112699987,10.675626574234443,12.218880262941997]
["ECO2 / tonne / Mpa",{"$f":"B291/B282","v":9.5680117026059486E-3},{"$f":"C291/C282","v":7.1459054001961203E-3},5.9126282235364936E-3,5.1883914806271402E-3,4.5315372124948624E-3,4.2447427602197475E-3,4.1350640390561766E-3,3.9127871772581336E-3,3.7622896927247658E-3,3.659485553594178E-3,3.7179779610717616E-3,3.8859042968007991E-3,3.9607041419526656E-3,4.1765202531121575E-3,4.5700456225318681E-3,5.2306850440676355E-3]
[]
["20% PFA, SP"]
["60-180",8,12,16,20,25,30,35,40,45,50,55,60,70,80,90,100]
["Water content",162,162,162,162,162,162,162,162,162,162,162,162,162,162,162,162]
["Cement content",166,187,208,230,252,285,326,355,385,418,469,538,643,779,963,1230]
["PFA content",41,47,52,57,63,71,82,89,96,104,117,134,161,195,241,308]
["Fine Agg",979,923,877,838,802,758,712,684,657,631,593,548,488,418,331,215]
["Coarse Agg",1009,1038,1057,1070,1077,1080,1075,1067,1056,1042,1015,974,902,804,660,442]
["Plasticiser dosage",0.8,0.9,1,1.1000000000000001,1.3,1.4,1.6,1.8,1.9,2.1,2.2999999999999998,2.7,3.2,3.9,4.8,6.2]
["Concrete",{"$f":"B297+B298+B299+B300+B301+B302","v":2357.8000000000002},2357.9,2357,2358.1,2357.3000000000002,2357.4,2358.6,2358.8000000000002,2357.9,2359.1,2358.3000000000002,2358.6999999999998,2359.1999999999998,2361.9,2361.8000000000002,2363.1999999999998]
["ECO2 / m3",{"$f":"(B297*'c design-col'!$K$6)+(B298*'c design-col'!$K$7)+B299*'c design-col'!$K$8+B300*'c design-col'!$K$9+B301*'c design-col'!$K$10+B302*'c design-col'!$K$11","v":163.22474112330002},{"$f":"(C297*'c design-col'!$K$6)+(C298*'c design-col'!$K$7)+C299*'c design-col'!$K$8+C300*'c design-col'!$K$9+C301*'c design-col'!$K$10+C302*'c design-col'!$K$11","v":182.19156647209996},{"$f":"(D297*'c design-col'!$K$6)+(D298*'c design-col'!$K$7)+D299*'c design-col'!$K$8+D300*'c design-col'!$K$9+D301*'c design-col'!$K$10+D302*'c design-col'!$K$11","v":201.02598040789999},{"$f":"(E297*'c design-col'!$K$6)+(E298*'c design-col'!$K$7)+E299*'c design-col'!$K$8+E300*'c design-col'!$K$9+E301*'c design-col'!$K$10+E302*'c design-col'!$K$11","v":220.68334184659997},{"$f":"(F297*'c design-col'!$K$6)+(F298*'c design-col'!$K$7)+F299*'c design-col'!$K$8+F300*'c design-col'!$K$9+F301*'c design-col'!$K$10+F302*'c design-col'!$K$11","v":240.29752260539996},{"$f":"(G297*'c design-col'!$K$6)+(G298*'c design-col'!$K$7)+G299*'c design-col'!$K$8+G300*'c design-col'!$K$9+G301*'c design-col'!$K$10+G302*'c design-col'!$K$11","v":269.61851277059998},{"$f":"(H297*'c design-col'!$K$6)+(H298*'c design-col'!$K$7)+H299*'c design-col'!$K$8+H300*'c design-col'!$K$9+H301*'c design-col'!$K$10+H302*'c design-col'!$K$11","v":305.9841230184},{"$f":"(I297*'c design-col'!$K$6)+(I298*'c design-col'!$K$7)+I299*'c design-col'!$K$8+I300*'c design-col'!$K$9+I301*'c design-col'!$K$10+I302*'c design-col'!$K$11","v":331.63818680279996},{"$f":"(J297*'c design-col'!$K$6)+(J298*'c design-col'!$K$7)+J299*'c design-col'!$K$8+J300*'c design-col'!$K$9+J301*'c design-col'!$K$10+J302*'c design-col'!$K$11","v":358.13988664189986},{"$f":"(K297*'c design-col'!$K$6)+(K298*'c design-col'!$K$7)+K299*'c design-col'!$K$8+K300*'c design-col'!$K$9+K301*'c design-col'!$K$10+K302*'c design-col'!$K$11","v":387.2839893757},{"$f":"(L297*'c design-col'!$K$6)+(L298*'c design-col'!$K$7)+L299*'c design-col'!$K$8+L300*'c design-col'!$K$9+L301*'c design-col'!$K$10+L302*'c design-col'!$K$11","v":432.27816320509993},{"$f":"(M297*'c design-col'!$K$6)+(M298*'c design-col'!$K$7)+M299*'c design-col'!$K$8+M300*'c design-col'!$K$9+M301*'c design-col'!$K$10+M302*'c design-col'!$K$11","v":493.09411383159988},{"$f":"(N297*'c design-col'!$K$6)+(N298*'c design-col'!$K$7)+N299*'c design-col'!$K$8+N300*'c design-col'!$K$9+N301*'c design-col'!$K$10+N302*'c design-col'!$K$11","v":585.56674726560004},{"$f":"(O297*'c design-col'!$K$6)+(O298*'c design-col'!$K$7)+O299*'c design-col'!$K$8+O300*'c design-col'!$K$9+O301*'c design-col'!$K$10+O302*'c design-col'!$K$11","v":705.27146974059985},{"$f":"(P297*'c design-col'!$K$6)+(P298*'c design-col'!$K$7)+P299*'c design-col'!$K$8+P300*'c design-col'!$K$9+P301*'c design-col'!$K$10+P302*'c design-col'!$K$11","v":867.09605856169992},{"$f":"(Q297*'c design-col'!$K$6)+(Q298*'c design-col'!$K$7)+Q299*'c design-col'!$K$8+Q300*'c design-col'!$K$9+Q301*'c design-col'!$K$10+Q302*'c design-col'!$K$11","v":1101.8318068045}]
["ECO2/tonne",{"$f":"B304/B303","v":6.9227560065866486E-2},{"$f":"C304/C303","v":7.726857223465794E-2},{"$f":"D304/D303","v":8.5288918289308444E-2},{"$f":"E304/E303","v":9.358523465781772E-2},{"$f":"F304/F303","v":0.10193760768905101},{"$f":"G304/G303","v":0.11437113462738609},{"$f":"H304/H303","v":0.12973124862986518},{"$f":"I304/I303","v":0.14059614499016446},{"$f":"J304/J303","v":0.15188934502816059},{"$f":"K304/K303","v":0.16416599100322157},{"$f":"L304/L303","v":0.18330075189971584},{"$f":"M304/M303","v":0.20905334032797723},{"$f":"N304/N303","v":0.2482056405839268},{"$f":"O304/O303","v":0.29860344203420969},{"$f":"P304/P303","v":0.36713356700893379},{"$f":"Q304/Q303","v":0.46624568669790967}]
["ECO2 / m3 / Mpa",{"$f":"B304/B296","v":20.403092640412503},{"$f":"C304/C296","v":15.182630539341664},12.56412377549375,11.034167092329998,9.6119009042159984,8.9872837590199985,8.7424035148114285,8.2909546700699988,7.9586641475977746,7.7456797875139998,7.8596029673654533,8.2182352305266644,8.3652392466514289,8.8158933717574985,9.6344006506855546,11.018318068045]
["ECO2 / tonne / Mpa",{"$f":"B305/B296","v":8.6534450082333108E-3},{"$f":"C305/C296","v":6.4390476862214953E-3},5.3305573930817777E-3,4.6792617328908857E-3,4.0775043075620401E-3,3.8123711542462028E-3,3.7066071037104337E-3,3.5149036247541115E-3,3.3753187784035686E-3,3.2833198200644315E-3,3.3327409436311973E-3,3.4842223387996207E-3,3.5457948654846684E-3,3.732543025427621E-3,4.0792618556548203E-3,4.6624568669790967E-3]
[]
["40% PFA, No SP"]
["60--180",8,12,16,20,25,30,35,40,45,50,55,60,70,80,90,100]
["Water content",170,170,170,170,170,170,170,170,170,170,170,170,170,170,170,170]
["Cement content",156,176,196,216,237,268,307,333,362,393,441,505,604,732,906,1157]
["PFA content",104,117,131,144,158,179,205,222,241,262,294,337,403,488,604,771]
["Fine Agg",945,887,839,798,761,714,664,634,604,574,532,481,410,328,223,82]
["Coarse Agg",973,998,1012,1019,1022,1017,1003,989,971,949,910,854,761,630,445,168]
["Plasticiser dosage"]
["Concrete",{"$f":"B311+B312+B313+B314+B315","v":2348},2348,2348,2347,2348,2348,2349,2348,2348,2348,2347,2347,2348,2348,2348,2348]
["ECO2 / m3",{"$f":"(B311*'c design-col'!$K$6)+(B312*'c design-col'!$K$7)+B313*'c design-col'!$K$8+B314*'c design-col'!$K$9+B315*'c design-col'!$K$10+B316*'c design-col'!$K$11","v":155.55362532749999},{"$f":"(C311*'c design-col'!$K$6)+(C312*'c design-col'!$K$7)+C313*'c design-col'!$K$8+C314*'c design-col'!$K$9+C315*'c design-col'!$K$10+C316*'c design-col'!$K$11","v":173.76953398689997},{"$f":"(D311*'c design-col'!$K$6)+(D312*'c design-col'!$K$7)+D313*'c design-col'!$K$8+D314*'c design-col'!$K$9+D315*'c design-col'!$K$10+D316*'c design-col'!$K$11","v":191.89417864129999},{"$f":"(E311*'c design-col'!$K$6)+(E312*'c design-col'!$K$7)+E313*'c design-col'!$K$8+E314*'c design-col'!$K$9+E315*'c design-col'!$K$10+E316*'c design-col'!$K$11","v":209.91803530659996},{"$f":"(F311*'c design-col'!$K$6)+(F312*'c design-col'!$K$7)+F313*'c design-col'!$K$8+F314*'c design-col'!$K$9+F315*'c design-col'!$K$10+F316*'c design-col'!$K$11","v":228.81061030669994},{"$f":"(G311*'c design-col'!$K$6)+(G312*'c design-col'!$K$7)+G313*'c design-col'!$K$8+G314*'c design-col'!$K$9+G315*'c design-col'!$K$10+G316*'c design-col'!$K$11","v":256.60507906379996},{"$f":"(H311*'c design-col'!$K$6)+(H312*'c design-col'!$K$7)+H313*'c design-col'!$K$8+H314*'c design-col'!$K$9+H315*'c design-col'!$K$10+H316*'c design-col'!$K$11","v":291.48300334080005},{"$f":"(I311*'c design-col'!$K$6)+(I312*'c design-col'!$K$7)+I313*'c design-col'!$K$8+I314*'c design-col'!$K$9+I315*'c design-col'!$K$10+I316*'c design-col'!$K$11","v":314.67367893179994},{"$f":"(J311*'c design-col'!$K$6)+(J312*'c design-col'!$K$7)+J313*'c design-col'!$K$8+J314*'c design-col'!$K$9+J315*'c design-col'!$K$10+J316*'c design-col'!$K$11","v":340.51859285479998},{"$f":"(K311*'c design-col'!$K$6)+(K312*'c design-col'!$K$7)+K313*'c design-col'!$K$8+K314*'c design-col'!$K$9+K315*'c design-col'!$K$10+K316*'c design-col'!$K$11","v":368.13386220979999},{"$f":"(L311*'c design-col'!$K$6)+(L312*'c design-col'!$K$7)+L313*'c design-col'!$K$8+L314*'c design-col'!$K$9+L315*'c design-col'!$K$10+L316*'c design-col'!$K$11","v":410.82590939239992},{"$f":"(M311*'c design-col'!$K$6)+(M312*'c design-col'!$K$7)+M313*'c design-col'!$K$8+M314*'c design-col'!$K$9+M315*'c design-col'!$K$10+M316*'c design-col'!$K$11","v":467.71778585469997},{"$f":"(N311*'c design-col'!$K$6)+(N312*'c design-col'!$K$7)+N313*'c design-col'!$K$8+N314*'c design-col'!$K$9+N315*'c design-col'!$K$10+N316*'c design-col'!$K$11","v":555.64478889899988},{"$f":"(O311*'c design-col'!$K$6)+(O312*'c design-col'!$K$7)+O313*'c design-col'!$K$8+O314*'c design-col'!$K$9+O315*'c design-col'!$K$10+O316*'c design-col'!$K$11","v":669.20357158959996},{"$f":"(P311*'c design-col'!$K$6)+(P312*'c design-col'!$K$7)+P313*'c design-col'!$K$8+P314*'c design-col'!$K$9+P315*'c design-col'!$K$10+P316*'c design-col'!$K$11","v":823.51076434609979},{"$f":"(Q311*'c design-col'!$K$6)+(Q312*'c design-col'!$K$7)+Q313*'c design-col'!$K$8+Q314*'c design-col'!$K$9+Q315*'c design-col'!$K$10+Q316*'c design-col'!$K$11","v":1045.9882897133998}]
["ECO2/tonne",{"$f":"B318/B317","v":6.624941453471038E-2},{"$f":"C318/C317","v":7.4007467626448026E-2},{"$f":"D318/D317","v":8.1726651891524699E-2},{"$f":"E318/E317","v":8.9441003539241573E-2},{"$f":"F318/F317","v":9.7449152600809177E-2},{"$f":"G318/G317","v":0.10928666058935263},{"$f":"H318/H317","v":0.12408812402758623},{"$f":"I318/I317","v":0.13401775082274273},{"$f":"J318/J317","v":0.14502495436746166},{"$f":"K318/K317","v":0.15678614233807495},{"$f":"L318/L317","v":0.17504299505428203},{"$f":"M318/M317","v":0.19928324919245843},{"$f":"N318/N317","v":0.23664599186499144},{"$f":"O318/O317","v":0.28501003900749572},{"$f":"P318/P317","v":0.35072860491741897},{"$f":"Q318/Q317","v":0.44548053224591133}]
["ECO2 / m3 / Mpa",{"$f":"B318/B310","v":19.444203165937498},{"$f":"C318/C310","v":14.480794498908331},11.993386165081249,10.495901765329998,9.1524244122679974,8.5535026354599992,8.3280858097371446,7.8668419732949983,7.5670798412177769,7.362677244196,7.4695619889527256,7.7952964309116659,7.9377826985571414,8.3650446448700002,9.1501196038455532,10.459882897133998]
["ECO2 / tonne / Mpa",{"$f":"B319/B310","v":8.2811768168387975E-3},{"$f":"C319/C310","v":6.1672889688706685E-3},5.1079157432202937E-3,4.4720501769620787E-3,3.897966104032367E-3,3.6428886863117543E-3,3.5453749722167494E-3,3.350443770568568E-3,3.2227767637213701E-3,3.1357228467614991E-3,3.182599910077855E-3,3.321387486540974E-3,3.3806570266427349E-3,3.5626254875936966E-3,3.896984499082433E-3,4.4548053224591133E-3]
[]
["40% PFA, SP"]
["60-180",8,12,16,20,25,30,35,40,45,50,55,60,70,80,90,100]
["Water content",153,153,153,153,153,153,153,153,153,153,153,153,153,153,153,153]
["Cement content",140,158,176,194,213,241,276,300,326,354,397,455,544,659,815,1041]
["PFA content",93,105,117,130,142,161,184,200,217,236,265,303,362,439,543,694]
["Fine Agg",976,918,871,830,793,747,699,670,641,613,572,524,459,382,286,157]
["Coarse Agg",1005,1032,1050,1060,1065,1065,1055,1045,1030,1012,980,932,850,735,570,323]
["Plasticiser dosage",0.9,1.1000000000000001,1.2,1.3,1.4,1.6,1.8,2,2.2000000000000002,2.4,2.6,3,3.6,4.4000000000000004,5.4,6.9]
["Concrete",{"$f":"B325+B326+B327+B328+B329+B330","v":2367.9},2367.1,2368.1999999999998,2368.3000000000002,2367.4,2368.6,2368.8000000000002,2370,2369.1999999999998,2370.4,2369.6,2370,2371.6,2372.4,2372.4,2374.9]
["ECO2 / m3",{"$f":"(B325*'c design-col'!$K$6)+(B326*'c design-col'!$K$7)+B327*'c design-col'!$K$8+B328*'c design-col'!$K$9+B329*'c design-col'!$K$10+B330*'c design-col'!$K$11","v":141.58044152319997},{"$f":"(C325*'c design-col'!$K$6)+(C326*'c design-col'!$K$7)+C327*'c design-col'!$K$8+C328*'c design-col'!$K$9+C329*'c design-col'!$K$10+C330*'c design-col'!$K$11","v":158.02729060659996},{"$f":"(D325*'c design-col'!$K$6)+(D326*'c design-col'!$K$7)+D327*'c design-col'!$K$8+D328*'c design-col'!$K$9+D329*'c design-col'!$K$10+D330*'c design-col'!$K$11","v":174.38389179969997},{"$f":"(E325*'c design-col'!$K$6)+(E326*'c design-col'!$K$7)+E327*'c design-col'!$K$8+E328*'c design-col'!$K$9+E329*'c design-col'!$K$10+E330*'c design-col'!$K$11","v":190.67854096099995},{"$f":"(F325*'c design-col'!$K$6)+(F326*'c design-col'!$K$7)+F327*'c design-col'!$K$8+F328*'c design-col'!$K$9+F329*'c design-col'!$K$10+F330*'c design-col'!$K$11","v":207.77505586509997},{"$f":"(G325*'c design-col'!$K$6)+(G326*'c design-col'!$K$7)+G327*'c design-col'!$K$8+G328*'c design-col'!$K$9+G329*'c design-col'!$K$10+G330*'c design-col'!$K$11","v":232.9304513729},{"$f":"(H325*'c design-col'!$K$6)+(H326*'c design-col'!$K$7)+H327*'c design-col'!$K$8+H328*'c design-col'!$K$9+H329*'c design-col'!$K$10+H330*'c design-col'!$K$11","v":264.24787835929993},{"$f":"(I325*'c design-col'!$K$6)+(I326*'c design-col'!$K$7)+I327*'c design-col'!$K$8+I328*'c design-col'!$K$9+I329*'c design-col'!$K$10+I330*'c design-col'!$K$11","v":285.69751100899992},{"$f":"(J325*'c design-col'!$K$6)+(J326*'c design-col'!$K$7)+J327*'c design-col'!$K$8+J328*'c design-col'!$K$9+J329*'c design-col'!$K$10+J330*'c design-col'!$K$11","v":308.87764649869996},{"$f":"(K325*'c design-col'!$K$6)+(K326*'c design-col'!$K$7)+K327*'c design-col'!$K$8+K328*'c design-col'!$K$9+K329*'c design-col'!$K$10+K330*'c design-col'!$K$11","v":333.84330146309998},{"$f":"(L325*'c design-col'!$K$6)+(L326*'c design-col'!$K$7)+L327*'c design-col'!$K$8+L328*'c design-col'!$K$9+L329*'c design-col'!$K$10+L330*'c design-col'!$K$11","v":372.12721478039992},{"$f":"(M325*'c design-col'!$K$6)+(M326*'c design-col'!$K$7)+M327*'c design-col'!$K$8+M328*'c design-col'!$K$9+M329*'c design-col'!$K$10+M330*'c design-col'!$K$11","v":423.69055101079994},{"$f":"(N325*'c design-col'!$K$6)+(N326*'c design-col'!$K$7)+N327*'c design-col'!$K$8+N328*'c design-col'!$K$9+N329*'c design-col'!$K$10+N330*'c design-col'!$K$11","v":502.74497539129999},{"$f":"(O325*'c design-col'!$K$6)+(O326*'c design-col'!$K$7)+O327*'c design-col'!$K$8+O328*'c design-col'!$K$9+O329*'c design-col'!$K$10+O330*'c design-col'!$K$11","v":604.81448326739985},{"$f":"(P325*'c design-col'!$K$6)+(P326*'c design-col'!$K$7)+P327*'c design-col'!$K$8+P328*'c design-col'!$K$9+P329*'c design-col'!$K$10+P330*'c design-col'!$K$11","v":743.16564392019984},{"$f":"(Q325*'c design-col'!$K$6)+(Q326*'c design-col'!$K$7)+Q327*'c design-col'!$K$8+Q328*'c design-col'!$K$9+Q329*'c design-col'!$K$10+Q330*'c design-col'!$K$11","v":943.52741975589993}]
["ECO2/tonne",{"$f":"B332/B331","v":5.9791562786941997E-2},{"$f":"C332/C331","v":6.6759870984157824E-2},{"$f":"D332/D331","v":7.3635626973946447E-2},{"$f":"E332/E331","v":8.051283239496683E-2},{"$f":"F332/F331","v":8.7765082311861101E-2},{"$f":"G332/G331","v":9.8340982594317325E-2},{"$f":"H332/H331","v":0.11155347786191316},{"$f":"I332/I331","v":0.12054747299957803},{"$f":"J332/J331","v":0.13037212835501436},{"$f":"K332/K331","v":0.14083838232496623},{"$f":"L332/L331","v":0.15704220745290343},{"$f":"M332/M331","v":0.17877238439274259},{"$f":"N332/N331","v":0.21198556897929668},{"$f":"O332/O331","v":0.25493781962038436},{"$f":"P332/P331","v":0.31325478162207038},{"$f":"Q332/Q331","v":0.39729143111537324}]
["ECO2 / m3 / Mpa",{"$f":"B332/B324","v":17.697555190399996},{"$f":"C332/C324","v":13.16894088388333},10.898993237481248,9.533927048049998,8.3110022346039987,7.7643483790966661,7.5499393816942835,7.1424377752249981,6.86394769997111,6.6768660292619995,6.7659493596436349,7.0615091835133326,7.1820710770185716,7.5601810408424983,8.257396043557776,9.435274197559]
["ECO2 / tonne / Mpa",{"$f":"B333/B324","v":7.4739453483677496E-3},{"$f":"C333/C324","v":5.563322582013152E-3},4.6022266858716529E-3,4.0256416197483411E-3,3.5106032924744441E-3,3.2780327531439107E-3,3.1872422246260906E-3,3.0136868249894507E-3,2.897158407889208E-3,2.8167676464993245E-3,2.8553128627800623E-3,2.9795397398790432E-3,3.0283652711328097E-3,3.1867227452548044E-3,3.4806086846896709E-3,3.9729143111537323E-3]

{"sheet":"Sheet2 (4)","index":9,"n_rows":335,"n_cols":18,"rows_kept":335,"cut":false,"hidden":false,"merged":[]}
["0% PFA, No SP"]
["0-10",8,12,16,20,25,30,35,40,45,50,55,60,70,80,90,100]
["Water content",135,135,135,135,135,135,135,135,135,135,135,135,135,135,135,135]
["Cement content",148,167,187,206,226,256,292,318,345,374,420,482,576,697,863,1102]
["PFA content",0,0,0,0,0,0,0,0,0,0,0,0,0,0,0,0]
["Fine Agg",819,796,729,695,665,628,591,569,549,529,502,471,431,387,336,270]
["Coarse Agg",1285,1316,1337,1352,1362,1369,1369,1366,1359,1349,1330,1300,1246,1168,1054,880]
["Plasticiser dosage",0,0,0,0,0,0,0,0,0,0,0,0,0,0,0,0]
["Concrete",{"$f":"SUM(B3:B8)","v":2387},{"$f":"SUM(C3:C8)","v":2414},2388,2388,2388,2388,2387,2388,2388,2387,{"$f":"SUM(L3:L8)","v":2387},{"$f":"SUM(M3:M8)","v":2388},2388,2387,2388,2387]
["ECO2 / m3",{"$f":"(B3*'c design-col'!$K$6)+(B4*'c design-col'!$K$7)+B5*'c design-col'!$K$8+B6*'c design-col'!$K$9+B7*'c design-col'!$K$10+B8*'c design-col'!$K$11","v":149.35832804329999},{"$f":"(C3*'c design-col'!$K$6)+(C4*'c design-col'!$K$7)+C5*'c design-col'!$K$8+C6*'c design-col'!$K$9+C7*'c design-col'!$K$10+C8*'c design-col'!$K$11","v":166.49737012919996},{"$f":"(D3*'c design-col'!$K$6)+(D4*'c design-col'!$K$7)+D5*'c design-col'!$K$8+D6*'c design-col'!$K$9+D7*'c design-col'!$K$10+D8*'c design-col'!$K$11","v":184.29006536429998},{"$f":"(E3*'c design-col'!$K$6)+(E4*'c design-col'!$K$7)+E5*'c design-col'!$K$8+E6*'c design-col'!$K$9+E7*'c design-col'!$K$10+E8*'c design-col'!$K$11","v":201.19804002049997},{"$f":"(F3*'c design-col'!$K$6)+(F4*'c design-col'!$K$7)+F5*'c design-col'!$K$8+F6*'c design-col'!$K$9+F7*'c design-col'!$K$10+F8*'c design-col'!$K$11","v":218.93488041949999},{"$f":"(G3*'c design-col'!$K$6)+(G4*'c design-col'!$K$7)+G5*'c design-col'!$K$8+G6*'c design-col'!$K$9+G7*'c design-col'!$K$10+G8*'c design-col'!$K$11","v":245.45581188759996},{"$f":"(H3*'c design-col'!$K$6)+(H4*'c design-col'!$K$7)+H5*'c design-col'!$K$8+H6*'c design-col'!$K$9+H7*'c design-col'!$K$10+H8*'c design-col'!$K$11","v":277.19007261169997},{"$f":"(I3*'c design-col'!$K$6)+(I4*'c design-col'!$K$7)+I5*'c design-col'!$K$8+I6*'c design-col'!$K$9+I7*'c design-col'!$K$10+I8*'c design-col'!$K$11","v":300.08161832029998},{"$f":"(J3*'c design-col'!$K$6)+(J4*'c design-col'!$K$7)+J5*'c design-col'!$K$8+J6*'c design-col'!$K$9+J7*'c design-col'!$K$10+J8*'c design-col'!$K$11","v":323.8102594623},{"$f":"(K3*'c design-col'!$K$6)+(K4*'c design-col'!$K$7)+K5*'c design-col'!$K$8+K6*'c design-col'!$K$9+K7*'c design-col'!$K$10+K8*'c design-col'!$K$11","v":349.26810862829996},{"$f":"(L3*'c design-col'!$K$6)+(L4*'c design-col'!$K$7)+L5*'c design-col'!$K$8+L6*'c design-col'!$K$9+L7*'c design-col'!$K$10+L8*'c design-col'!$K$11","v":389.62011361139997},{"$f":"(M3*'c design-col'!$K$6)+(M4*'c design-col'!$K$7)+M5*'c design-col'!$K$8+M6*'c design-col'!$K$9+M7*'c design-col'!$K$10+M8*'c design-col'!$K$11","v":443.9636206797},{"$f":"(N3*'c design-col'!$K$6)+(N4*'c design-col'!$K$7)+N5*'c design-col'!$K$8+N6*'c design-col'!$K$9+N7*'c design-col'!$K$10+N8*'c design-col'!$K$11","v":526.26211528369993},{"$f":"(O3*'c design-col'!$K$6)+(O4*'c design-col'!$K$7)+O5*'c design-col'!$K$8+O6*'c design-col'!$K$9+O7*'c design-col'!$K$10+O8*'c design-col'!$K$11","v":632.10774017689994},{"$f":"(P3*'c design-col'!$K$6)+(P4*'c design-col'!$K$7)+P5*'c design-col'!$K$8+P6*'c design-col'!$K$9+P7*'c design-col'!$K$10+P8*'c design-col'!$K$11","v":777.24922210319994},{"$f":"(Q3*'c design-col'!$K$6)+(Q4*'c design-col'!$K$7)+Q5*'c design-col'!$K$8+Q6*'c design-col'!$K$9+Q7*'c design-col'!$K$10+Q8*'c design-col'!$K$11","v":986.10832844899994}]
["ECO2/tonne",{"$f":"B10/B9","v":6.2571566000544615E-2},{"$f":"C10/C9","v":6.8971570061806112E-2},7.7173394206155765E-2,8.425378560322444E-2,9.1681273207495806E-2,0.10278719090770518,0.11612487331868453,0.12566231922960636,0.1355989361232412,0.14632095040984497,0.16322585404750731,0.18591441401997488,0.22037777021930482,0.26481262680222034,0.32548124878693463,0.4131161828441558]
["ECO2 / m3 / Mpa",{"$f":"B10/B2","v":18.669791005412499},{"$f":"C10/C2","v":13.874780844099996},11.518129085268749,10.059902001024998,8.7573952167799991,8.1818603962533327,7.9197163603342853,7.5020404580074995,7.1957835436066668,6.9853621725659991,7.0840020656618181,7.3993936779949996,7.5180302183385708,7.901346752211249,8.6361024678133322,9.8610832844900003]
["ECO2 / tonne / Mpa",{"$f":"B11/B2","v":7.8214457500680769E-3},{"$f":"C11/C2","v":5.7476308384838424E-3},4.8233371378847353E-3,4.2126892801612218E-3,3.6672509282998323E-3,3.4262396969235056E-3,3.3178535233909863E-3,3.1415579807401589E-3,3.0133096916275821E-3,2.9264190081968993E-3,2.9677428008637692E-3,3.0985735669995813E-3,3.1482538602757831E-3,3.3101578350277542E-3,3.6164583198548292E-3,4.1311618284415579E-3]
[]
["0% PFA, SP"]
["0-10",8,12,16,20,25,30,35,40,45,50,55,60,70,80,90,100]
["Water content",121.5,121.5,121.5,121.5,121.5,121.5,121.5,121.5,121.5,121.5,121.5,121.5,121.5,121.5,121.5,121.5]
["Cement content",133,151,168,185,203,230,263,286,310,337,378,434,518,628,777,999]
["PFA content",0,0,0,0,0,0,0,0,0,0,0,0,0,0,0,0]
["Fine Agg",836,786,746,712,682,645,608,587,567,548,521,492,453,412,364,302]
["Coarse Agg",1312,1345,1368,1385,1397,1407,1410,1409,1404,1397,1382,1357,1311,1242,1141,987]
["Plasticiser dosage",0.5,0.6,0.7,0.7,0.8,0.9,1.1000000000000001,1.1000000000000001,1.2,1.3,1.5,1.7,2.1,2.5,3.1,4]
["Concrete",{"$f":"B17+B18+B20+B21+B22","v":2403},{"$f":"C17+C18+C20+C21+C22","v":2404.1},2404.1999999999998,2404.1999999999998,2404.3000000000002,2404.4,2403.6,2404.6,2403.6999999999998,2404.8000000000002,2404,2406.1999999999998,2405.6,2406,2406.6,2413.5]
["ECO2 / m3",{"$f":"(B17*'c design-col'!$K$6)+(B18*'c design-col'!$K$7)+B19*'c design-col'!$K$8+B20*'c design-col'!$K$9+B21*'c design-col'!$K$10+B22*'c design-col'!$K$11","v":136.47290178919997},{"$f":"(C17*'c design-col'!$K$6)+(C18*'c design-col'!$K$7)+C19*'c design-col'!$K$8+C20*'c design-col'!$K$9+C21*'c design-col'!$K$10+C22*'c design-col'!$K$11","v":152.69135751019999},{"$f":"(D17*'c design-col'!$K$6)+(D18*'c design-col'!$K$7)+D19*'c design-col'!$K$8+D20*'c design-col'!$K$9+D21*'c design-col'!$K$10+D22*'c design-col'!$K$11","v":167.92051891819995},{"$f":"(E17*'c design-col'!$K$6)+(E18*'c design-col'!$K$7)+E19*'c design-col'!$K$8+E20*'c design-col'!$K$9+E21*'c design-col'!$K$10+E22*'c design-col'!$K$11","v":183.08643295839994},{"$f":"(F17*'c design-col'!$K$6)+(F18*'c design-col'!$K$7)+F19*'c design-col'!$K$8+F20*'c design-col'!$K$9+F21*'c design-col'!$K$10+F22*'c design-col'!$K$11","v":199.08121326139999},{"$f":"(G17*'c design-col'!$K$6)+(G18*'c design-col'!$K$7)+G19*'c design-col'!$K$8+G20*'c design-col'!$K$9+G21*'c design-col'!$K$10+G22*'c design-col'!$K$11","v":222.98905432549995},{"$f":"(H17*'c design-col'!$K$6)+(H18*'c design-col'!$K$7)+H19*'c design-col'!$K$8+H20*'c design-col'!$K$9+H21*'c design-col'!$K$10+H22*'c design-col'!$K$11","v":252.11022516559996},{"$f":"(I17*'c design-col'!$K$6)+(I18*'c design-col'!$K$7)+I19*'c design-col'!$K$8+I20*'c design-col'!$K$9+I21*'c design-col'!$K$10+I22*'c design-col'!$K$11","v":272.37813880889996},{"$f":"(J17*'c design-col'!$K$6)+(J18*'c design-col'!$K$7)+J19*'c design-col'!$K$8+J20*'c design-col'!$K$9+J21*'c design-col'!$K$10+J22*'c design-col'!$K$11","v":293.48083695490004},{"$f":"(K17*'c design-col'!$K$6)+(K18*'c design-col'!$K$7)+K19*'c design-col'!$K$8+K20*'c design-col'!$K$9+K21*'c design-col'!$K$10+K22*'c design-col'!$K$11","v":317.21179006760002},{"$f":"(L17*'c design-col'!$K$6)+(L18*'c design-col'!$K$7)+L19*'c design-col'!$K$8+L20*'c design-col'!$K$9+L21*'c design-col'!$K$10+L22*'c design-col'!$K$11","v":353.1957919587},{"$f":"(M17*'c design-col'!$K$6)+(M18*'c design-col'!$K$7)+M19*'c design-col'!$K$8+M20*'c design-col'!$K$9+M21*'c design-col'!$K$10+M22*'c design-col'!$K$11","v":402.30488852840006},{"$f":"(N17*'c design-col'!$K$6)+(N18*'c design-col'!$K$7)+N19*'c design-col'!$K$8+N20*'c design-col'!$K$9+N21*'c design-col'!$K$10+N22*'c design-col'!$K$11","v":475.86968839910003},{"$f":"(O17*'c design-col'!$K$6)+(O18*'c design-col'!$K$7)+O19*'c design-col'!$K$8+O20*'c design-col'!$K$9+O21*'c design-col'!$K$10+O22*'c design-col'!$K$11","v":572.11521115239987},{"$f":"(P17*'c design-col'!$K$6)+(P18*'c design-col'!$K$7)+P19*'c design-col'!$K$8+P20*'c design-col'!$K$9+P21*'c design-col'!$K$10+P22*'c design-col'!$K$11","v":702.40470494679994},{"$f":"(Q17*'c design-col'!$K$6)+(Q18*'c design-col'!$K$7)+Q19*'c design-col'!$K$8+Q20*'c design-col'!$K$9+Q21*'c design-col'!$K$10+Q22*'c design-col'!$K$11","v":896.5041043153999}]
["ECO2/tonne",{"$f":"B24/B23","v":5.6792718181106934E-2},{"$f":"C24/C23","v":6.3512897762239506E-2},6.9844654736793924E-2,7.6152746426420406E-2,8.2802151670507002E-2,9.2742078824446822E-2,0.10488859426094191,0.11327378308612658,0.12209545157669428,0.13190776366749835,0.1469200465718386,0.16719511617006072,0.19781746275320089,0.23778687080315872,0.29186599557333998,0.37145394833867823]
["ECO2 / m3 / Mpa",{"$f":"B24/B16","v":17.059112723649996},{"$f":"C24/C16","v":12.724279792516667},10.495032432387497,9.1543216479199963,7.9632485304560001,7.4329684775166651,7.2031492904457126,6.8094534702224987,6.5217963767755567,6.3442358013520002,6.4217416719763634,6.7050814754733343,6.7981384057014287,7.1514401394049987,7.8044967216311107,8.9650410431539989]
["ECO2 / tonne / Mpa",{"$f":"B25/B16","v":7.0990897726383667E-3},{"$f":"C25/C16","v":5.2927414801866258E-3},4.3652909210496202E-3,3.8076373213210201E-3,3.3120860668202799E-3,3.0914026274815607E-3,2.9968169788840543E-3,2.8318445771531647E-3,2.713232257259873E-3,2.6381552733499669E-3,2.6712735740334293E-3,2.7865852695010121E-3,2.8259637536171556E-3,2.972335885039484E-3,3.2429555063704443E-3,3.7145394833867822E-3]
["20% PFA, No SP"]
["0-10",8,12,16,20,25,30,35,40,45,50,55,60,70,80,90,100]
["Water content",125,125,125,125,125,125,125,125,125,125,125,125,125,125,125,125]
["Cement content",128,144,161,177,195,220,252,274,297,322,362,415,496,601,743,949]
["PFA content",32,36,40,44,49,55,63,68,74,81,91,104,124,150,186,237]
["Fine Agg",823,772,731,697,666,629,591,569,548,527,499,467,425,379,325,256]
["Coarse Agg",1291,1322,1342,1356,1365,1370,1369,1364,1356,1344,1323,1289,1229,1144,1020,832]
["Plasticiser dosage",0,0,0,0,0,0,0,0,0,0,0,0,0,0,0,0]
["Concrete",{"$f":"B30+B31+B32+B33+B34+B35","v":2399},{"$f":"C30+C31+C32+C33+C34+C35","v":2399},2399,2399,2400,2399,2400,2400,2400,2399,2400,2400,2399,2399,2399,2399]
["ECO2 / m3",{"$f":"(B30*'c design-col'!$K$6)+(B31*'c design-col'!$K$7)+B32*'c design-col'!$K$8+B33*'c design-col'!$K$9+B34*'c design-col'!$K$10+B35*'c design-col'!$K$11","v":132.6210313981},{"$f":"(C30*'c design-col'!$K$6)+(C31*'c design-col'!$K$7)+C32*'c design-col'!$K$8+C33*'c design-col'!$K$9+C34*'c design-col'!$K$10+C35*'c design-col'!$K$11","v":147.1517041644},{"$f":"(D30*'c design-col'!$K$6)+(D31*'c design-col'!$K$7)+D32*'c design-col'!$K$8+D33*'c design-col'!$K$9+D34*'c design-col'!$K$10+D35*'c design-col'!$K$11","v":162.44799582569999},{"$f":"(E30*'c design-col'!$K$6)+(E31*'c design-col'!$K$7)+E32*'c design-col'!$K$8+E33*'c design-col'!$K$9+E34*'c design-col'!$K$10+E35*'c design-col'!$K$11","v":176.79946918989995},{"$f":"(F30*'c design-col'!$K$6)+(F31*'c design-col'!$K$7)+F32*'c design-col'!$K$8+F33*'c design-col'!$K$9+F34*'c design-col'!$K$10+F35*'c design-col'!$K$11","v":192.88837974619997},{"$f":"(G30*'c design-col'!$K$6)+(G31*'c design-col'!$K$7)+G32*'c design-col'!$K$8+G33*'c design-col'!$K$9+G34*'c design-col'!$K$10+G35*'c design-col'!$K$11","v":215.12619153029999},{"$f":"(H30*'c design-col'!$K$6)+(H31*'c design-col'!$K$7)+H32*'c design-col'!$K$8+H33*'c design-col'!$K$9+H34*'c design-col'!$K$10+H35*'c design-col'!$K$11","v":243.52575661169996},{"$f":"(I30*'c design-col'!$K$6)+(I31*'c design-col'!$K$7)+I32*'c design-col'!$K$8+I33*'c design-col'!$K$9+I34*'c design-col'!$K$10+I35*'c design-col'!$K$11","v":262.99106553629997},{"$f":"(J30*'c design-col'!$K$6)+(J31*'c design-col'!$K$7)+J32*'c design-col'!$K$8+J33*'c design-col'!$K$9+J34*'c design-col'!$K$10+J35*'c design-col'!$K$11","v":283.3310110356},{"$f":"(K30*'c design-col'!$K$6)+(K31*'c design-col'!$K$7)+K32*'c design-col'!$K$8+K33*'c design-col'!$K$9+K34*'c design-col'!$K$10+K35*'c design-col'!$K$11","v":305.41431196689996},{"$f":"(L30*'c design-col'!$K$6)+(L31*'c design-col'!$K$7)+L32*'c design-col'!$K$8+L33*'c design-col'!$K$9+L34*'c design-col'!$K$10+L35*'c design-col'!$K$11","v":340.70500291529999},{"$f":"(M30*'c design-col'!$K$6)+(M31*'c design-col'!$K$7)+M32*'c design-col'!$K$8+M33*'c design-col'!$K$9+M34*'c design-col'!$K$10+M35*'c design-col'!$K$11","v":387.39084206489997},{"$f":"(N30*'c design-col'!$K$6)+(N31*'c design-col'!$K$7)+N32*'c design-col'!$K$8+N33*'c design-col'!$K$9+N34*'c design-col'!$K$10+N35*'c design-col'!$K$11","v":458.65712051549997},{"$f":"(O30*'c design-col'!$K$6)+(O31*'c design-col'!$K$7)+O32*'c design-col'!$K$8+O33*'c design-col'!$K$9+O34*'c design-col'!$K$10+O35*'c design-col'!$K$11","v":550.96802796329985},{"$f":"(P30*'c design-col'!$K$6)+(P31*'c design-col'!$K$7)+P32*'c design-col'!$K$8+P33*'c design-col'!$K$9+P34*'c design-col'!$K$10+P35*'c design-col'!$K$11","v":675.7328600175},{"$f":"(Q30*'c design-col'!$K$6)+(Q31*'c design-col'!$K$7)+Q32*'c design-col'!$K$8+Q33*'c design-col'!$K$9+Q34*'c design-col'!$K$10+Q35*'c design-col'!$K$11","v":856.61396002319998}]
["ECO2/tonne",{"$f":"B37/B36","v":5.528179716469362E-2},{"$f":"C37/C36","v":6.1338767888453521E-2},6.7714879460483532E-2,7.369715264272611E-2,8.0370158227583324E-2,8.9673277003042937E-2,0.10146906525487498,0.10957961064012499,0.1180545879315,0.12730900873984993,0.14196041788137501,0.16141285086037499,0.19118679471258856,0.2296657056954147,0.28167272197478116,0.35707126303593162]
["ECO2 / m3 / Mpa",{"$f":"B37/B29","v":16.5776289247625},{"$f":"C37/C29","v":12.262642013700001},10.152999739106249,8.8399734594949972,7.7155351898479987,7.1708730510100001,6.9578787603342844,6.5747766384074993,6.29624468968,6.1082862393379989,6.194636416641818,6.4565140344149992,6.5522445787928563,6.8871003495412477,7.5081428890833335,8.5661396002319989]
["ECO2 / tonne / Mpa",{"$f":"B38/B29","v":6.9102246455867026E-3},{"$f":"C38/C29","v":5.1115639907044598E-3},4.2321799662802207E-3,3.6848576321363057E-3,3.2148063291033329E-3,2.9891092334347644E-3,2.8991161501392853E-3,2.7394902660031247E-3,2.6234352873666668E-3,2.5461801747969988E-3,2.581098506934091E-3,2.6902141810062497E-3,2.7312399244655509E-3,2.8708213211926835E-3,3.129696910830902E-3,3.5707126303593162E-3]
[]
["20% PFA, SP"]
["0-10",8,12,16,20,25,30,35,40,45,50,55,60,70,80,90,100]
["Water content",112.5,112.5,112.5,112.5,112.5,112.5,112.5,112.5,112.5,112.5,112.5,112.5,112.5,112.5,112.5,112.5]
["Cement content",115,130,145,160,175,198,227,246,267,290,326,373,446,541,669,854]
["PFA content",29,32,36,40,44,50,57,62,67,73,81,93,112,135,167,214]
["Fine Agg",840,789,748,713,683,646,608,587,566,546,519,488,448,405,354,290]
["Coarse Agg",1318,1350,1372,1388,1399,1408,1410,1407,1401,1392,1375,1347,1295,1221,1111,943]
["Plasticiser dosage",0.6,0.6,0.7,0.8,0.9,1,1.1000000000000001,1.2,1.3,1.5,1.6,1.9,2.2000000000000002,2.7,3.3,4.3]
["Concrete",{"$f":"B44+B45+B46+B47+B48+B49","v":2415.1},{"$f":"C44+C45+C46+C47+C48+C49","v":2414.1},2414.1999999999998,2414.3000000000002,2414.4,2415.5,2415.6,2415.6999999999998,2414.8000000000002,2415,2415.1,2415.4,2415.6999999999998,2417.1999999999998,2416.8000000000002,2417.8000000000002]
["ECO2 / m3",{"$f":"(B44*'c design-col'!$K$6)+(B45*'c design-col'!$K$7)+B46*'c design-col'!$K$8+B47*'c design-col'!$K$9+B48*'c design-col'!$K$10+B49*'c design-col'!$K$11","v":121.42337146399998},{"$f":"(C44*'c design-col'!$K$6)+(C45*'c design-col'!$K$7)+C46*'c design-col'!$K$8+C47*'c design-col'!$K$9+C48*'c design-col'!$K$10+C49*'c design-col'!$K$11","v":135.0560139223},{"$f":"(D44*'c design-col'!$K$6)+(D45*'c design-col'!$K$7)+D46*'c design-col'!$K$8+D47*'c design-col'!$K$9+D48*'c design-col'!$K$10+D49*'c design-col'!$K$11","v":148.6102454876},{"$f":"(E44*'c design-col'!$K$6)+(E45*'c design-col'!$K$7)+E46*'c design-col'!$K$8+E47*'c design-col'!$K$9+E48*'c design-col'!$K$10+E49*'c design-col'!$K$11","v":162.10123020509999},{"$f":"(F44*'c design-col'!$K$6)+(F45*'c design-col'!$K$7)+F46*'c design-col'!$K$8+F47*'c design-col'!$K$9+F48*'c design-col'!$K$10+F49*'c design-col'!$K$11","v":175.53950921609996},{"$f":"(G44*'c design-col'!$K$6)+(G45*'c design-col'!$K$7)+G46*'c design-col'!$K$8+G47*'c design-col'!$K$9+G48*'c design-col'!$K$10+G49*'c design-col'!$K$11","v":196.06096608819999},{"$f":"(H44*'c design-col'!$K$6)+(H45*'c design-col'!$K$7)+H46*'c design-col'!$K$8+H47*'c design-col'!$K$9+H48*'c design-col'!$K$10+H49*'c design-col'!$K$11","v":221.82044076559995},{"$f":"(I44*'c design-col'!$K$6)+(I45*'c design-col'!$K$7)+I46*'c design-col'!$K$8+I47*'c design-col'!$K$9+I48*'c design-col'!$K$10+I49*'c design-col'!$K$11","v":238.66211814489998},{"$f":"(J44*'c design-col'!$K$6)+(J45*'c design-col'!$K$7)+J46*'c design-col'!$K$8+J47*'c design-col'!$K$9+J48*'c design-col'!$K$10+J49*'c design-col'!$K$11","v":257.23300354820003},{"$f":"(K44*'c design-col'!$K$6)+(K45*'c design-col'!$K$7)+K46*'c design-col'!$K$8+K47*'c design-col'!$K$9+K48*'c design-col'!$K$10+K49*'c design-col'!$K$11","v":277.56240894619998},{"$f":"(L44*'c design-col'!$K$6)+(L45*'c design-col'!$K$7)+L46*'c design-col'!$K$8+L47*'c design-col'!$K$9+L48*'c design-col'!$K$10+L49*'c design-col'!$K$11","v":309.31729063329999},{"$f":"(M44*'c design-col'!$K$6)+(M45*'c design-col'!$K$7)+M46*'c design-col'!$K$8+M47*'c design-col'!$K$9+M48*'c design-col'!$K$10+M49*'c design-col'!$K$11","v":350.75226094559997},{"$f":"(N44*'c design-col'!$K$6)+(N45*'c design-col'!$K$7)+N46*'c design-col'!$K$8+N47*'c design-col'!$K$9+N48*'c design-col'!$K$10+N49*'c design-col'!$K$11","v":415.02792139359997},{"$f":"(O44*'c design-col'!$K$6)+(O45*'c design-col'!$K$7)+O46*'c design-col'!$K$8+O47*'c design-col'!$K$9+O48*'c design-col'!$K$10+O49*'c design-col'!$K$11","v":498.56731530549996},{"$f":"(P44*'c design-col'!$K$6)+(P45*'c design-col'!$K$7)+P46*'c design-col'!$K$8+P47*'c design-col'!$K$9+P48*'c design-col'!$K$10+P49*'c design-col'!$K$11","v":611.03666051979985},{"$f":"(Q44*'c design-col'!$K$6)+(Q45*'c design-col'!$K$7)+Q46*'c design-col'!$K$8+Q47*'c design-col'!$K$9+Q48*'c design-col'!$K$10+Q49*'c design-col'!$K$11","v":773.51683391899996}]
["ECO2/tonne",{"$f":"B51/B50","v":5.0276746910686926E-2},{"$f":"C51/C50","v":5.5944664231929085E-2},6.1556724996934806E-2,6.7142124096052677E-2,7.2705230788643119E-2,8.1167860106892975E-2,9.1828299704255656E-2,9.8796257045535449E-2,0.10652352308605267,0.11493267451188405,0.12807639047381061,0.14521497927697274,0.17180441337649544,0.20625819762762701,0.25282880690160536,0.31992589706303248]
["ECO2 / m3 / Mpa",{"$f":"B51/B43","v":15.177921432999998},{"$f":"C51/C43","v":11.254667826858332},9.2881403429749998,8.1050615102550001,7.0215803686439981,6.5353655362733329,6.3377268790171417,5.9665529536224993,5.7162889677377784,5.5512481789239994,5.6239507387872729,5.8458710157599993,5.9289703056228564,6.2320914413187491,6.7892962279977764,7.7351683391899995]
["ECO2 / tonne / Mpa",{"$f":"B52/B43","v":6.2845933638358657E-3},{"$f":"C52/C43","v":4.6620553526607574E-3},3.8472953123084254E-3,3.3571062048026339E-3,2.9082092315457246E-3,2.7055953368964325E-3,2.6236657058358757E-3,2.4699064261383863E-3,2.3671894019122817E-3,2.2986534902376811E-3,2.3286616449783746E-3,2.4202496546162126E-3,2.4543487625213632E-3,2.5782274703453375E-3,2.809208965573393E-3,3.1992589706303248E-3]
[null,{"$f":"(B263-B52)/B263","v":0.42840213404009431},{"$f":"(C263-C52)/C263","v":0.43332956503893416},0.43562771321318344,0.43938619639281151,0.45385862758876466,0.44845138012586272,0.45104960292151663,0.45508097550193333,0.45578420708484091,0.45874576197120542,0.46051437182097388,0.46403525686894681,0.4665431944983392,0.46889232725162006,0.4720687148958963,0.47469578374740357,{"$f":"AVERAGE(B55:Q55)","v":0.45415411331014538}]
["40% PFA, No SP"]
["0-10",8,12,16,20,25,30,35,40,45,50,55,60,70,80,90,100]
["Water content",115,115,115,115,115,115,115,115,115,115,115,115,115,115,115,115]
["Cement content",105,119,132,146,160,181,208,226,245,266,298,342,409,495,613,782]
["PFA content",70,79,88,97,107,121,138,150,163,177,199,228,272,330,408,522]
["Fine Agg",825,774,732,697,665,627,588,565,543,522,493,459,415,366,308,233]
["Coarse Agg",1295,1324,1343,1356,1363,1367,1362,1355,1345,1331,1306,1267,1200,1105,967,759]
["Plasticiser dosage"]
["Concrete",{"$f":"B58+B59+B60+B61+B62","v":2410},{"$f":"C58+C59+C60+C61+C62","v":2411},2410,2411,2410,2411,2411,2411,2411,2411,2411,2411,2411,2411,2411,2411]
["ECO2 / m3",{"$f":"(B58*'c design-col'!$K$6)+(B59*'c design-col'!$K$7)+B60*'c design-col'!$K$8+B61*'c design-col'!$K$9+B62*'c design-col'!$K$10+B63*'c design-col'!$K$11","v":113.36375796749998},{"$f":"(C58*'c design-col'!$K$6)+(C59*'c design-col'!$K$7)+C60*'c design-col'!$K$8+C61*'c design-col'!$K$9+C62*'c design-col'!$K$10+C63*'c design-col'!$K$11","v":126.23595974979997},{"$f":"(D58*'c design-col'!$K$6)+(D59*'c design-col'!$K$7)+D60*'c design-col'!$K$8+D61*'c design-col'!$K$9+D62*'c design-col'!$K$10+D63*'c design-col'!$K$11","v":138.11655576839999},{"$f":"(E58*'c design-col'!$K$6)+(E59*'c design-col'!$K$7)+E60*'c design-col'!$K$8+E61*'c design-col'!$K$9+E62*'c design-col'!$K$10+E63*'c design-col'!$K$11","v":150.82009928989999},{"$f":"(F58*'c design-col'!$K$6)+(F59*'c design-col'!$K$7)+F60*'c design-col'!$K$8+F61*'c design-col'!$K$9+F62*'c design-col'!$K$10+F63*'c design-col'!$K$11","v":163.4804616115},{"$f":"(G58*'c design-col'!$K$6)+(G59*'c design-col'!$K$7)+G60*'c design-col'!$K$8+G61*'c design-col'!$K$9+G62*'c design-col'!$K$10+G63*'c design-col'!$K$11","v":182.38357775289998},{"$f":"(H58*'c design-col'!$K$6)+(H59*'c design-col'!$K$7)+H60*'c design-col'!$K$8+H61*'c design-col'!$K$9+H62*'c design-col'!$K$10+H63*'c design-col'!$K$11","v":206.5530065156},{"$f":"(I58*'c design-col'!$K$6)+(I59*'c design-col'!$K$7)+I60*'c design-col'!$K$8+I61*'c design-col'!$K$9+I62*'c design-col'!$K$10+I63*'c design-col'!$K$11","v":222.64376720550001},{"$f":"(J58*'c design-col'!$K$6)+(J59*'c design-col'!$K$7)+J60*'c design-col'!$K$8+J61*'c design-col'!$K$9+J62*'c design-col'!$K$10+J63*'c design-col'!$K$11","v":239.60916447010001},{"$f":"(K58*'c design-col'!$K$6)+(K59*'c design-col'!$K$7)+K60*'c design-col'!$K$8+K61*'c design-col'!$K$9+K62*'c design-col'!$K$10+K63*'c design-col'!$K$11","v":258.32022861740001},{"$f":"(L58*'c design-col'!$K$6)+(L59*'c design-col'!$K$7)+L60*'c design-col'!$K$8+L61*'c design-col'!$K$9+L62*'c design-col'!$K$10+L63*'c design-col'!$K$11","v":286.81013454710001},{"$f":"(M58*'c design-col'!$K$6)+(M59*'c design-col'!$K$7)+M60*'c design-col'!$K$8+M61*'c design-col'!$K$9+M62*'c design-col'!$K$10+M63*'c design-col'!$K$11","v":325.90414173529996},{"$f":"(N58*'c design-col'!$K$6)+(N59*'c design-col'!$K$7)+N60*'c design-col'!$K$8+N61*'c design-col'!$K$9+N62*'c design-col'!$K$10+N63*'c design-col'!$K$11","v":385.34946854049997},{"$f":"(O58*'c design-col'!$K$6)+(O59*'c design-col'!$K$7)+O60*'c design-col'!$K$8+O61*'c design-col'!$K$9+O62*'c design-col'!$K$10+O63*'c design-col'!$K$11","v":461.59514061620001},{"$f":"(P58*'c design-col'!$K$6)+(P59*'c design-col'!$K$7)+P60*'c design-col'!$K$8+P61*'c design-col'!$K$9+P62*'c design-col'!$K$10+P63*'c design-col'!$K$11","v":566.09160097959989},{"$f":"(Q58*'c design-col'!$K$6)+(Q59*'c design-col'!$K$7)+Q60*'c design-col'!$K$8+Q61*'c design-col'!$K$9+Q62*'c design-col'!$K$10+Q63*'c design-col'!$K$11","v":715.69911314109993}]
["ECO2/tonne",{"$f":"B65/B64","v":4.7038903720954345E-2},{"$f":"C65/C64","v":5.2358340833596008E-2},5.7309774177759329E-2,6.2554997631646611E-2,6.7834216436307063E-2,7.5646444526296139E-2,8.5671093536126092E-2,9.2344988471795939E-2,9.9381652621360436E-2,0.10714235944313563,0.11895899400543343,0.13517384559738696,0.15982972564931563,0.19145381195197014,0.23479535503094148,0.2968474131651182]
["ECO2 / m3 / Mpa",{"$f":"B65/B57","v":14.170469745937497},{"$f":"C65/C57","v":10.519663312483331},8.6322847355249994,7.5410049644949995,6.5392184644600002,6.0794525917633324,5.901514471874286,5.5660941801375001,5.3246480993355556,5.1664045723480001,5.2147297190381821,5.4317356955883325,5.5049924077214278,5.7699392577025002,6.2899066775511097,7.1569911314109991]
["ECO2 / tonne / Mpa",{"$f":"B66/B57","v":5.8798629651192931E-3},{"$f":"C66/C57","v":4.363195069466334E-3},3.5818608861099581E-3,3.1277498815823306E-3,2.7133686574522826E-3,2.521548150876538E-3,2.4477455296036026E-3,2.3086247117948986E-3,2.2084811693635653E-3,2.1428471888627126E-3,2.1628908000987895E-3,2.252897426623116E-3,2.2832817949902232E-3,2.3931726493996268E-3,2.6088372781215719E-3,2.9684741316511822E-3]
[]
["40% PFA, SP"]
["0-10",8,12,16,20,25,30,35,40,45,50,55,60,70,80,90,100]
["Water content",103.5,103.5,103.5,103.5,103.5,103.5,103.5,103.5,103.5,103.5,103.5,103.5,103.5,103.5,103.5,103.5]
["Cement content",95,107,119,132,144,163,187,203,220,239,269,308,368,446,551,704]
["PFA content",63,71,79,88,96,109,125,135,147,159,179,205,245,297,368,469]
["Fine Agg",842,790,749,713,682,644,606,583,562,541,513,481,439,393,339,270]
["Coarse Agg",1321,1352,1373,1388,1398,1404,1403,1399,1391,1381,1360,1327,1269,1185,1063,877]
["Plasticiser dosage",0.6,0.7,0.8,0.9,1,1.1000000000000001,1.2,1.4,1.5,1.6,1.8,2.1,2.5,3,3.7,4.7]
["Concrete",{"$f":"B72+B73+B74+B75+B76+B77","v":2425.1},{"$f":"C72+C73+C74+C75+C76","v":2423.5},2423.5,2424.5,2423.5,2423.5,2424.5,2423.5,2423.5,2423.5,2424.5,2424.5,2424.5,2424.5,2424.5,2423.5]
["ECO2 / m3",{"$f":"(B72*'c design-col'!$K$6)+(B73*'c design-col'!$K$7)+B74*'c design-col'!$K$8+B75*'c design-col'!$K$9+B76*'c design-col'!$K$10+B77*'c design-col'!$K$11","v":104.69789414139998},{"$f":"(C72*'c design-col'!$K$6)+(C73*'c design-col'!$K$7)+C74*'c design-col'!$K$8+C75*'c design-col'!$K$9+C76*'c design-col'!$K$10+C77*'c design-col'!$K$11","v":115.798724377},{"$f":"(D72*'c design-col'!$K$6)+(D73*'c design-col'!$K$7)+D74*'c design-col'!$K$8+D75*'c design-col'!$K$9+D76*'c design-col'!$K$10+D77*'c design-col'!$K$11","v":126.79645465029998},{"$f":"(E72*'c design-col'!$K$6)+(E73*'c design-col'!$K$7)+E74*'c design-col'!$K$8+E75*'c design-col'!$K$9+E76*'c design-col'!$K$10+E77*'c design-col'!$K$11","v":138.63950952509998},{"$f":"(F72*'c design-col'!$K$6)+(F73*'c design-col'!$K$7)+F74*'c design-col'!$K$8+F75*'c design-col'!$K$9+F76*'c design-col'!$K$10+F77*'c design-col'!$K$11","v":149.51897579340002},{"$f":"(G72*'c design-col'!$K$6)+(G73*'c design-col'!$K$7)+G74*'c design-col'!$K$8+G75*'c design-col'!$K$9+G76*'c design-col'!$K$10+G77*'c design-col'!$K$11","v":166.65303183879999},{"$f":"(H72*'c design-col'!$K$6)+(H73*'c design-col'!$K$7)+H74*'c design-col'!$K$8+H75*'c design-col'!$K$9+H76*'c design-col'!$K$10+H77*'c design-col'!$K$11","v":188.19753424019996},{"$f":"(I72*'c design-col'!$K$6)+(I73*'c design-col'!$K$7)+I74*'c design-col'!$K$8+I75*'c design-col'!$K$9+I76*'c design-col'!$K$10+I77*'c design-col'!$K$11","v":202.50508794609999},{"$f":"(J72*'c design-col'!$K$6)+(J73*'c design-col'!$K$7)+J74*'c design-col'!$K$8+J75*'c design-col'!$K$9+J76*'c design-col'!$K$10+J77*'c design-col'!$K$11","v":217.70373656539996},{"$f":"(K72*'c design-col'!$K$6)+(K73*'c design-col'!$K$7)+K74*'c design-col'!$K$8+K75*'c design-col'!$K$9+K76*'c design-col'!$K$10+K77*'c design-col'!$K$11","v":234.6444458007},{"$f":"(L72*'c design-col'!$K$6)+(L73*'c design-col'!$K$7)+L74*'c design-col'!$K$8+L75*'c design-col'!$K$9+L76*'c design-col'!$K$10+L77*'c design-col'!$K$11","v":261.36630878909995},{"$f":"(M72*'c design-col'!$K$6)+(M73*'c design-col'!$K$7)+M74*'c design-col'!$K$8+M75*'c design-col'!$K$9+M76*'c design-col'!$K$10+M77*'c design-col'!$K$11","v":296.04164149070004},{"$f":"(N72*'c design-col'!$K$6)+(N73*'c design-col'!$K$7)+N74*'c design-col'!$K$8+N75*'c design-col'!$K$9+N76*'c design-col'!$K$10+N77*'c design-col'!$K$11","v":349.31208630529994},{"$f":"(O72*'c design-col'!$K$6)+(O73*'c design-col'!$K$7)+O74*'c design-col'!$K$8+O75*'c design-col'!$K$9+O76*'c design-col'!$K$10+O77*'c design-col'!$K$11","v":418.47301064509998},{"$f":"(P72*'c design-col'!$K$6)+(P73*'c design-col'!$K$7)+P74*'c design-col'!$K$8+P75*'c design-col'!$K$9+P76*'c design-col'!$K$10+P77*'c design-col'!$K$11","v":511.50488422329994},{"$f":"(Q72*'c design-col'!$K$6)+(Q73*'c design-col'!$K$7)+Q74*'c design-col'!$K$8+Q75*'c design-col'!$K$9+Q76*'c design-col'!$K$10+Q77*'c design-col'!$K$11","v":646.91590091299997}]
["ECO2/tonne",{"$f":"B79/B78","v":4.3172609022885652E-2},{"$f":"C79/C78","v":4.7781606922632558E-2},5.2319560408623879E-2,5.7182722014889657E-2,6.1695471753001864E-2,6.8765435047988446E-2,7.7623235405320665E-2,8.355893870274396E-2,8.9830301863173076E-2,9.6820485166370956E-2,0.10780214839723652,0.1221042035432873,0.14407592753363577,0.17260177795219631,0.2109733488237987,0.26693455783494946]
["ECO2 / m3 / Mpa",{"$f":"B79/B71","v":13.087236767674998},{"$f":"C79/C71","v":9.6498936980833339},7.9247784156437486,6.9319754762549994,5.9807590317360004,5.5551010612933327,5.3770724068628555,5.0626271986524998,4.8378608125644433,4.6928889160139997,4.7521147052563624,4.9340273581783345,4.9901726615042845,5.2309126330637499,5.6833876024811101,6.4691590091299993]
["ECO2 / tonne / Mpa",{"$f":"B80/B71","v":5.3965761278607065E-3},{"$f":"C80/C71","v":3.9818005768860465E-3},3.2699725255389924E-3,2.859136100744483E-3,2.4678188701200746E-3,2.2921811682662815E-3,2.2178067258663047E-3,2.0889734675685989E-3,1.9962289302927348E-3,1.9364097033274191E-3,1.9600390617679369E-3,2.0350700590547883E-3,2.0582275361947966E-3,2.1575222244024539E-3,2.3441483202644299E-3,2.6693455783494946E-3]
[]
["0% PFA, No SP"]
["10-30",8,12,16,20,25,30,35,40,45,50,55,60,70,80,90,100]
["Water content",160,160,160,160,160,160,160,160,160,160,160,160,160,160,160,160]
["Cement content",176,199,221,244,268,303,347,376,409,444,498,571,682,827,1023,1306]
["ECO2 / m3",0,0,0,0,0,0,0,0,0,0,0,0,0,0,0,0]
["ECO2/tonne",835,783,741,706,674,635,595,572,550,528,498,463,417,366,305,225]
["ECO2 / m3 / Mpa",1188,1217,1237,1250,1258,1261,1257,1250,1241,1227,1203,1165,1100,1006,871,668]
["ECO2 / tonne / Mpa",0,0,0,0,0,0,0,0,0,0,0,0,0,0,0,0]
["Concrete",{"$f":"SUM(B86:B91)","v":2359},2359,2359,2360,2360,2359,2359,2358,2360,2359,2359,2359,2359,2359,2359,2359]
["ECO2 / m3",{"$f":"(B86*'c design-col'!$K$6)+(B87*'c design-col'!$K$7)+B88*'c design-col'!$K$8+B89*'c design-col'!$K$9+B90*'c design-col'!$K$10+B91*'c design-col'!$K$11","v":172.92233103049998},{"$f":"(C86*'c design-col'!$K$6)+(C87*'c design-col'!$K$7)+C88*'c design-col'!$K$8+C89*'c design-col'!$K$9+C90*'c design-col'!$K$10+C91*'c design-col'!$K$11","v":193.50416746209999},{"$f":"(D86*'c design-col'!$K$6)+(D87*'c design-col'!$K$7)+D88*'c design-col'!$K$8+D89*'c design-col'!$K$9+D90*'c design-col'!$K$10+D91*'c design-col'!$K$11","v":213.10956217269995},{"$f":"(E86*'c design-col'!$K$6)+(E87*'c design-col'!$K$7)+E88*'c design-col'!$K$8+E89*'c design-col'!$K$9+E90*'c design-col'!$K$10+E91*'c design-col'!$K$11","v":233.52505179419998},{"$f":"(F86*'c design-col'!$K$6)+(F87*'c design-col'!$K$7)+F88*'c design-col'!$K$8+F89*'c design-col'!$K$9+F90*'c design-col'!$K$10+F91*'c design-col'!$K$11","v":254.76709570779997},{"$f":"(G86*'c design-col'!$K$6)+(G87*'c design-col'!$K$7)+G88*'c design-col'!$K$8+G89*'c design-col'!$K$9+G90*'c design-col'!$K$10+G91*'c design-col'!$K$11","v":285.65140840650002},{"$f":"(H86*'c design-col'!$K$6)+(H87*'c design-col'!$K$7)+H88*'c design-col'!$K$8+H89*'c design-col'!$K$9+H90*'c design-col'!$K$10+H91*'c design-col'!$K$11","v":324.39838761050004},{"$f":"(I86*'c design-col'!$K$6)+(I87*'c design-col'!$K$7)+I88*'c design-col'!$K$8+I89*'c design-col'!$K$9+I90*'c design-col'!$K$10+I91*'c design-col'!$K$11","v":349.88786020039998},{"$f":"(J86*'c design-col'!$K$6)+(J87*'c design-col'!$K$7)+J88*'c design-col'!$K$8+J89*'c design-col'!$K$9+J90*'c design-col'!$K$10+J91*'c design-col'!$K$11","v":378.889470657},{"$f":"(K86*'c design-col'!$K$6)+(K87*'c design-col'!$K$7)+K88*'c design-col'!$K$8+K89*'c design-col'!$K$9+K90*'c design-col'!$K$10+K91*'c design-col'!$K$11","v":409.59458395360002},{"$f":"(L86*'c design-col'!$K$6)+(L87*'c design-col'!$K$7)+L88*'c design-col'!$K$8+L89*'c design-col'!$K$9+L90*'c design-col'!$K$10+L91*'c design-col'!$K$11","v":456.94645482459998},{"$f":"(M86*'c design-col'!$K$6)+(M87*'c design-col'!$K$7)+M88*'c design-col'!$K$8+M89*'c design-col'!$K$9+M90*'c design-col'!$K$10+M91*'c design-col'!$K$11","v":520.90060725410001},{"$f":"(N86*'c design-col'!$K$6)+(N87*'c design-col'!$K$7)+N88*'c design-col'!$K$8+N89*'c design-col'!$K$9+N90*'c design-col'!$K$10+N91*'c design-col'!$K$11","v":618.06986394189994},{"$f":"(O86*'c design-col'!$K$6)+(O87*'c design-col'!$K$7)+O88*'c design-col'!$K$8+O89*'c design-col'!$K$9+O90*'c design-col'!$K$10+O91*'c design-col'!$K$11","v":744.9068568081999},{"$f":"(P86*'c design-col'!$K$6)+(P87*'c design-col'!$K$7)+P88*'c design-col'!$K$8+P89*'c design-col'!$K$9+P90*'c design-col'!$K$10+P91*'c design-col'!$K$11","v":916.27180679549997},{"$f":"(Q86*'c design-col'!$K$6)+(Q87*'c design-col'!$K$7)+Q88*'c design-col'!$K$8+Q89*'c design-col'!$K$9+Q90*'c design-col'!$K$10+Q91*'c design-col'!$K$11","v":1163.6166752634999}]
["ECO2/tonne",{"$f":"B93/B92","v":7.3303234858202615E-2},{"$f":"C93/C92","v":8.2028048945358201E-2},9.0338941149936389E-2,9.8951293133135582E-2,0.10795215919822032,0.1210900417153455,0.13751521306083087,0.14838331645479219,0.16054638587161016,0.17363059938685885,0.19370345689894022,0.22081416161682918,0.26200502922505298,0.31577230046977528,0.38841534836604491,0.49326692465599825]
["ECO2 / m3 / Mpa",{"$f":"B93/B85","v":21.615291378812497},{"$f":"C93/C85","v":16.125347288508333},13.319347635793747,11.67625258971,10.190683828311998,9.5217136135500002,9.2685253603000017,8.7471965050099989,8.4197660146000004,8.1918916790720004,8.3081173604472731,8.6816767875683336,8.8295694848842849,9.3113357101024992,10.180797853283334,11.636166752634999]
["ECO2 / tonne / Mpa",{"$f":"B94/B85","v":9.1629043572753269E-3},{"$f":"C94/C85","v":6.8356707454465164E-3},5.6461838218710243E-3,4.9475646566567791E-3,4.3180863679288129E-3,4.0363347238448503E-3,3.9290060874523107E-3,3.7095829113698046E-3,3.5676974638135591E-3,3.4726119877371768E-3,3.5218810345261859E-3,3.6802360269471532E-3,3.7429289889293282E-3,3.9471537558721913E-3,4.3157260929560549E-3,4.9326692465599823E-3]
[]
["0% PFA, SP"]
["10-30",8,12,16,20,25,30,35,40,45,50,55,60,70,80,90,100]
["Water content",144,144,144,144,144,144,144,144,144,144,144,144,144,144,144,144]
["Cement content",158,179,199,220,241,273,312,339,368,399,448,514,614,744,921,1176]
["PFA content",0,0,0,0,0,0,0,0,0,0,0,0,0,0,0,0]
["Fine Agg",857,805,762,727,695,657,618,595,573,552,523,489,446,397,340,267]
["Coarse Agg",1219,1250,1272,1287,1297,1304,1304,1300,1293,1282,1262,1231,1174,1092,973,791]
["Plasticiser dosage",0.6,0.7,0.8,0.9,1,1.1000000000000001,1.2,1.4,1.5,1.6,1.8,2.1,2.5,3,3.7,4.7]
["Concrete",{"$f":"B100+B101+B102+B103+B104+B105","v":2378.6},2378.6999999999998,2377.8000000000002,2378.9,2378,2379.1,2379.1999999999998,2379.4,2379.5,2378.6,2378.8000000000002,2380.1,2380.5,2380,2381.6999999999998,2382.6999999999998]
["ECO2 / m3",{"$f":"(B100*'c design-col'!$K$6)+(B101*'c design-col'!$K$7)+B102*'c design-col'!$K$8+B103*'c design-col'!$K$9+B104*'c design-col'!$K$10+B105*'c design-col'!$K$11","v":157.44572421789999},{"$f":"(C100*'c design-col'!$K$6)+(C101*'c design-col'!$K$7)+C102*'c design-col'!$K$8+C103*'c design-col'!$K$9+C104*'c design-col'!$K$10+C105*'c design-col'!$K$11","v":176.28550055349999},{"$f":"(D100*'c design-col'!$K$6)+(D101*'c design-col'!$K$7)+D102*'c design-col'!$K$8+D103*'c design-col'!$K$9+D104*'c design-col'!$K$10+D105*'c design-col'!$K$11","v":194.14652371740002},{"$f":"(E100*'c design-col'!$K$6)+(E101*'c design-col'!$K$7)+E102*'c design-col'!$K$8+E103*'c design-col'!$K$9+E104*'c design-col'!$K$10+E105*'c design-col'!$K$11","v":212.81995324289997},{"$f":"(F100*'c design-col'!$K$6)+(F101*'c design-col'!$K$7)+F102*'c design-col'!$K$8+F103*'c design-col'!$K$9+F104*'c design-col'!$K$10+F105*'c design-col'!$K$11","v":231.43605416049999},{"$f":"(G100*'c design-col'!$K$6)+(G101*'c design-col'!$K$7)+G102*'c design-col'!$K$8+G103*'c design-col'!$K$9+G104*'c design-col'!$K$10+G105*'c design-col'!$K$11","v":259.72244049789998},{"$f":"(H100*'c design-col'!$K$6)+(H101*'c design-col'!$K$7)+H102*'c design-col'!$K$8+H103*'c design-col'!$K$9+H104*'c design-col'!$K$10+H105*'c design-col'!$K$11","v":294.10372754059995},{"$f":"(I100*'c design-col'!$K$6)+(I101*'c design-col'!$K$7)+I102*'c design-col'!$K$8+I103*'c design-col'!$K$9+I104*'c design-col'!$K$10+I105*'c design-col'!$K$11","v":317.86399314649998},{"$f":"(J100*'c design-col'!$K$6)+(J101*'c design-col'!$K$7)+J102*'c design-col'!$K$8+J103*'c design-col'!$K$9+J104*'c design-col'!$K$10+J105*'c design-col'!$K$11","v":343.35577770709995},{"$f":"(K100*'c design-col'!$K$6)+(K101*'c design-col'!$K$7)+K102*'c design-col'!$K$8+K103*'c design-col'!$K$9+K104*'c design-col'!$K$10+K105*'c design-col'!$K$11","v":370.56622915039998},{"$f":"(L100*'c design-col'!$K$6)+(L101*'c design-col'!$K$7)+L102*'c design-col'!$K$8+L103*'c design-col'!$K$9+L104*'c design-col'!$K$10+L105*'c design-col'!$K$11","v":413.55240838009996},{"$f":"(M100*'c design-col'!$K$6)+(M101*'c design-col'!$K$7)+M102*'c design-col'!$K$8+M103*'c design-col'!$K$9+M104*'c design-col'!$K$10+M105*'c design-col'!$K$11","v":471.41166166429997},{"$f":"(N100*'c design-col'!$K$6)+(N101*'c design-col'!$K$7)+N102*'c design-col'!$K$8+N103*'c design-col'!$K$9+N104*'c design-col'!$K$10+N105*'c design-col'!$K$11","v":558.96796362019995},{"$f":"(O100*'c design-col'!$K$6)+(O101*'c design-col'!$K$7)+O102*'c design-col'!$K$8+O103*'c design-col'!$K$9+O104*'c design-col'!$K$10+O105*'c design-col'!$K$11","v":672.70556959189992},{"$f":"(P100*'c design-col'!$K$6)+(P101*'c design-col'!$K$7)+P102*'c design-col'!$K$8+P103*'c design-col'!$K$9+P104*'c design-col'!$K$10+P105*'c design-col'!$K$11","v":827.4916353939999},{"$f":"(Q100*'c design-col'!$K$6)+(Q101*'c design-col'!$K$7)+Q102*'c design-col'!$K$8+Q103*'c design-col'!$K$9+Q104*'c design-col'!$K$10+Q105*'c design-col'!$K$11","v":1050.3738724488999}]
["ECO2/tonne",{"$f":"B107/B106","v":6.6192602462751202E-2},{"$f":"C107/C106","v":7.4110018309791068E-2},8.1649644090083268E-2,8.9461496171718002E-2,9.7323824289529015E-2,0.10916835799163549,0.12361454587281438,0.13358997778704715,0.14429744808031097,0.15579173848078701,0.17384917117037998,0.1980638047411033,0.2348111588406637,0.28264939898819325,0.34743739152454128,0.44083345467280816]
["ECO2 / m3 / Mpa",{"$f":"B107/B99","v":19.680715527237499},{"$f":"C107/C99","v":14.690458379458333},12.134157732337501,10.640997662144999,9.2574421664199988,8.6574146832633332,8.4029636440171416,7.9465998286624995,7.6301283934911099,7.4113245830079997,7.5191346978199993,7.8568610277383328,7.9852566231457134,8.4088196198987486,9.1943515043777762,10.503738724488999]
["ECO2 / tonne / Mpa",{"$f":"B108/B99","v":8.2740753078439002E-3},{"$f":"C108/C99","v":6.1758348591492559E-3},5.1031027556302042E-3,4.4730748085859001E-3,3.8929529715811604E-3,3.6389452663878495E-3,3.5318441677946967E-3,3.3397494446761786E-3,3.206609957340244E-3,3.1158347696157401E-3,3.1608940212796361E-3,3.3010634123517217E-3,3.3544451262951958E-3,3.5331174873524155E-3,3.8604154613837921E-3,4.4083345467280819E-3]
[]
["20% PFA, No SP"]
["10-30",8,12,16,20,25,30,35,40,45,50,55,60,70,80,90,100]
["Water content",150,150,150,150,150,150,150,150,150,150,150,150,150,150,150,150]
["Cement content",153,173,193,213,234,264,302,328,356,387,435,498,595,721,892,1139]
["PFA content",38,43,48,53,58,66,76,82,89,97,109,124,149,180,223,285]
["Fine Agg",837,785,742,705,673,633,592,568,545,523,491,455,406,352,287,201]
["Coarse Agg",1192,1220,1238,1249,1255,1257,1251,1242,1230,1214,1186,1144,1071,967,819,596]
["Plasticiser dosage"]
["Concrete",{"$f":"B114+B115+B116+B117+B118","v":2370},2371,2371,2370,2370,2370,2371,2370,2370,2371,2371,2371,2371,2370,2371,2371]
["ECO2 / m3",{"$f":"(B114*'c design-col'!$K$6)+(B115*'c design-col'!$K$7)+B116*'c design-col'!$K$8+B117*'c design-col'!$K$9+B118*'c design-col'!$K$10+B119*'c design-col'!$K$11","v":153.6650575999},{"$f":"(C114*'c design-col'!$K$6)+(C115*'c design-col'!$K$7)+C116*'c design-col'!$K$8+C117*'c design-col'!$K$9+C118*'c design-col'!$K$10+C119*'c design-col'!$K$11","v":171.71739273949999},{"$f":"(D114*'c design-col'!$K$6)+(D115*'c design-col'!$K$7)+D116*'c design-col'!$K$8+D117*'c design-col'!$K$9+D118*'c design-col'!$K$10+D119*'c design-col'!$K$11","v":189.66200501539996},{"$f":"(E114*'c design-col'!$K$6)+(E115*'c design-col'!$K$7)+E116*'c design-col'!$K$8+E117*'c design-col'!$K$9+E118*'c design-col'!$K$10+E119*'c design-col'!$K$11","v":207.53051785150001},{"$f":"(F114*'c design-col'!$K$6)+(F115*'c design-col'!$K$7)+F116*'c design-col'!$K$8+F117*'c design-col'!$K$9+F118*'c design-col'!$K$10+F119*'c design-col'!$K$11","v":226.2302078811},{"$f":"(G114*'c design-col'!$K$6)+(G115*'c design-col'!$K$7)+G116*'c design-col'!$K$8+G117*'c design-col'!$K$9+G118*'c design-col'!$K$10+G119*'c design-col'!$K$11","v":252.89594203709999},{"$f":"(H114*'c design-col'!$K$6)+(H115*'c design-col'!$K$7)+H116*'c design-col'!$K$8+H117*'c design-col'!$K$9+H118*'c design-col'!$K$10+H119*'c design-col'!$K$11","v":286.58160720639995},{"$f":"(I114*'c design-col'!$K$6)+(I115*'c design-col'!$K$7)+I116*'c design-col'!$K$8+I117*'c design-col'!$K$9+I118*'c design-col'!$K$10+I119*'c design-col'!$K$11","v":309.55341446159997},{"$f":"(J114*'c design-col'!$K$6)+(J115*'c design-col'!$K$7)+J116*'c design-col'!$K$8+J117*'c design-col'!$K$9+J118*'c design-col'!$K$10+J119*'c design-col'!$K$11","v":334.28374119149993},{"$f":"(K114*'c design-col'!$K$6)+(K115*'c design-col'!$K$7)+K116*'c design-col'!$K$8+K117*'c design-col'!$K$9+K118*'c design-col'!$K$10+K119*'c design-col'!$K$11","v":361.64361770409988},{"$f":"(L114*'c design-col'!$K$6)+(L115*'c design-col'!$K$7)+L116*'c design-col'!$K$8+L117*'c design-col'!$K$9+L118*'c design-col'!$K$10+L119*'c design-col'!$K$11","v":403.96015790569999},{"$f":"(M114*'c design-col'!$K$6)+(M115*'c design-col'!$K$7)+M116*'c design-col'!$K$8+M117*'c design-col'!$K$9+M118*'c design-col'!$K$10+M119*'c design-col'!$K$11","v":459.42675951649994},{"$f":"(N114*'c design-col'!$K$6)+(N115*'c design-col'!$K$7)+N116*'c design-col'!$K$8+N117*'c design-col'!$K$9+N118*'c design-col'!$K$10+N119*'c design-col'!$K$11","v":544.78690051620003},{"$f":"(O114*'c design-col'!$K$6)+(O115*'c design-col'!$K$7)+O116*'c design-col'!$K$8+O117*'c design-col'!$K$9+O118*'c design-col'!$K$10+O119*'c design-col'!$K$11","v":655.53165801039995},{"$f":"(P114*'c design-col'!$K$6)+(P115*'c design-col'!$K$7)+P116*'c design-col'!$K$8+P117*'c design-col'!$K$9+P118*'c design-col'!$K$10+P119*'c design-col'!$K$11","v":805.78420599889989},{"$f":"(Q114*'c design-col'!$K$6)+(Q115*'c design-col'!$K$7)+Q116*'c design-col'!$K$8+Q117*'c design-col'!$K$9+Q118*'c design-col'!$K$10+Q119*'c design-col'!$K$11","v":1022.7123695227}]
["ECO2/tonne",{"$f":"B121/B120","v":6.4837577046371303E-2},{"$f":"C121/C120","v":7.2424037427035001E-2},7.9992410381864179E-2,8.7565619346624476E-2,9.5455783916075954E-2,0.10670714853886075,0.12086950957671866,0.13061325504708859,0.14104799206392402,0.15252788599919859,0.17037543564137494,0.1937691942288064,0.2297709407491354,0.27659563629130801,0.33984993926566842,0.43134220561902148]
["ECO2 / m3 / Mpa",{"$f":"B121/B113","v":19.208132199987499},{"$f":"C121/C113","v":14.309782728291665},11.853875313462497,10.376525892575,9.0492083152439999,8.4298647345699997,8.188045920182855,7.7388353615399996,7.4285275820333316,7.2328723540819979,7.3447301437399997,7.657112658608332,7.7826700073742865,8.1941457251299994,8.9531578444322211,10.227123695227]
["ECO2 / tonne / Mpa",{"$f":"B122/B113","v":8.1046971307964129E-3},{"$f":"C122/C113","v":6.0353364522529171E-3},4.9995256488665112E-3,4.3782809673312238E-3,3.8182313566430381E-3,3.5569049512953585E-3,3.4534145593348186E-3,3.265331376177215E-3,3.1343998236427559E-3,3.0505577199839719E-3,3.0977351934795444E-3,3.2294865704801065E-3,3.2824420107019341E-3,3.4574454536413501E-3,3.7761104362852046E-3,4.3134220561902147E-3]
[]
["20% PFA, SP"]
["10-30",8,12,16,20,25,30,35,40,45,50,55,60,70,80,90,100]
["Water content",135,135,135,135,135,135,135,135,135,135,135,135,135,135,135,135]
["Cement content",138,156,174,192,210,238,272,295,321,348,391,448,535,649,803,1025]
["PFA content",34,39,43,48,53,59,68,74,80,87,98,112,134,162,201,256]
["Fine Agg",859,806,763,727,695,655,615,591,569,547,516,482,436,385,324,245]
["Coarse Agg",1222,1252,1273,1287,1295,1301,1298,1292,1283,1271,1248,1211,1148,1057,925,726]
["Plasticiser dosage",0.7,0.8,0.9,1,1.1000000000000001,1.2,1.4,1.5,1.6,1.7,2,2.2000000000000002,2.7,3.2,4,5.0999999999999996]
["Concrete",{"$f":"SUM(B128:B133)","v":2388.6999999999998},2388.8000000000002,2388.9,2390,2389.1,2389.1999999999998,2389.4,2388.5,2389.6,2389.6999999999998,2390,2390.1999999999998,2390.6999999999998,2391.1999999999998,2392,2392.1]
["ECO2 / m3",{"$f":"(B128*'c design-col'!$K$6)+(B129*'c design-col'!$K$7)+B130*'c design-col'!$K$8+B131*'c design-col'!$K$9+B132*'c design-col'!$K$10+B133*'c design-col'!$K$11","v":140.72024741529998},{"$f":"(C128*'c design-col'!$K$6)+(C129*'c design-col'!$K$7)+C130*'c design-col'!$K$8+C131*'c design-col'!$K$9+C132*'c design-col'!$K$10+C133*'c design-col'!$K$11","v":157.0282110082},{"$f":"(D128*'c design-col'!$K$6)+(D129*'c design-col'!$K$7)+D130*'c design-col'!$K$8+D131*'c design-col'!$K$9+D132*'c design-col'!$K$10+D133*'c design-col'!$K$11","v":173.2166157801},{"$f":"(E128*'c design-col'!$K$6)+(E129*'c design-col'!$K$7)+E130*'c design-col'!$K$8+E131*'c design-col'!$K$9+E132*'c design-col'!$K$10+E133*'c design-col'!$K$11","v":189.35823256289999},{"$f":"(F128*'c design-col'!$K$6)+(F129*'c design-col'!$K$7)+F130*'c design-col'!$K$8+F131*'c design-col'!$K$9+F132*'c design-col'!$K$10+F133*'c design-col'!$K$11","v":205.43197959649996},{"$f":"(G128*'c design-col'!$K$6)+(G129*'c design-col'!$K$7)+G130*'c design-col'!$K$8+G131*'c design-col'!$K$9+G132*'c design-col'!$K$10+G133*'c design-col'!$K$11","v":230.32735884049995},{"$f":"(H128*'c design-col'!$K$6)+(H129*'c design-col'!$K$7)+H130*'c design-col'!$K$8+H131*'c design-col'!$K$9+H132*'c design-col'!$K$10+H133*'c design-col'!$K$11","v":260.49136267649999},{"$f":"(I128*'c design-col'!$K$6)+(I129*'c design-col'!$K$7)+I130*'c design-col'!$K$8+I131*'c design-col'!$K$9+I132*'c design-col'!$K$10+I133*'c design-col'!$K$11","v":280.85007952769996},{"$f":"(J128*'c design-col'!$K$6)+(J129*'c design-col'!$K$7)+J130*'c design-col'!$K$8+J131*'c design-col'!$K$9+J132*'c design-col'!$K$10+J133*'c design-col'!$K$11","v":303.82651020430001},{"$f":"(K128*'c design-col'!$K$6)+(K129*'c design-col'!$K$7)+K130*'c design-col'!$K$8+K131*'c design-col'!$K$9+K132*'c design-col'!$K$10+K133*'c design-col'!$K$11","v":327.67526600489998},{"$f":"(L128*'c design-col'!$K$6)+(L129*'c design-col'!$K$7)+L130*'c design-col'!$K$8+L131*'c design-col'!$K$9+L132*'c design-col'!$K$10+L133*'c design-col'!$K$11","v":365.61196767719997},{"$f":"(M128*'c design-col'!$K$6)+(M129*'c design-col'!$K$7)+M130*'c design-col'!$K$8+M131*'c design-col'!$K$9+M132*'c design-col'!$K$10+M133*'c design-col'!$K$11","v":415.81715878939997},{"$f":"(N128*'c design-col'!$K$6)+(N129*'c design-col'!$K$7)+N130*'c design-col'!$K$8+N131*'c design-col'!$K$9+N132*'c design-col'!$K$10+N133*'c design-col'!$K$11","v":492.39293366119995},{"$f":"(O128*'c design-col'!$K$6)+(O129*'c design-col'!$K$7)+O130*'c design-col'!$K$8+O131*'c design-col'!$K$9+O132*'c design-col'!$K$10+O133*'c design-col'!$K$11","v":592.62411700349992},{"$f":"(P128*'c design-col'!$K$6)+(P129*'c design-col'!$K$7)+P130*'c design-col'!$K$8+P131*'c design-col'!$K$9+P132*'c design-col'!$K$10+P133*'c design-col'!$K$11","v":727.95754712679991},{"$f":"(Q128*'c design-col'!$K$6)+(Q129*'c design-col'!$K$7)+Q130*'c design-col'!$K$8+Q131*'c design-col'!$K$9+Q132*'c design-col'!$K$10+Q133*'c design-col'!$K$11","v":922.92428623349997}]
["ECO2/tonne",{"$f":"B135/B134","v":5.8910808144723069E-2},{"$f":"C135/C134","v":6.5735185452193562E-2},7.2508943773326631E-2,7.9229386009581584E-2,8.5987183289313956E-2,9.6403548819897864E-2,0.10901957088662424,0.11758429119853463,0.12714534240220121,0.13711983345394821,0.15297571869338911,0.173967516856079,0.20596182442849373,0.24783544538453495,0.30433007823026753,0.38582178263178796]
["ECO2 / m3 / Mpa",{"$f":"B135/B127","v":17.590030926912497},{"$f":"C135/C127","v":13.085684250683334},10.82603848625625,9.467911628145,8.2172791838599988,7.6775786280166649,7.4426103621857136,7.0212519881924988,6.7517002267622228,6.553505320098,6.6474903214036356,6.9302859798233332,7.0341847665885711,7.4078014625437492,8.0884171902977773,9.2292428623349991]
["ECO2 / tonne / Mpa",{"$f":"B136/B127","v":7.3638510180903836E-3},{"$f":"C136/C127","v":5.4779321210161299E-3},4.5318089858329145E-3,3.9614693004790796E-3,3.4394873315725582E-3,3.2134516273299289E-3,3.1148448824749784E-3,2.9396072799633658E-3,2.8254520533822491E-3,2.7423966690789644E-3,2.7813767035161654E-3,2.8994586142679834E-3,2.9423117775499103E-3,3.0979430673066868E-3,3.3814453136696392E-3,3.8582178263178797E-3]
[]
["40% PFA, No SP"]
["10-30",8,12,16,20,25,30,35,40,45,50,55,60,70,80,90,100]
["Water content",140,140,140,140,140,140,140,140,140,140,140,140,140,140,140,140]
["Cement content",128,145,161,178,195,221,253,275,298,324,363,416,497,603,746,953]
["PFA content",85,96,107,119,130,147,169,183,199,216,242,278,332,402,497,635]
["Fine Agg",837,783,740,702,669,628,585,560,536,512,479,440,389,330,259,165]
["Coarse Agg",1191,1218,1234,1243,1248,1246,1236,1224,1209,1191,1157,1108,1024,907,740,489]
["Plasticiser dosage"]
["Concrete",{"$f":"B142+B143+B144+B145+B146","v":2381},2382,2382,2382,2382,2382,2383,2382,2382,2383,2381,2382,2382,2382,2382,2382]
["ECO2 / m3",{"$f":"(B142*'c design-col'!$K$6)+(B143*'c design-col'!$K$7)+B144*'c design-col'!$K$8+B145*'c design-col'!$K$9+B146*'c design-col'!$K$10+B147*'c design-col'!$K$11","v":132.81413250789998},{"$f":"(C142*'c design-col'!$K$6)+(C143*'c design-col'!$K$7)+C144*'c design-col'!$K$8+C145*'c design-col'!$K$9+C146*'c design-col'!$K$10+C147*'c design-col'!$K$11","v":148.35934345409999},{"$f":"(D142*'c design-col'!$K$6)+(D143*'c design-col'!$K$7)+D144*'c design-col'!$K$8+D145*'c design-col'!$K$9+D146*'c design-col'!$K$10+D147*'c design-col'!$K$11","v":162.90471894599997},{"$f":"(E142*'c design-col'!$K$6)+(E143*'c design-col'!$K$7)+E144*'c design-col'!$K$8+E145*'c design-col'!$K$9+E146*'c design-col'!$K$10+E147*'c design-col'!$K$11","v":178.28256644739994},{"$f":"(F142*'c design-col'!$K$6)+(F143*'c design-col'!$K$7)+F144*'c design-col'!$K$8+F145*'c design-col'!$K$9+F146*'c design-col'!$K$10+F147*'c design-col'!$K$11","v":193.59356083429995},{"$f":"(G142*'c design-col'!$K$6)+(G143*'c design-col'!$K$7)+G144*'c design-col'!$K$8+G145*'c design-col'!$K$9+G146*'c design-col'!$K$10+G147*'c design-col'!$K$11","v":216.91304157159996},{"$f":"(H142*'c design-col'!$K$6)+(H143*'c design-col'!$K$7)+H144*'c design-col'!$K$8+H145*'c design-col'!$K$9+H146*'c design-col'!$K$10+H147*'c design-col'!$K$11","v":245.56337607149996},{"$f":"(I142*'c design-col'!$K$6)+(I143*'c design-col'!$K$7)+I144*'c design-col'!$K$8+I145*'c design-col'!$K$9+I146*'c design-col'!$K$10+I147*'c design-col'!$K$11","v":265.17478249999999},{"$f":"(J142*'c design-col'!$K$6)+(J143*'c design-col'!$K$7)+J144*'c design-col'!$K$8+J145*'c design-col'!$K$9+J146*'c design-col'!$K$10+J147*'c design-col'!$K$11","v":285.68782550319997},{"$f":"(K142*'c design-col'!$K$6)+(K143*'c design-col'!$K$7)+K144*'c design-col'!$K$8+K145*'c design-col'!$K$9+K146*'c design-col'!$K$10+K147*'c design-col'!$K$11","v":308.84095943039995},{"$f":"(L142*'c design-col'!$K$6)+(L143*'c design-col'!$K$7)+L144*'c design-col'!$K$8+L145*'c design-col'!$K$9+L146*'c design-col'!$K$10+L147*'c design-col'!$K$11","v":343.50112652929994},{"$f":"(M142*'c design-col'!$K$6)+(M143*'c design-col'!$K$7)+M144*'c design-col'!$K$8+M145*'c design-col'!$K$9+M146*'c design-col'!$K$10+M147*'c design-col'!$K$11","v":390.59899664399995},{"$f":"(N142*'c design-col'!$K$6)+(N143*'c design-col'!$K$7)+N144*'c design-col'!$K$8+N145*'c design-col'!$K$9+N146*'c design-col'!$K$10+N147*'c design-col'!$K$11","v":462.45400983029992},{"$f":"(O142*'c design-col'!$K$6)+(O143*'c design-col'!$K$7)+O144*'c design-col'!$K$8+O145*'c design-col'!$K$9+O146*'c design-col'!$K$10+O147*'c design-col'!$K$11","v":556.39546837499995},{"$f":"(P142*'c design-col'!$K$6)+(P143*'c design-col'!$K$7)+P144*'c design-col'!$K$8+P145*'c design-col'!$K$9+P146*'c design-col'!$K$10+P147*'c design-col'!$K$11","v":683.0452272112999},{"$f":"(Q142*'c design-col'!$K$6)+(Q143*'c design-col'!$K$7)+Q144*'c design-col'!$K$8+Q145*'c design-col'!$K$9+Q146*'c design-col'!$K$10+Q147*'c design-col'!$K$11","v":866.29171055349991}]
["ECO2/tonne",{"$f":"B149/B148","v":5.5780820036917256E-2},{"$f":"C149/C148","v":6.2283519502141053E-2},6.8389890405541554E-2,7.4845745779764883E-2,8.1273535194920213E-2,9.1063409559865638E-2,0.1030479966728913,0.11132442590260286,0.11993611482082282,0.12960174545967265,0.14426758779055016,0.16397942764231735,0.1941452602142317,0.23358332005667504,0.28675282418610409,0.36368249813329129]
["ECO2 / m3 / Mpa",{"$f":"B149/B141","v":16.601766563487498},{"$f":"C149/C141","v":12.363278621174999},10.181544934124998,8.9141283223699972,7.743742433371998,7.2304347190533322,7.0160964591857136,6.6293695625,6.3486183445155548,6.1768191886079986,6.2454750278054538,6.509983277399999,6.6064858547185707,6.954943354687499,7.5893914134588876,8.6629171055349996]
["ECO2 / tonne / Mpa",{"$f":"B150/B141","v":6.972602504614657E-3},{"$f":"C150/C141","v":5.1902932918450875E-3},4.2743681503463471E-3,3.7422872889882443E-3,3.2509414077968087E-3,3.0354469853288548E-3,2.9442284763683229E-3,2.7831106475650715E-3,2.6652469960182848E-3,2.5920349091934532E-3,2.6230470507372754E-3,2.7329904607052893E-3,2.7735037173461674E-3,2.919791500708438E-3,3.1861424909567122E-3,3.6368249813329128E-3]
[]
["40% PFA, SP"]
["10-30",8,12,16,20,25,30,35,40,45,50,55,60,70,80,90,100]
["Water content",126,126,126,126,126,126,126,126,126,126,126,126,126,126,126,126]
["Cement content",115,130,145,160,176,199,227,247,268,291,327,375,448,542,671,857]
["PFA content",77,87,97,107,117,133,152,165,179,194,218,250,298,362,447,572]
["Fine Agg",858,805,761,724,691,650,608,584,561,538,506,469,420,365,299,213]
["Coarse Agg",1221,1250,1269,1282,1288,1291,1285,1276,1265,1249,1221,1179,1106,1003,854,631]
["Plasticiser dosage",0.8,0.9,1,1.1000000000000001,1.2,1.3,1.5,1.6,1.8,1.9,2.2000000000000002,2.5,3,3.6,4.5,5.7]
["Concrete",{"$f":"B156+B157+B158+B159+B160+B161","v":2397.8000000000002},2398.9,2399,2400.1,2399.1999999999998,2400.3000000000002,2399.5,2399.6,2400.8000000000002,2399.9,2400.1999999999998,2401.5,2401,2401.6,2401.5,2404.6999999999998]
["ECO2 / m3",{"$f":"(B156*'c design-col'!$K$6)+(B157*'c design-col'!$K$7)+B158*'c design-col'!$K$8+B159*'c design-col'!$K$9+B160*'c design-col'!$K$10+B161*'c design-col'!$K$11","v":121.5277771926},{"$f":"(C156*'c design-col'!$K$6)+(C157*'c design-col'!$K$7)+C158*'c design-col'!$K$8+C159*'c design-col'!$K$9+C160*'c design-col'!$K$10+C161*'c design-col'!$K$11","v":135.30623949349999},{"$f":"(D156*'c design-col'!$K$6)+(D157*'c design-col'!$K$7)+D158*'c design-col'!$K$8+D159*'c design-col'!$K$9+D160*'c design-col'!$K$10+D161*'c design-col'!$K$11","v":148.9769789307},{"$f":"(E156*'c design-col'!$K$6)+(E157*'c design-col'!$K$7)+E158*'c design-col'!$K$8+E159*'c design-col'!$K$9+E160*'c design-col'!$K$10+E161*'c design-col'!$K$11","v":162.58678297079999},{"$f":"(F156*'c design-col'!$K$6)+(F157*'c design-col'!$K$7)+F158*'c design-col'!$K$8+F159*'c design-col'!$K$9+F160*'c design-col'!$K$10+F161*'c design-col'!$K$11","v":176.99974756969999},{"$f":"(G156*'c design-col'!$K$6)+(G157*'c design-col'!$K$7)+G158*'c design-col'!$K$8+G159*'c design-col'!$K$9+G160*'c design-col'!$K$10+G161*'c design-col'!$K$11","v":197.704843087},{"$f":"(H156*'c design-col'!$K$6)+(H157*'c design-col'!$K$7)+H158*'c design-col'!$K$8+H159*'c design-col'!$K$9+H160*'c design-col'!$K$10+H161*'c design-col'!$K$11","v":222.79236884559998},{"$f":"(I156*'c design-col'!$K$6)+(I157*'c design-col'!$K$7)+I158*'c design-col'!$K$8+I159*'c design-col'!$K$9+I160*'c design-col'!$K$10+I161*'c design-col'!$K$11","v":240.64987922079999},{"$f":"(J156*'c design-col'!$K$6)+(J157*'c design-col'!$K$7)+J158*'c design-col'!$K$8+J159*'c design-col'!$K$9+J160*'c design-col'!$K$10+J161*'c design-col'!$K$11","v":259.39487928269995},{"$f":"(K156*'c design-col'!$K$6)+(K157*'c design-col'!$K$7)+K158*'c design-col'!$K$8+K159*'c design-col'!$K$9+K160*'c design-col'!$K$10+K161*'c design-col'!$K$11","v":279.87038166459996},{"$f":"(L156*'c design-col'!$K$6)+(L157*'c design-col'!$K$7)+L158*'c design-col'!$K$8+L159*'c design-col'!$K$9+L160*'c design-col'!$K$10+L161*'c design-col'!$K$11","v":311.90432862619997},{"$f":"(M156*'c design-col'!$K$6)+(M157*'c design-col'!$K$7)+M158*'c design-col'!$K$8+M159*'c design-col'!$K$9+M160*'c design-col'!$K$10+M161*'c design-col'!$K$11","v":354.56937684629997},{"$f":"(N156*'c design-col'!$K$6)+(N157*'c design-col'!$K$7)+N158*'c design-col'!$K$8+N159*'c design-col'!$K$9+N160*'c design-col'!$K$10+N161*'c design-col'!$K$11","v":419.33733084599993},{"$f":"(O156*'c design-col'!$K$6)+(O157*'c design-col'!$K$7)+O158*'c design-col'!$K$8+O159*'c design-col'!$K$9+O160*'c design-col'!$K$10+O161*'c design-col'!$K$11","v":502.69937980149996},{"$f":"(P156*'c design-col'!$K$6)+(P157*'c design-col'!$K$7)+P158*'c design-col'!$K$8+P159*'c design-col'!$K$9+P160*'c design-col'!$K$10+P161*'c design-col'!$K$11","v":616.94768662729984},{"$f":"(Q156*'c design-col'!$K$6)+(Q157*'c design-col'!$K$7)+Q158*'c design-col'!$K$8+Q159*'c design-col'!$K$9+Q160*'c design-col'!$K$10+Q161*'c design-col'!$K$11","v":781.65999949109982}]
["ECO2/tonne",{"$f":"B163/B162","v":5.0683033277420964E-2},{"$f":"C163/C162","v":5.6403451370836626E-2},6.2099616061150477E-2,6.7741670334902707E-2,7.3774486316147053E-2,8.2366722112652585E-2,9.2849497330943942E-2,0.10028749759159859,0.10804518463957845,0.1166175180901704,0.12994930781859845,0.14764496225121798,0.17465111655393584,0.20931852923113756,0.25690097298659165,0.32505510021670059]
["ECO2 / m3 / Mpa",{"$f":"B163/B155","v":15.190972149075},{"$f":"C163/C155","v":11.275519957791666},9.31106118316875,8.1293391485399997,7.0799899027879993,6.5901614362333332,6.3654962527314281,6.0162469805200001,5.7643306507266656,5.5974076332919989,5.6709877932036354,5.9094896141049995,5.990533297799999,6.2837422475187497,6.8549742958588871,7.8165999949109981]
["ECO2 / tonne / Mpa",{"$f":"B164/B155","v":6.3353791596776204E-3},{"$f":"C164/C155","v":4.7002876142363858E-3},3.8812260038219048E-3,3.3870835167451353E-3,2.950979452645882E-3,2.7455574037550863E-3,2.6528427808841125E-3,2.507187439789965E-3,2.4010041031017433E-3,2.3323503618034079E-3,2.3627146876108811E-3,2.4607493708536329E-3,2.495015950770512E-3,2.6164816153892195E-3,2.854455255406574E-3,3.2505510021670057E-3]
[]
["0% PFA, No SP"]
["30-60",8,12,16,20,25,30,35,40,45,50,55,60,70,80,90,100]
["Water content",180,180,180,180,180,180,180,180,180,180,180,180,180,180,180,180]
["Cement content",198,223,249,275,301,341,390,424,460,499,561,642,767,930,1151,1470]
["PFA content",0,0,0,0,0,0,0,0,0,0,0,0,0,0,0,0]
["Fine Agg",860,809,767,731,699,659,618,594,570,547,514,475,424,364,251,194]
["Coarse Agg",1098,1124,1141,1151,1156,1156,1148,1139,1126,1110,1082,1039,965,862,714,492]
["Plasticiser dosage",0,0,0,0,0,0,0,0,0,0,0,0,0,0,0,0]
["Concrete",{"$f":"SUM(B170:B175)","v":2336},2336,2337,2337,2336,2336,2336,2337,2336,2336,2337,2336,2336,2336,2296,2336]
["ECO2 / m3",{"$f":"(B170*'c design-col'!$K$6)+(B171*'c design-col'!$K$7)+B172*'c design-col'!$K$8+B173*'c design-col'!$K$9+B174*'c design-col'!$K$10+B175*'c design-col'!$K$11","v":191.28880781799998},{"$f":"(C170*'c design-col'!$K$6)+(C171*'c design-col'!$K$7)+C172*'c design-col'!$K$8+C173*'c design-col'!$K$9+C174*'c design-col'!$K$10+C175*'c design-col'!$K$11","v":213.6021637243},{"$f":"(D170*'c design-col'!$K$6)+(D171*'c design-col'!$K$7)+D172*'c design-col'!$K$8+D173*'c design-col'!$K$9+D174*'c design-col'!$K$10+D175*'c design-col'!$K$11","v":236.7045322589},{"$f":"(E170*'c design-col'!$K$6)+(E171*'c design-col'!$K$7)+E172*'c design-col'!$K$8+E173*'c design-col'!$K$9+E174*'c design-col'!$K$10+E175*'c design-col'!$K$11","v":259.73080135369997},{"$f":"(F170*'c design-col'!$K$6)+(F171*'c design-col'!$K$7)+F172*'c design-col'!$K$8+F173*'c design-col'!$K$9+F174*'c design-col'!$K$10+F175*'c design-col'!$K$11","v":282.70205329129993},{"$f":"(G170*'c design-col'!$K$6)+(G171*'c design-col'!$K$7)+G172*'c design-col'!$K$8+G173*'c design-col'!$K$9+G174*'c design-col'!$K$10+G175*'c design-col'!$K$11","v":317.96491126329994},{"$f":"(H170*'c design-col'!$K$6)+(H171*'c design-col'!$K$7)+H172*'c design-col'!$K$8+H173*'c design-col'!$K$9+H174*'c design-col'!$K$10+H175*'c design-col'!$K$11","v":361.07758314859996},{"$f":"(I170*'c design-col'!$K$6)+(I171*'c design-col'!$K$7)+I172*'c design-col'!$K$8+I173*'c design-col'!$K$9+I174*'c design-col'!$K$10+I175*'c design-col'!$K$11","v":390.95845360379997},{"$f":"(J170*'c design-col'!$K$6)+(J171*'c design-col'!$K$7)+J172*'c design-col'!$K$8+J173*'c design-col'!$K$9+J174*'c design-col'!$K$10+J175*'c design-col'!$K$11","v":422.55567949099992},{"$f":"(K170*'c design-col'!$K$6)+(K171*'c design-col'!$K$7)+K172*'c design-col'!$K$8+K173*'c design-col'!$K$9+K174*'c design-col'!$K$10+K175*'c design-col'!$K$11","v":456.7683077529},{"$f":"(L170*'c design-col'!$K$6)+(L171*'c design-col'!$K$7)+L172*'c design-col'!$K$8+L173*'c design-col'!$K$9+L174*'c design-col'!$K$10+L175*'c design-col'!$K$11","v":511.13289710379991},{"$f":"(M170*'c design-col'!$K$6)+(M171*'c design-col'!$K$7)+M172*'c design-col'!$K$8+M173*'c design-col'!$K$9+M174*'c design-col'!$K$10+M175*'c design-col'!$K$11","v":582.08460397049987},{"$f":"(N170*'c design-col'!$K$6)+(N171*'c design-col'!$K$7)+N172*'c design-col'!$K$8+N173*'c design-col'!$K$9+N174*'c design-col'!$K$10+N175*'c design-col'!$K$11","v":691.50099067679992},{"$f":"(O170*'c design-col'!$K$6)+(O171*'c design-col'!$K$7)+O172*'c design-col'!$K$8+O173*'c design-col'!$K$9+O174*'c design-col'!$K$10+O175*'c design-col'!$K$11","v":834.11139935879987},{"$f":"(P170*'c design-col'!$K$6)+(P171*'c design-col'!$K$7)+P172*'c design-col'!$K$8+P173*'c design-col'!$K$9+P174*'c design-col'!$K$10+P175*'c design-col'!$K$11","v":1027.2861427136997},{"$f":"(Q170*'c design-col'!$K$6)+(Q171*'c design-col'!$K$7)+Q172*'c design-col'!$K$8+Q173*'c design-col'!$K$9+Q174*'c design-col'!$K$10+Q175*'c design-col'!$K$11","v":1306.2597596997998}]
["ECO2/tonne",{"$f":"B177/B176","v":8.1887332113869851E-2},{"$f":"C177/C176","v":9.1439282416224316E-2},0.1012856363966196,0.11113855428057337,0.12101971459387839,0.13611511612298799,0.15457088319717463,0.1672907375283697,0.18088856142594176,0.19553437831887843,0.21871326363020963,0.24918005306956331,0.29601925970753423,0.35706823602688353,0.44742427818540931,0.55918654096738007]
["ECO2 / m3 / Mpa",{"$f":"B177/B169","v":23.911100977249998},{"$f":"C177/C169","v":17.800180310358332},14.79403326618125,12.986540067684999,11.308082131651997,10.598830375443331,10.316502375674284,9.7739613400949992,9.3901262109111094,9.1353661550579996,9.2933254018872713,9.7014100661749971,9.8785855810971412,10.426392491984998,11.414290474596664,13.062597596997998]
["ECO2 / tonne / Mpa",{"$f":"B178/B169","v":1.0235916514233731E-2},{"$f":"C178/C169","v":7.6199402013520266E-3},6.3303522747887248E-3,5.5569277140286684E-3,4.8407885837551358E-3,4.5371705374329333E-3,4.4163109484907041E-3,4.1822684382092426E-3,4.0197458094653723E-3,3.9106875663775685E-3,3.976604793276539E-3,4.1530008844927217E-3,4.2288465672504893E-3,4.4633529503360445E-3,4.9713808687267703E-3,5.5918654096738006E-3]
[]
["0% PFA, SP"]
["30-60",8,12,16,20,25,30,35,40,45,50,55,60,70,80,90,100]
["Water content",162,162,162,162,162,162,162,162,162,162,162,162,162,162,162,162]
["Cement content",178,201,224,247,271,307,351,381,414,449,505,578,691,837,1036,1323]
["PFA content",0,0,0,0,0,0,0,0,0,0,0,0,0,0,0,0]
["Fine Agg",886,834,792,757,725,686,645,622,592,576,545,508,459,403,336,247]
["Coarse Agg",1131,1160,1179,1191,1198,1202,1198,1192,1182,1170,1146,1109,1045,955,824,626]
["Plasticiser dosage",0.7,0.8,0.9,1,1.1000000000000001,1.2,1.4,1.5,1.7,1.8,2,2.2999999999999998,2.8,3.3,4.0999999999999996,5.3]
["Concrete",{"$f":"B184+B185+B186+B187+B188+B189","v":2357.6999999999998},2357.8000000000002,2357.9,2358,2357.1,2358.1999999999998,2357.4,2358.5,2351.6999999999998,2358.8000000000002,2360,2359.3000000000002,2359.8000000000002,2360.3000000000002,2362.1,2363.3000000000002]
["ECO2 / m3",{"$f":"(B184*'c design-col'!$K$6)+(B185*'c design-col'!$K$7)+B186*'c design-col'!$K$8+B187*'c design-col'!$K$9+B188*'c design-col'!$K$10+B189*'c design-col'!$K$11","v":174.07738671219997},{"$f":"(C184*'c design-col'!$K$6)+(C185*'c design-col'!$K$7)+C186*'c design-col'!$K$8+C187*'c design-col'!$K$9+C188*'c design-col'!$K$10+C189*'c design-col'!$K$11","v":194.65922366379999},{"$f":"(D184*'c design-col'!$K$6)+(D185*'c design-col'!$K$7)+D186*'c design-col'!$K$8+D187*'c design-col'!$K$9+D188*'c design-col'!$K$10+D189*'c design-col'!$K$11","v":215.1356492024},{"$f":"(E184*'c design-col'!$K$6)+(E185*'c design-col'!$K$7)+E186*'c design-col'!$K$8+E187*'c design-col'!$K$9+E188*'c design-col'!$K$10+E189*'c design-col'!$K$11","v":235.53828675189999},{"$f":"(F184*'c design-col'!$K$6)+(F185*'c design-col'!$K$7)+F186*'c design-col'!$K$8+F187*'c design-col'!$K$9+F188*'c design-col'!$K$10+F189*'c design-col'!$K$11","v":256.76747859349996},{"$f":"(G184*'c design-col'!$K$6)+(G185*'c design-col'!$K$7)+G186*'c design-col'!$K$8+G187*'c design-col'!$K$9+G188*'c design-col'!$K$10+G189*'c design-col'!$K$11","v":288.54852730419992},{"$f":"(H184*'c design-col'!$K$6)+(H185*'c design-col'!$K$7)+H186*'c design-col'!$K$8+H187*'c design-col'!$K$9+H188*'c design-col'!$K$10+H189*'c design-col'!$K$11","v":327.2931960974999},{"$f":"(I184*'c design-col'!$K$6)+(I185*'c design-col'!$K$7)+I186*'c design-col'!$K$8+I187*'c design-col'!$K$9+I188*'c design-col'!$K$10+I189*'c design-col'!$K$11","v":353.67940469939992},{"$f":"(J184*'c design-col'!$K$6)+(J185*'c design-col'!$K$7)+J186*'c design-col'!$K$8+J187*'c design-col'!$K$9+J188*'c design-col'!$K$10+J189*'c design-col'!$K$11","v":382.64967199839998},{"$f":"(K184*'c design-col'!$K$6)+(K185*'c design-col'!$K$7)+K186*'c design-col'!$K$8+K187*'c design-col'!$K$9+K188*'c design-col'!$K$10+K189*'c design-col'!$K$11","v":413.39435970319994},{"$f":"(L184*'c design-col'!$K$6)+(L185*'c design-col'!$K$7)+L186*'c design-col'!$K$8+L187*'c design-col'!$K$9+L188*'c design-col'!$K$10+L189*'c design-col'!$K$11","v":462.51168596349993},{"$f":"(M184*'c design-col'!$K$6)+(M185*'c design-col'!$K$7)+M186*'c design-col'!$K$8+M187*'c design-col'!$K$9+M188*'c design-col'!$K$10+M189*'c design-col'!$K$11","v":526.47406964359993},{"$f":"(N184*'c design-col'!$K$6)+(N185*'c design-col'!$K$7)+N186*'c design-col'!$K$8+N187*'c design-col'!$K$9+N188*'c design-col'!$K$10+N189*'c design-col'!$K$11","v":625.41701297129998},{"$f":"(O184*'c design-col'!$K$6)+(O185*'c design-col'!$K$7)+O186*'c design-col'!$K$8+O187*'c design-col'!$K$9+O188*'c design-col'!$K$10+O189*'c design-col'!$K$11","v":753.17774445209977},{"$f":"(P184*'c design-col'!$K$6)+(P185*'c design-col'!$K$7)+P186*'c design-col'!$K$8+P187*'c design-col'!$K$9+P188*'c design-col'!$K$10+P189*'c design-col'!$K$11","v":927.23188896319994},{"$f":"(Q184*'c design-col'!$K$6)+(Q185*'c design-col'!$K$7)+Q186*'c design-col'!$K$8+Q187*'c design-col'!$K$9+Q188*'c design-col'!$K$10+Q189*'c design-col'!$K$11","v":1178.1557551748999}]
["ECO2/tonne",{"$f":"B191/B190","v":7.383356097561182E-2},{"$f":"C191/C190","v":8.2559684309016876E-2},9.1240361848424448E-2,9.9889010496988964E-2,0.10893363819672477,0.122359650285896,0.13883651314902007,0.14995946775467456,0.16271194114827572,0.17525621489876203,0.19597952795063556,0.22314842099080232,0.26502966902758707,0.31910254817273215,0.39254556918132172,0.49852145524262675]
["ECO2 / m3 / Mpa",{"$f":"B191/B183","v":21.759673339024996},{"$f":"C191/C183","v":16.221601971983333},13.44597807515,11.776914337594999,10.270699143739998,9.6182842434733313,9.3512341742142837,8.8419851174849988,8.5033260444088885,8.2678871940639986,8.4093033811545439,8.7745678273933319,8.9345287567328562,9.4147218056512472,10.302576544035555,11.781557551749]
["ECO2 / tonne / Mpa",{"$f":"B192/B183","v":9.2291951219514775E-3},{"$f":"C192/C183","v":6.8799736924180727E-3},5.702522615526528E-3,4.9944505248494479E-3,4.357345527868991E-3,4.078655009529867E-3,3.9667575185434309E-3,3.7489866938668639E-3,3.6158209144061273E-3,3.5051242979752405E-3,3.56326414455701E-3,3.7191403498467051E-3,3.7861381289655293E-3,3.9887818521591517E-3,4.3616174353480188E-3,4.9852145524262679E-3]
[]
["20% PFA, No SP"]
["30-60",8,12,16,20,25,30,35,40,45,50,55,60,70,80,90,100]
["Water content",170,170,170,170,170,170,170,170,170,170,170,170,170,170,170,170]
["Cement content",174,196,219,241,265,299,343,372,404,439,493,564,674,817,1011,1291]
["PFA content",43,49,55,60,66,75,86,93,101,110,123,141,169,204,253,323]
["Fine Agg",861,809,766,729,696,655,612,587,562,538,503,464,407,343,265,159]
["Coarse Agg",1100,1124,1139,1147,1151,1148,1137,1126,1110,1092,1059,1010,928,813,649,404]
["Plasticiser dosage"]
["Concrete",{"$f":"B198+B199+B200+B201+B202","v":2348},2348,2349,2347,2348,2347,2348,2348,2347,2349,2348,2349,2348,2347,2348,2347]
["ECO2 / m3",{"$f":"(B198*'c design-col'!$K$6)+(B199*'c design-col'!$K$7)+B200*'c design-col'!$K$8+B201*'c design-col'!$K$9+B202*'c design-col'!$K$10+B203*'c design-col'!$K$11","v":171.25463485269998},{"$f":"(C198*'c design-col'!$K$6)+(C199*'c design-col'!$K$7)+C200*'c design-col'!$K$8+C201*'c design-col'!$K$9+C202*'c design-col'!$K$10+C203*'c design-col'!$K$11","v":191.05032542429998},{"$f":"(D198*'c design-col'!$K$6)+(D199*'c design-col'!$K$7)+D200*'c design-col'!$K$8+D201*'c design-col'!$K$9+D202*'c design-col'!$K$10+D203*'c design-col'!$K$11","v":211.63502862419998},{"$f":"(E198*'c design-col'!$K$6)+(E199*'c design-col'!$K$7)+E200*'c design-col'!$K$8+E201*'c design-col'!$K$9+E202*'c design-col'!$K$10+E203*'c design-col'!$K$11","v":231.23274948429997},{"$f":"(F198*'c design-col'!$K$6)+(F199*'c design-col'!$K$7)+F200*'c design-col'!$K$8+F201*'c design-col'!$K$9+F202*'c design-col'!$K$10+F203*'c design-col'!$K$11","v":252.58307157919998},{"$f":"(G198*'c design-col'!$K$6)+(G199*'c design-col'!$K$7)+G200*'c design-col'!$K$8+G201*'c design-col'!$K$9+G202*'c design-col'!$K$10+G203*'c design-col'!$K$11","v":282.74476292449998},{"$f":"(H198*'c design-col'!$K$6)+(H199*'c design-col'!$K$7)+H200*'c design-col'!$K$8+H201*'c design-col'!$K$9+H202*'c design-col'!$K$10+H203*'c design-col'!$K$11","v":321.69183963239999},{"$f":"(I198*'c design-col'!$K$6)+(I199*'c design-col'!$K$7)+I200*'c design-col'!$K$8+I201*'c design-col'!$K$9+I202*'c design-col'!$K$10+I203*'c design-col'!$K$11","v":347.3142789529},{"$f":"(J198*'c design-col'!$K$6)+(J199*'c design-col'!$K$7)+J200*'c design-col'!$K$8+J201*'c design-col'!$K$9+J202*'c design-col'!$K$10+J203*'c design-col'!$K$11","v":375.55110401339994},{"$f":"(K198*'c design-col'!$K$6)+(K199*'c design-col'!$K$7)+K200*'c design-col'!$K$8+K201*'c design-col'!$K$9+K202*'c design-col'!$K$10+K203*'c design-col'!$K$11","v":406.44318404059999},{"$f":"(L198*'c design-col'!$K$6)+(L199*'c design-col'!$K$7)+L200*'c design-col'!$K$8+L201*'c design-col'!$K$9+L202*'c design-col'!$K$10+L203*'c design-col'!$K$11","v":454.01882433009996},{"$f":"(M198*'c design-col'!$K$6)+(M199*'c design-col'!$K$7)+M200*'c design-col'!$K$8+M201*'c design-col'!$K$9+M202*'c design-col'!$K$10+M203*'c design-col'!$K$11","v":516.54058664479999},{"$f":"(N198*'c design-col'!$K$6)+(N199*'c design-col'!$K$7)+N200*'c design-col'!$K$8+N201*'c design-col'!$K$9+N202*'c design-col'!$K$10+N203*'c design-col'!$K$11","v":613.33804041089979},{"$f":"(O198*'c design-col'!$K$6)+(O199*'c design-col'!$K$7)+O200*'c design-col'!$K$8+O201*'c design-col'!$K$9+O202*'c design-col'!$K$10+O203*'c design-col'!$K$11","v":739.05231418609992},{"$f":"(P198*'c design-col'!$K$6)+(P199*'c design-col'!$K$7)+P200*'c design-col'!$K$8+P201*'c design-col'!$K$9+P202*'c design-col'!$K$10+P203*'c design-col'!$K$11","v":909.56047854349993},{"$f":"(Q198*'c design-col'!$K$6)+(Q199*'c design-col'!$K$7)+Q200*'c design-col'!$K$8+Q201*'c design-col'!$K$9+Q202*'c design-col'!$K$10+Q203*'c design-col'!$K$11","v":1155.5437917293}]
["ECO2/tonne",{"$f":"B205/B204","v":7.2936386223466765E-2},{"$f":"C205/C204","v":8.1367259550383292E-2},9.0095797626309052E-2,9.8522688318832541E-2,0.10757371021260646,0.1204707127927141,0.13700674601039181,0.14791919887261498,0.16001325266868341,0.17302817541106855,0.19336406487653321,0.21989807860570454,0.2612172233436541,0.31489233667920746,0.38737669443931,0.49234929345091605]
["ECO2 / m3 / Mpa",{"$f":"B205/B197","v":21.406829356587497},{"$f":"C205/C197","v":15.920860452024998},13.227189289012498,11.561637474214999,10.103322863168,9.4248254308166661,9.1911954180685704,8.6828569738224992,8.3455800891866652,8.1288636808119996,8.2548877150927265,8.6090097774133323,8.7619720058699979,9.2381539273262483,10.106227539372222,11.555437917293]
["ECO2 / tonne / Mpa",{"$f":"B206/B197","v":9.1170482779333456E-3},{"$f":"C206/C197","v":6.7806049625319413E-3},5.6309873516443157E-3,4.926134415941627E-3,4.3029484085042582E-3,4.0156904264238031E-3,3.9144784574397656E-3,3.6979799718153744E-3,3.5558500593040757E-3,3.4605635082213711E-3,3.5157102704824221E-3,3.6649679767617421E-3,3.7316746191950584E-3,3.9361542084900931E-3,4.304185493770111E-3,4.9234929345091608E-3]
[]
["20% PFA, SP"]
["30-60",8,12,16,20,25,30,35,40,45,50,55,60,70,80,90,100]
["Water content",153,153,153,153,153,153,153,153,153,153,153,153,153,153,153,153]
["Cement content",156,177,197,217,238,269,308,335,364,395,443,508,607,735,910,1162]
["PFA content",39,44,49,54,60,67,77,84,91,99,111,127,152,184,227,291]
["Fine Agg",886,834,791,755,723,682,640,615,592,568,535,496,444,384,312,215]
["Coarse Agg",1132,1159,1177,1188,1194,1195,1189,1180,1168,1153,1125,1083,1012,911,765,546]
["Plasticiser dosage",0.88,0.9,1,1.1000000000000001,1.2,1.3,1.5,1.7,1.8,2,2.2000000000000002,2.5,3,3.7,4.5,5.8]
["Concrete",{"$f":"B212+B213+B214+B215+B216+B217","v":2366.88},2367.9,2368,2368.1,2369.1999999999998,2367.3000000000002,2368.5,2368.6999999999998,2369.8000000000002,2370,2369.1999999999998,2369.5,2371,2370.6999999999998,2371.5,2372.8000000000002]
["ECO2 / m3",{"$f":"(B212*'c design-col'!$K$6)+(B213*'c design-col'!$K$7)+B214*'c design-col'!$K$8+B215*'c design-col'!$K$9+B216*'c design-col'!$K$10+B217*'c design-col'!$K$11","v":155.68881644019999},{"$f":"(C212*'c design-col'!$K$6)+(C213*'c design-col'!$K$7)+C214*'c design-col'!$K$8+C215*'c design-col'!$K$9+C216*'c design-col'!$K$10+C217*'c design-col'!$K$11","v":174.61218199179996},{"$f":"(D212*'c design-col'!$K$6)+(D213*'c design-col'!$K$7)+D214*'c design-col'!$K$8+D215*'c design-col'!$K$9+D216*'c design-col'!$K$10+D217*'c design-col'!$K$11","v":192.5567947877},{"$f":"(E212*'c design-col'!$K$6)+(E213*'c design-col'!$K$7)+E214*'c design-col'!$K$8+E215*'c design-col'!$K$9+E216*'c design-col'!$K$10+E217*'c design-col'!$K$11","v":210.42761959449996},{"$f":"(F212*'c design-col'!$K$6)+(F213*'c design-col'!$K$7)+F214*'c design-col'!$K$8+F215*'c design-col'!$K$9+F216*'c design-col'!$K$10+F217*'c design-col'!$K$11","v":229.15431014409998},{"$f":"(G212*'c design-col'!$K$6)+(G213*'c design-col'!$K$7)+G214*'c design-col'!$K$8+G215*'c design-col'!$K$9+G216*'c design-col'!$K$10+G217*'c design-col'!$K$11","v":256.66176367739996},{"$f":"(H212*'c design-col'!$K$6)+(H213*'c design-col'!$K$7)+H214*'c design-col'!$K$8+H215*'c design-col'!$K$9+H216*'c design-col'!$K$10+H217*'c design-col'!$K$11","v":291.22900133600001},{"$f":"(I212*'c design-col'!$K$6)+(I213*'c design-col'!$K$7)+I214*'c design-col'!$K$8+I215*'c design-col'!$K$9+I216*'c design-col'!$K$10+I217*'c design-col'!$K$11","v":315.10938108049999},{"$f":"(J212*'c design-col'!$K$6)+(J213*'c design-col'!$K$7)+J214*'c design-col'!$K$8+J215*'c design-col'!$K$9+J216*'c design-col'!$K$10+J217*'c design-col'!$K$11","v":340.72359123039996},{"$f":"(K212*'c design-col'!$K$6)+(K213*'c design-col'!$K$7)+K214*'c design-col'!$K$8+K215*'c design-col'!$K$9+K216*'c design-col'!$K$10+K217*'c design-col'!$K$11","v":368.09169847360005},{"$f":"(L212*'c design-col'!$K$6)+(L213*'c design-col'!$K$7)+L214*'c design-col'!$K$8+L215*'c design-col'!$K$9+L216*'c design-col'!$K$10+L217*'c design-col'!$K$11","v":410.40592826449995},{"$f":"(M212*'c design-col'!$K$6)+(M213*'c design-col'!$K$7)+M214*'c design-col'!$K$8+M215*'c design-col'!$K$9+M216*'c design-col'!$K$10+M217*'c design-col'!$K$11","v":467.66036288319992},{"$f":"(N212*'c design-col'!$K$6)+(N213*'c design-col'!$K$7)+N214*'c design-col'!$K$8+N215*'c design-col'!$K$9+N216*'c design-col'!$K$10+N217*'c design-col'!$K$11","v":554.80704311479997},{"$f":"(O212*'c design-col'!$K$6)+(O213*'c design-col'!$K$7)+O214*'c design-col'!$K$8+O215*'c design-col'!$K$9+O216*'c design-col'!$K$10+O217*'c design-col'!$K$11","v":667.37125912079989},{"$f":"(P212*'c design-col'!$K$6)+(P213*'c design-col'!$K$7)+P214*'c design-col'!$K$8+P215*'c design-col'!$K$9+P216*'c design-col'!$K$10+P217*'c design-col'!$K$11","v":821.16886789839998},{"$f":"(Q212*'c design-col'!$K$6)+(Q213*'c design-col'!$K$7)+Q214*'c design-col'!$K$8+Q215*'c design-col'!$K$9+Q216*'c design-col'!$K$10+Q217*'c design-col'!$K$11","v":1042.5964370925001}]
["ECO2/tonne",{"$f":"B219/B218","v":6.577807765505643E-2},{"$f":"C219/C218","v":7.3741366608302689E-2},8.1316214015076008E-2,8.8859262528820565E-2,9.6722231193694067E-2,0.10841961883893041,0.12295925747772853,0.1330305150844345,0.1437773614779306,0.15531295294244729,0.17322553109256289,0.19736668617142855,0.23399706584344157,0.28150810272105281,0.3462655989451402,0.43939499203156607]
["ECO2 / m3 / Mpa",{"$f":"B219/B211","v":19.461102055024998},{"$f":"C219/C211","v":14.55101516598333},12.03479967423125,10.521380979724999,9.1661724057639997,8.5553921225799989,8.3208286095999995,7.8777345270124997,7.5716353606755549,7.3618339694720012,7.4619259684454535,7.7943393813866653,7.9258149016399999,8.3421407390099986,9.1240985322044441,10.425964370925001]
["ECO2 / tonne / Mpa",{"$f":"B220/B211","v":8.2222597068820538E-3},{"$f":"C220/C211","v":6.1451138840252243E-3},5.0822633759422505E-3,4.4429631264410281E-3,3.8688892477477628E-3,3.6139872946310135E-3,3.5131216422208148E-3,3.3257628771108626E-3,3.1950524772873467E-3,3.1062590588489458E-3,3.1495551107738706E-3,3.2894447695238091E-3,3.3428152263348795E-3,3.5188512840131601E-3,3.8473955438348912E-3,4.3939499203156608E-3]
[]
["40% PFA, No SP"]
["30--60",8,12,16,20,25,30,35,40,45,50,55,60,70,80,90,100]
["Water content",155,155,155,155,155,155,155,155,155,155,155,155,155,155,155,155]
["Cement content",142,160,178,197,216,245,280,304,330,358,402,461,551,667,826,1055]
["PFA content",95,107,119,131,144,163,187,203,220,239,268,307,367,445,550,703]
["Fine Agg",867,813,769,731,697,655,610,584,558,532,496,453,394,326,241,128]
["Coarse Agg",1107,1130,1143,1150,1152,1148,1133,1119,1102,1081,1043,989,898,772,592,324]
["Plasticiser dosage"]
["Concrete",{"$f":"B226+B227+B228+B229+B230","v":2366},2365,2364,2364,2364,2366,2365,2365,2365,2365,2364,2365,2365,2365,2364,2365]
["ECO2 / m3",{"$f":"(B226*'c design-col'!$K$6)+(B227*'c design-col'!$K$7)+B228*'c design-col'!$K$8+B229*'c design-col'!$K$9+B230*'c design-col'!$K$10+B231*'c design-col'!$K$11","v":144.46321890090002},{"$f":"(C226*'c design-col'!$K$6)+(C227*'c design-col'!$K$7)+C228*'c design-col'!$K$8+C229*'c design-col'!$K$9+C230*'c design-col'!$K$10+C231*'c design-col'!$K$11","v":160.86790237909997},{"$f":"(D226*'c design-col'!$K$6)+(D227*'c design-col'!$K$7)+D228*'c design-col'!$K$8+D229*'c design-col'!$K$9+D230*'c design-col'!$K$10+D231*'c design-col'!$K$11","v":177.16717444429997},{"$f":"(E226*'c design-col'!$K$6)+(E227*'c design-col'!$K$7)+E228*'c design-col'!$K$8+E229*'c design-col'!$K$9+E230*'c design-col'!$K$10+E231*'c design-col'!$K$11","v":194.28708256169998},{"$f":"(F226*'c design-col'!$K$6)+(F227*'c design-col'!$K$7)+F228*'c design-col'!$K$8+F229*'c design-col'!$K$9+F230*'c design-col'!$K$10+F231*'c design-col'!$K$11","v":211.37897352189998},{"$f":"(G226*'c design-col'!$K$6)+(G227*'c design-col'!$K$7)+G228*'c design-col'!$K$8+G229*'c design-col'!$K$9+G230*'c design-col'!$K$10+G231*'c design-col'!$K$11","v":237.37608632449997},{"$f":"(H226*'c design-col'!$K$6)+(H227*'c design-col'!$K$7)+H228*'c design-col'!$K$8+H229*'c design-col'!$K$9+H230*'c design-col'!$K$10+H231*'c design-col'!$K$11","v":268.66318366299998},{"$f":"(I226*'c design-col'!$K$6)+(I227*'c design-col'!$K$7)+I228*'c design-col'!$K$8+I229*'c design-col'!$K$9+I230*'c design-col'!$K$10+I231*'c design-col'!$K$11","v":290.0683392567999},{"$f":"(J226*'c design-col'!$K$6)+(J227*'c design-col'!$K$7)+J228*'c design-col'!$K$8+J229*'c design-col'!$K$9+J230*'c design-col'!$K$10+J231*'c design-col'!$K$11","v":313.22970287459998},{"$f":"(K226*'c design-col'!$K$6)+(K227*'c design-col'!$K$7)+K228*'c design-col'!$K$8+K229*'c design-col'!$K$9+K230*'c design-col'!$K$10+K231*'c design-col'!$K$11","v":338.16142192439986},{"$f":"(L226*'c design-col'!$K$6)+(L227*'c design-col'!$K$7)+L228*'c design-col'!$K$8+L229*'c design-col'!$K$9+L230*'c design-col'!$K$10+L231*'c design-col'!$K$11","v":377.26365880319992},{"$f":"(M226*'c design-col'!$K$6)+(M227*'c design-col'!$K$7)+M228*'c design-col'!$K$8+M229*'c design-col'!$K$9+M230*'c design-col'!$K$10+M231*'c design-col'!$K$11","v":429.67231755509994},{"$f":"(N226*'c design-col'!$K$6)+(N227*'c design-col'!$K$7)+N228*'c design-col'!$K$8+N229*'c design-col'!$K$9+N230*'c design-col'!$K$10+N231*'c design-col'!$K$11","v":509.53581709179991},{"$f":"(O226*'c design-col'!$K$6)+(O227*'c design-col'!$K$7)+O228*'c design-col'!$K$8+O229*'c design-col'!$K$9+O230*'c design-col'!$K$10+O231*'c design-col'!$K$11","v":612.3956282521998},{"$f":"(P226*'c design-col'!$K$6)+(P227*'c design-col'!$K$7)+P228*'c design-col'!$K$8+P229*'c design-col'!$K$9+P230*'c design-col'!$K$10+P231*'c design-col'!$K$11","v":753.25806948269997},{"$f":"(Q226*'c design-col'!$K$6)+(Q227*'c design-col'!$K$7)+Q228*'c design-col'!$K$8+Q229*'c design-col'!$K$9+Q230*'c design-col'!$K$10+Q231*'c design-col'!$K$11","v":956.09256499759988}]
["ECO2/tonne",{"$f":"B233/B232","v":6.1057996154226551E-2},{"$f":"C233/C232","v":6.8020254705750516E-2},7.4943813216708954E-2,8.2185737124238573E-2,8.9415809442428079E-2,0.10032801619801351,0.1135996548257928,0.12265046057369974,0.13244384899560252,0.14298580208219866,0.15958699610964464,0.18167962687319236,0.21544854845319236,0.25894106902841429,0.31863708522956852,0.40426746934359403]
["ECO2 / m3 / Mpa",{"$f":"B233/B225","v":18.057902362612502},{"$f":"C233/C225","v":13.405658531591664},11.072948402768748,9.7143541280849988,8.4551589408759984,7.9125362108166657,7.6760909617999999,7.2517084814199979,6.9606600638799998,6.7632284384879968,6.8593392509672713,7.1612052925849987,7.2790831013114277,7.6549453531524971,8.3695341053633321,9.5609256499759994]
["ECO2 / tonne / Mpa",{"$f":"B234/B225","v":7.6322495192783189E-3},{"$f":"C234/C225","v":5.6683545588125427E-3},4.6839883260443096E-3,4.1092868562119288E-3,3.5766323776971233E-3,3.3442672066004504E-3,3.2457044235940802E-3,3.0662615143424938E-3,2.9431966443467226E-3,2.859716041643973E-3,2.9015817474480842E-3,3.0279937812198727E-3,3.0778364064741764E-3,3.2367633628551788E-3,3.5404120581063168E-3,4.0426746934359402E-3]
[]
["40% PFA, SP"]
["30--60",8,12,16,20,25,30,35,40,45,50,55,60,70,80,90,100]
["Water content",139.5,139.5,139.5,139.5,139.5,139.5,139.5,139.5,139.5,139.5,139.5,139.5,139.5,139.5,139.5,139.5]
["Cement content",128,144,161,177,195,220,252,274,297,322,362,415,496,601,743,949]
["PFA content",85,96,107,118,130,147,168,182,198,215,241,277,330,400,495,633]
["Fine Agg",892,836,794,757,723,682,638,613,588,563,528,487,432,369,291,187]
["Coarse Agg",1139,1165,1181,1191,1195,1195,1185,1185,1161,1143,1112,1065,985,873,714,474]
["Plasticiser dosage",0.9,1,1.1000000000000001,1.2,1.3,1.5,1.7,1.8,2,2.1,2.4,2.8,3.3,4,5,6.3]
["Concrete",{"$f":"B240+B241+B242+B243+B244+B245","v":2384.4},2381.5,2383.6,2383.6999999999998,2383.8000000000002,2385,2384.1999999999998,2395.3000000000002,2385.5,2384.6,2384.9,2386.3000000000002,2385.8000000000002,2386.5,2387.5,2388.8000000000002]
["ECO2 / m3",{"$f":"(B240*'c design-col'!$K$6)+(B241*'c design-col'!$K$7)+B242*'c design-col'!$K$8+B243*'c design-col'!$K$9+B244*'c design-col'!$K$10+B245*'c design-col'!$K$11","v":132.27243219239998},{"$f":"(C240*'c design-col'!$K$6)+(C241*'c design-col'!$K$7)+C242*'c design-col'!$K$8+C243*'c design-col'!$K$9+C244*'c design-col'!$K$10+C245*'c design-col'!$K$11","v":146.91628526519997},{"$f":"(D240*'c design-col'!$K$6)+(D241*'c design-col'!$K$7)+D242*'c design-col'!$K$8+D243*'c design-col'!$K$9+D244*'c design-col'!$K$10+D245*'c design-col'!$K$11","v":162.34785562779999},{"$f":"(E240*'c design-col'!$K$6)+(E241*'c design-col'!$K$7)+E242*'c design-col'!$K$8+E243*'c design-col'!$K$9+E244*'c design-col'!$K$10+E245*'c design-col'!$K$11","v":176.82998479189999},{"$f":"(F240*'c design-col'!$K$6)+(F241*'c design-col'!$K$7)+F242*'c design-col'!$K$8+F243*'c design-col'!$K$9+F244*'c design-col'!$K$10+F245*'c design-col'!$K$11","v":193.03669855609996},{"$f":"(G240*'c design-col'!$K$6)+(G241*'c design-col'!$K$7)+G242*'c design-col'!$K$8+G243*'c design-col'!$K$9+G244*'c design-col'!$K$10+G245*'c design-col'!$K$11","v":215.49800261739998},{"$f":"(H240*'c design-col'!$K$6)+(H241*'c design-col'!$K$7)+H242*'c design-col'!$K$8+H243*'c design-col'!$K$9+H244*'c design-col'!$K$10+H245*'c design-col'!$K$11","v":244.11902670659995},{"$f":"(I240*'c design-col'!$K$6)+(I241*'c design-col'!$K$7)+I242*'c design-col'!$K$8+I243*'c design-col'!$K$9+I244*'c design-col'!$K$10+I245*'c design-col'!$K$11","v":263.88466475909996},{"$f":"(J240*'c design-col'!$K$6)+(J241*'c design-col'!$K$7)+J242*'c design-col'!$K$8+J243*'c design-col'!$K$9+J244*'c design-col'!$K$10+J245*'c design-col'!$K$11","v":284.27972402360001},{"$f":"(K240*'c design-col'!$K$6)+(K241*'c design-col'!$K$7)+K242*'c design-col'!$K$8+K243*'c design-col'!$K$9+K244*'c design-col'!$K$10+K245*'c design-col'!$K$11","v":306.54666412009999},{"$f":"(L240*'c design-col'!$K$6)+(L241*'c design-col'!$K$7)+L242*'c design-col'!$K$8+L243*'c design-col'!$K$9+L244*'c design-col'!$K$10+L245*'c design-col'!$K$11","v":342.12465055360002},{"$f":"(M240*'c design-col'!$K$6)+(M241*'c design-col'!$K$7)+M242*'c design-col'!$K$8+M243*'c design-col'!$K$9+M244*'c design-col'!$K$10+M245*'c design-col'!$K$11","v":389.24360503089997},{"$f":"(N240*'c design-col'!$K$6)+(N241*'c design-col'!$K$7)+N242*'c design-col'!$K$8+N243*'c design-col'!$K$9+N244*'c design-col'!$K$10+N245*'c design-col'!$K$11","v":461.11378538240001},{"$f":"(O240*'c design-col'!$K$6)+(O241*'c design-col'!$K$7)+O242*'c design-col'!$K$8+O243*'c design-col'!$K$9+O244*'c design-col'!$K$10+O245*'c design-col'!$K$11","v":554.22638182429989},{"$f":"(P240*'c design-col'!$K$6)+(P241*'c design-col'!$K$7)+P242*'c design-col'!$K$8+P243*'c design-col'!$K$9+P244*'c design-col'!$K$10+P245*'c design-col'!$K$11","v":680.0789035416999},{"$f":"(Q240*'c design-col'!$K$6)+(Q241*'c design-col'!$K$7)+Q242*'c design-col'!$K$8+Q243*'c design-col'!$K$9+Q244*'c design-col'!$K$10+Q245*'c design-col'!$K$11","v":862.55977474889994}]
["ECO2/tonne",{"$f":"B247/B246","v":5.5474095031202805E-2},{"$f":"C247/C246","v":6.1690650961662805E-2},6.8110360642641379E-2,7.4182986446239038E-2,8.0978563032175502E-2,9.0355556652997895E-2,0.10239033080555321,0.11016768870667555,0.11916986963890171,0.12855265626105009,0.1434545056621242,0.16311595567652848,0.19327428341956576,0.23223397520398067,0.28484980253055492,0.3610849693356078]
["ECO2 / m3 / Mpa",{"$f":"B247/B239","v":16.534054024049997},{"$f":"C247/C239","v":12.243023772099997},10.146740976737499,8.8414992395949987,7.7214679422439989,7.1832667539133324,6.9748293344742844,6.5971166189774992,6.3173272005244447,6.1309332824020002,6.2204481918836363,6.4873934171816661,6.5873397911771434,6.927829772803749,7.556432261574443,8.6255977474889995]
["ECO2 / tonne / Mpa",{"$f":"B248/B239","v":6.9342618789003507E-3},{"$f":"C248/C239","v":5.1408875801385668E-3},4.2568975401650862E-3,3.709149322311952E-3,3.23914252128702E-3,3.011851888433263E-3,2.9254380230158061E-3,2.7541922176668888E-3,2.6482193253089268E-3,2.5710531252210018E-3,2.6082637393113491E-3,2.7185992612754747E-3,2.7610611917080821E-3,2.9029246900497585E-3,3.1649978058950548E-3,3.610849693356078E-3]
[]
[]
["0% PFA, No SP"]
["60-180",8,12,16,20,25,30,35,40,45,50,55,60,70,80,90,100]
["Water content",195,195,195,195,195,195,195,195,195,195,195,195,195,195,195,195]
["Cement content",214,242,269,297,326,369,422,459,498,541,607,696,831,1007,1247,1592]
["PFA content",0,0,0,0,0,0,0,0,0,0,0,0,0,0,0,0]
["Fine Agg",941,886,841,802,727,724,678,650,628,597,559,514,453,382,293,174]
["Coarse Agg",969,996,1014,1025,1030,1031,1024,1015,1002,986,957,914,839,735,584,358]
["Plasticiser dosage",0,0,0,0,0,0,0,0,0,0,0,0,0,0,0,0]
["Concrete",{"$f":"SUM(B255:B260)","v":2319},2319,2319,2319,2278,2319,2319,2319,2323,2319,2318,2319,2318,2319,2319,2319]
["ECO2 / m3",{"$f":"(B255*'c design-col'!$K$6)+(B256*'c design-col'!$K$7)+B257*'c design-col'!$K$8+B258*'c design-col'!$K$9+B259*'c design-col'!$K$10+B260*'c design-col'!$K$11","v":203.97517735669996},{"$f":"(C255*'c design-col'!$K$6)+(C256*'c design-col'!$K$7)+C257*'c design-col'!$K$8+C258*'c design-col'!$K$9+C259*'c design-col'!$K$10+C260*'c design-col'!$K$11","v":228.94378875219999},{"$f":"(D255*'c design-col'!$K$6)+(D256*'c design-col'!$K$7)+D257*'c design-col'!$K$8+D258*'c design-col'!$K$9+D259*'c design-col'!$K$10+D260*'c design-col'!$K$11","v":252.93595842669995},{"$f":"(E255*'c design-col'!$K$6)+(E256*'c design-col'!$K$7)+E257*'c design-col'!$K$8+E258*'c design-col'!$K$9+E259*'c design-col'!$K$10+E260*'c design-col'!$K$11","v":277.73591156139997},{"$f":"(F255*'c design-col'!$K$6)+(F256*'c design-col'!$K$7)+F257*'c design-col'!$K$8+F258*'c design-col'!$K$9+F259*'c design-col'!$K$10+F260*'c design-col'!$K$11","v":303.25941981889997},{"$f":"(G255*'c design-col'!$K$6)+(G256*'c design-col'!$K$7)+G257*'c design-col'!$K$8+G258*'c design-col'!$K$9+G259*'c design-col'!$K$10+G260*'c design-col'!$K$11","v":341.27230275879992},{"$f":"(H255*'c design-col'!$K$6)+(H256*'c design-col'!$K$7)+H257*'c design-col'!$K$8+H258*'c design-col'!$K$9+H259*'c design-col'!$K$10+H260*'c design-col'!$K$11","v":387.92180158259993},{"$f":"(I255*'c design-col'!$K$6)+(I256*'c design-col'!$K$7)+I257*'c design-col'!$K$8+I258*'c design-col'!$K$9+I259*'c design-col'!$K$10+I260*'c design-col'!$K$11","v":420.44507493499992},{"$f":"(J255*'c design-col'!$K$6)+(J256*'c design-col'!$K$7)+J257*'c design-col'!$K$8+J258*'c design-col'!$K$9+J259*'c design-col'!$K$10+J260*'c design-col'!$K$11","v":454.69857242359996},{"$f":"(K255*'c design-col'!$K$6)+(K256*'c design-col'!$K$7)+K257*'c design-col'!$K$8+K258*'c design-col'!$K$9+K259*'c design-col'!$K$10+K260*'c design-col'!$K$11","v":492.42824067989994},{"$f":"(L255*'c design-col'!$K$6)+(L256*'c design-col'!$K$7)+L257*'c design-col'!$K$8+L258*'c design-col'!$K$9+L259*'c design-col'!$K$10+L260*'c design-col'!$K$11","v":550.30395178529989},{"$f":"(M255*'c design-col'!$K$6)+(M256*'c design-col'!$K$7)+M257*'c design-col'!$K$8+M258*'c design-col'!$K$9+M259*'c design-col'!$K$10+M260*'c design-col'!$K$11","v":628.31285314780007},{"$f":"(N255*'c design-col'!$K$6)+(N256*'c design-col'!$K$7)+N257*'c design-col'!$K$8+N258*'c design-col'!$K$9+N259*'c design-col'!$K$10+N260*'c design-col'!$K$11","v":746.53210175510003},{"$f":"(O255*'c design-col'!$K$6)+(O256*'c design-col'!$K$7)+O257*'c design-col'!$K$8+O258*'c design-col'!$K$9+O259*'c design-col'!$K$10+O260*'c design-col'!$K$11","v":900.59470958739985},{"$f":"(P255*'c design-col'!$K$6)+(P256*'c design-col'!$K$7)+P257*'c design-col'!$K$8+P258*'c design-col'!$K$9+P259*'c design-col'!$K$10+P260*'c design-col'!$K$11","v":1110.5801450830998},{"$f":"(Q255*'c design-col'!$K$6)+(Q256*'c design-col'!$K$7)+Q257*'c design-col'!$K$8+Q258*'c design-col'!$K$9+Q259*'c design-col'!$K$10+Q260*'c design-col'!$K$11","v":1412.3399971577999}]
["ECO2/tonne",{"$f":"B262/B261","v":8.795824810551961E-2},{"$f":"C262/C261","v":9.8725221540405347E-2},0.10907113343109097,0.11976537799111685,0.13312529403814749,0.14716356306977141,0.16727977644786543,0.18130447388313925,0.19573765493913042,0.21234508006895211,0.23740463838882653,0.27094129070625272,0.3220587151661346,0.38835476911918926,0.47890476286463984,0.60902975297878392]
["ECO2 / m3 / Mpa",{"$f":"B262/B254","v":25.496897169587495},{"$f":"C262/C254","v":19.078649062683333},15.808497401668747,13.886795578069998,12.130376792756,11.375743425293331,11.08348004521714,10.511126873374998,10.104412720524444,9.8485648135979993,10.005526396096361,10.471880885796669,10.664744310787142,11.257433869842497,12.33977938981222,14.123399971577999]
["ECO2 / tonne / Mpa",{"$f":"B263/B254","v":1.0994781013189951E-2},{"$f":"C263/C254","v":8.2271017950337789E-3},6.8169458394431856E-3,5.9882688995558427E-3,5.3250117615258998E-3,4.9054521023257133E-3,4.7794221842247268E-3,4.5326118470784809E-3,4.3497256653140092E-3,4.246901601379042E-3,4.3164479707059368E-3,4.5156881784375455E-3,4.6008387880876371E-3,4.8544346139898654E-3,5.3211640318293315E-3,6.0902975297878392E-3]
[]
["0% PFA, SP"]
["60-180",8,12,16,20,25,30,35,40,45,50,55,60,70,80,90,100]
["Water content",175.5,175.5,175.5,175.5,175.5,175.5,175.5,175.5,175.5,175.5,175.5,175.5,175.5,175.5,175.5,175.5]
["Cement content",193,218,243,268,294,332,380,413,448,487,547,626,748,907,1122,1433]
["PFA content",0,0,0,0,0,0,0,0,0,0,0,0,0,0,0,0]
["Fine Agg",792,917,872,833,799,756,711,685,659,633,597,555,497,431,349,240]
["Coarse Agg",1001,1031,1051,1065,1073,1078,1074,1068,1059,1046,1022,985,921,829,695,493]
["Plasticiser dosage",0.8,0.9,1,1.1000000000000001,1.2,1.3,1.5,1.7,1.8,1.9,2.2000000000000002,2.5,3,3.6,4.5,5.7]
["Concrete",{"$f":"B269+B270+B271+B272+B273+B274","v":2162.3000000000002},2342.4,2342.5,2342.6,2342.6999999999998,2342.8000000000002,2342,2343.1999999999998,2343.3000000000002,2343.4,2343.6999999999998,2344,2344.5,2346.1,2346,2347.1999999999998]
["ECO2 / m3",{"$f":"(B269*'c design-col'!$K$6)+(B270*'c design-col'!$K$7)+B271*'c design-col'!$K$8+B272*'c design-col'!$K$9+B273*'c design-col'!$K$10+B274*'c design-col'!$K$11","v":185.46101740639998},{"$f":"(C269*'c design-col'!$K$6)+(C270*'c design-col'!$K$7)+C271*'c design-col'!$K$8+C272*'c design-col'!$K$9+C273*'c design-col'!$K$10+C274*'c design-col'!$K$11","v":208.23259952389998},{"$f":"(D269*'c design-col'!$K$6)+(D270*'c design-col'!$K$7)+D271*'c design-col'!$K$8+D272*'c design-col'!$K$9+D273*'c design-col'!$K$10+D274*'c design-col'!$K$11","v":230.48270910240001},{"$f":"(E269*'c design-col'!$K$6)+(E270*'c design-col'!$K$7)+E271*'c design-col'!$K$8+E272*'c design-col'!$K$9+E273*'c design-col'!$K$10+E274*'c design-col'!$K$11","v":252.66957183309998},{"$f":"(F269*'c design-col'!$K$6)+(F270*'c design-col'!$K$7)+F271*'c design-col'!$K$8+F272*'c design-col'!$K$9+F273*'c design-col'!$K$10+F274*'c design-col'!$K$11","v":275.67475916530003},{"$f":"(G269*'c design-col'!$K$6)+(G270*'c design-col'!$K$7)+G271*'c design-col'!$K$8+G272*'c design-col'!$K$9+G273*'c design-col'!$K$10+G274*'c design-col'!$K$11","v":309.22718046520004},{"$f":"(H269*'c design-col'!$K$6)+(H270*'c design-col'!$K$7)+H271*'c design-col'!$K$8+H272*'c design-col'!$K$9+H273*'c design-col'!$K$10+H274*'c design-col'!$K$11","v":351.4981350557},{"$f":"(I269*'c design-col'!$K$6)+(I270*'c design-col'!$K$7)+I271*'c design-col'!$K$8+I272*'c design-col'!$K$9+I273*'c design-col'!$K$10+I274*'c design-col'!$K$11","v":380.52905852549998},{"$f":"(J269*'c design-col'!$K$6)+(J270*'c design-col'!$K$7)+J271*'c design-col'!$K$8+J272*'c design-col'!$K$9+J273*'c design-col'!$K$10+J274*'c design-col'!$K$11","v":411.28918949929994},{"$f":"(K269*'c design-col'!$K$6)+(K270*'c design-col'!$K$7)+K271*'c design-col'!$K$8+K272*'c design-col'!$K$9+K273*'c design-col'!$K$10+K274*'c design-col'!$K$11","v":445.5334417050999},{"$f":"(L269*'c design-col'!$K$6)+(L270*'c design-col'!$K$7)+L271*'c design-col'!$K$8+L272*'c design-col'!$K$9+L273*'c design-col'!$K$10+L274*'c design-col'!$K$11","v":498.17474283189995},{"$f":"(M269*'c design-col'!$K$6)+(M270*'c design-col'!$K$7)+M271*'c design-col'!$K$8+M272*'c design-col'!$K$9+M273*'c design-col'!$K$10+M274*'c design-col'!$K$11","v":567.42886665850006},{"$f":"(N269*'c design-col'!$K$6)+(N270*'c design-col'!$K$7)+N271*'c design-col'!$K$8+N272*'c design-col'!$K$9+N273*'c design-col'!$K$10+N274*'c design-col'!$K$11","v":674.30595302990002},{"$f":"(O269*'c design-col'!$K$6)+(O270*'c design-col'!$K$7)+O271*'c design-col'!$K$8+O272*'c design-col'!$K$9+O273*'c design-col'!$K$10+O274*'c design-col'!$K$11","v":813.50834303969987},{"$f":"(P269*'c design-col'!$K$6)+(P270*'c design-col'!$K$7)+P271*'c design-col'!$K$8+P272*'c design-col'!$K$9+P273*'c design-col'!$K$10+P274*'c design-col'!$K$11","v":1001.6313849342999},{"$f":"(Q269*'c design-col'!$K$6)+(Q270*'c design-col'!$K$7)+Q271*'c design-col'!$K$8+Q272*'c design-col'!$K$9+Q273*'c design-col'!$K$10+Q274*'c design-col'!$K$11","v":1273.6708013640002}]
["ECO2/tonne",{"$f":"B276/B275","v":8.5770252696850555E-2},{"$f":"C276/C275","v":8.8897113867785163E-2},9.839176482493063E-2,0.1078586066050969,0.11767394850612543,0.13199043045296227,0.15008460079235697,0.1623971741744196,0.17551708680036696,0.19012266011141926,0.21255909153556343,0.24207716154372869,0.28761183750475583,0.346749219146541,0.42695284950311163,0.5426341178271985]
["ECO2 / m3 / Mpa",{"$f":"B276/B268","v":23.182627175799997},{"$f":"C276/C268","v":17.352716626991665},14.405169318900001,12.633478591654999,11.026990366612001,10.307572682173335,10.042803858734286,9.5132264631374994,9.1397597666511103,8.9106688341019975,9.0577225969436359,9.4571477776416675,9.6329421861414293,10.168854287996249,11.129237610381111,12.736708013640003]
["ECO2 / tonne / Mpa",{"$f":"B277/B268","v":1.0721281587106319E-2},{"$f":"C277/C268","v":7.40809282231543E-3},6.1494853015581644E-3,5.3929303302548449E-3,4.7069579402450176E-3,4.3996810150987425E-3,4.2881314512101991E-3,4.0599293543604901E-3,3.9003797066748213E-3,3.8024532022283854E-3,3.8647107551920625E-3,4.0346193590621452E-3,4.1087405357822264E-3,4.3343652393317625E-3,4.7439205500345739E-3,5.4263411782719852E-3]
[]
["20% PFA, No SP"]
["60-180",8,12,16,20,25,30,35,40,45,50,55,60,70,80,90,100]
["Water content",180,180,180,180,180,180,180,180,180,180,180,180,180,180,180,180]
["Cement content",184,208,231,255,280,317,363,394,428,464,521,597,714,865,1070,1367]
["PFA content",46,52,58,64,70,79,91,98,107,116,130,149,178,216,268,342]
["Fine Agg",949,893,847,807,771,726,678,650,622,594,555,508,443,368,273,146]
["Coarse Agg",977,1004,1020,1030,1035,1034,1025,1014,1000,982,950,902,821,707,545,301]
["Plasticiser dosage"]
["Concrete",{"$f":"B283+B284+B285+B286+B287","v":2336},2337,2336,2336,2336,2336,2337,2336,2337,2336,2336,2336,2336,2336,2336,2336]
["ECO2 / m3",{"$f":"(B283*'c design-col'!$K$6)+(B284*'c design-col'!$K$7)+B285*'c design-col'!$K$8+B286*'c design-col'!$K$9+B287*'c design-col'!$K$10+B288*'c design-col'!$K$11","v":178.80700269829998},{"$f":"(C283*'c design-col'!$K$6)+(C284*'c design-col'!$K$7)+C285*'c design-col'!$K$8+C286*'c design-col'!$K$9+C287*'c design-col'!$K$10+C288*'c design-col'!$K$11","v":200.3997710431},{"$f":"(D283*'c design-col'!$K$6)+(D284*'c design-col'!$K$7)+D285*'c design-col'!$K$8+D286*'c design-col'!$K$9+D287*'c design-col'!$K$10+D288*'c design-col'!$K$11","v":220.99039248289998},{"$f":"(E283*'c design-col'!$K$6)+(E284*'c design-col'!$K$7)+E285*'c design-col'!$K$8+E286*'c design-col'!$K$9+E287*'c design-col'!$K$10+E288*'c design-col'!$K$11","v":242.40164997489998},{"$f":"(F283*'c design-col'!$K$6)+(F284*'c design-col'!$K$7)+F285*'c design-col'!$K$8+F286*'c design-col'!$K$9+F287*'c design-col'!$K$10+F288*'c design-col'!$K$11","v":264.64177320969998},{"$f":"(G283*'c design-col'!$K$6)+(G284*'c design-col'!$K$7)+G285*'c design-col'!$K$8+G286*'c design-col'!$K$9+G287*'c design-col'!$K$10+G288*'c design-col'!$K$11","v":297.47157263619994},{"$f":"(H283*'c design-col'!$K$6)+(H284*'c design-col'!$K$7)+H285*'c design-col'!$K$8+H286*'c design-col'!$K$9+H287*'c design-col'!$K$10+H288*'c design-col'!$K$11","v":338.22756307459997},{"$f":"(I283*'c design-col'!$K$6)+(I284*'c design-col'!$K$7)+I285*'c design-col'!$K$8+I286*'c design-col'!$K$9+I287*'c design-col'!$K$10+I288*'c design-col'!$K$11","v":365.61083384299997},{"$f":"(J283*'c design-col'!$K$6)+(J284*'c design-col'!$K$7)+J285*'c design-col'!$K$8+J286*'c design-col'!$K$9+J287*'c design-col'!$K$10+J288*'c design-col'!$K$11","v":395.6611955354},{"$f":"(K283*'c design-col'!$K$6)+(K284*'c design-col'!$K$7)+K285*'c design-col'!$K$8+K286*'c design-col'!$K$9+K287*'c design-col'!$K$10+K288*'c design-col'!$K$11","v":427.42791265979997},{"$f":"(L283*'c design-col'!$K$6)+(L284*'c design-col'!$K$7)+L285*'c design-col'!$K$8+L286*'c design-col'!$K$9+L287*'c design-col'!$K$10+L288*'c design-col'!$K$11","v":477.68580843849992},{"$f":"(M283*'c design-col'!$K$6)+(M284*'c design-col'!$K$7)+M285*'c design-col'!$K$8+M286*'c design-col'!$K$9+M287*'c design-col'!$K$10+M288*'c design-col'!$K$11","v":544.64834623959996},{"$f":"(N283*'c design-col'!$K$6)+(N284*'c design-col'!$K$7)+N285*'c design-col'!$K$8+N286*'c design-col'!$K$9+N287*'c design-col'!$K$10+N288*'c design-col'!$K$11","v":647.65434129209984},{"$f":"(O283*'c design-col'!$K$6)+(O284*'c design-col'!$K$7)+O285*'c design-col'!$K$8+O286*'c design-col'!$K$9+O287*'c design-col'!$K$10+O288*'c design-col'!$K$11","v":780.50810490159995},{"$f":"(P283*'c design-col'!$K$6)+(P284*'c design-col'!$K$7)+P285*'c design-col'!$K$8+P286*'c design-col'!$K$9+P287*'c design-col'!$K$10+P288*'c design-col'!$K$11","v":960.80639168109985},{"$f":"(Q283*'c design-col'!$K$6)+(Q284*'c design-col'!$K$7)+Q285*'c design-col'!$K$8+Q286*'c design-col'!$K$9+Q287*'c design-col'!$K$10+Q288*'c design-col'!$K$11","v":1221.8880262941998}]
["ECO2/tonne",{"$f":"B290/B289","v":7.6544093620847589E-2},{"$f":"C290/C289","v":8.5750864802353444E-2},9.4602051576583898E-2,0.1037678296125428,0.11328843031237157,0.12734228280659243,0.14472724136696619,0.15651148709032534,0.16930303617261447,0.18297427767970889,0.20448878785894689,0.23315425780804794,0.27724928993668657,0.33412162024897257,0.4113041060278681,0.52306850440676356]
["ECO2 / m3 / Mpa",{"$f":"B290/B282","v":22.350875337287498},{"$f":"C290/C282","v":16.699980920258334},13.811899530181249,12.120082498744999,10.585670928388,9.915719087873331,9.6636446592742846,9.1402708460749995,8.7924710118977778,8.5485582531959992,8.685196517063634,9.0774724373266658,9.2522048756014268,9.7563513112699987,10.675626574234443,12.218880262941997]
["ECO2 / tonne / Mpa",{"$f":"B291/B282","v":9.5680117026059486E-3},{"$f":"C291/C282","v":7.1459054001961203E-3},5.9126282235364936E-3,5.1883914806271402E-3,4.5315372124948624E-3,4.2447427602197475E-3,4.1350640390561766E-3,3.9127871772581336E-3,3.7622896927247658E-3,3.659485553594178E-3,3.7179779610717616E-3,3.8859042968007991E-3,3.9607041419526656E-3,4.1765202531121575E-3,4.5700456225318681E-3,5.2306850440676355E-3]
[]
["20% PFA, SP"]
["60-180",8,12,16,20,25,30,35,40,45,50,55,60,70,80,90,100]
["Water content",162,162,162,162,162,162,162,162,162,162,162,162,162,162,162,162]
["Cement content",166,187,208,230,252,285,326,355,385,418,469,538,643,779,963,1230]
["PFA content",41,47,52,57,63,71,82,89,96,104,117,134,161,195,241,308]
["Fine Agg",979,923,877,838,802,758,712,684,657,631,593,548,488,418,331,215]
["Coarse Agg",1009,1038,1057,1070,1077,1080,1075,1067,1056,1042,1015,974,902,804,660,442]
["Plasticiser dosage",0.8,0.9,1,1.1000000000000001,1.3,1.4,1.6,1.8,1.9,2.1,2.2999999999999998,2.7,3.2,3.9,4.8,6.2]
["Concrete",{"$f":"B297+B298+B299+B300+B301+B302","v":2357.8000000000002},2357.9,2357,2358.1,2357.3000000000002,2357.4,2358.6,2358.8000000000002,2357.9,2359.1,2358.3000000000002,2358.6999999999998,2359.1999999999998,2361.9,2361.8000000000002,2363.1999999999998]
["ECO2 / m3",{"$f":"(B297*'c design-col'!$K$6)+(B298*'c design-col'!$K$7)+B299*'c design-col'!$K$8+B300*'c design-col'!$K$9+B301*'c design-col'!$K$10+B302*'c design-col'!$K$11","v":163.22474112330002},{"$f":"(C297*'c design-col'!$K$6)+(C298*'c design-col'!$K$7)+C299*'c design-col'!$K$8+C300*'c design-col'!$K$9+C301*'c design-col'!$K$10+C302*'c design-col'!$K$11","v":182.19156647209996},{"$f":"(D297*'c design-col'!$K$6)+(D298*'c design-col'!$K$7)+D299*'c design-col'!$K$8+D300*'c design-col'!$K$9+D301*'c design-col'!$K$10+D302*'c design-col'!$K$11","v":201.02598040789999},{"$f":"(E297*'c design-col'!$K$6)+(E298*'c design-col'!$K$7)+E299*'c design-col'!$K$8+E300*'c design-col'!$K$9+E301*'c design-col'!$K$10+E302*'c design-col'!$K$11","v":220.68334184659997},{"$f":"(F297*'c design-col'!$K$6)+(F298*'c design-col'!$K$7)+F299*'c design-col'!$K$8+F300*'c design-col'!$K$9+F301*'c design-col'!$K$10+F302*'c design-col'!$K$11","v":240.29752260539996},{"$f":"(G297*'c design-col'!$K$6)+(G298*'c design-col'!$K$7)+G299*'c design-col'!$K$8+G300*'c design-col'!$K$9+G301*'c design-col'!$K$10+G302*'c design-col'!$K$11","v":269.61851277059998},{"$f":"(H297*'c design-col'!$K$6)+(H298*'c design-col'!$K$7)+H299*'c design-col'!$K$8+H300*'c design-col'!$K$9+H301*'c design-col'!$K$10+H302*'c design-col'!$K$11","v":305.9841230184},{"$f":"(I297*'c design-col'!$K$6)+(I298*'c design-col'!$K$7)+I299*'c design-col'!$K$8+I300*'c design-col'!$K$9+I301*'c design-col'!$K$10+I302*'c design-col'!$K$11","v":331.63818680279996},{"$f":"(J297*'c design-col'!$K$6)+(J298*'c design-col'!$K$7)+J299*'c design-col'!$K$8+J300*'c design-col'!$K$9+J301*'c design-col'!$K$10+J302*'c design-col'!$K$11","v":358.13988664189986},{"$f":"(K297*'c design-col'!$K$6)+(K298*'c design-col'!$K$7)+K299*'c design-col'!$K$8+K300*'c design-col'!$K$9+K301*'c design-col'!$K$10+K302*'c design-col'!$K$11","v":387.2839893757},{"$f":"(L297*'c design-col'!$K$6)+(L298*'c design-col'!$K$7)+L299*'c design-col'!$K$8+L300*'c design-col'!$K$9+L301*'c design-col'!$K$10+L302*'c design-col'!$K$11","v":432.27816320509993},{"$f":"(M297*'c design-col'!$K$6)+(M298*'c design-col'!$K$7)+M299*'c design-col'!$K$8+M300*'c design-col'!$K$9+M301*'c design-col'!$K$10+M302*'c design-col'!$K$11","v":493.09411383159988},{"$f":"(N297*'c design-col'!$K$6)+(N298*'c design-col'!$K$7)+N299*'c design-col'!$K$8+N300*'c design-col'!$K$9+N301*'c design-col'!$K$10+N302*'c design-col'!$K$11","v":585.56674726560004},{"$f":"(O297*'c design-col'!$K$6)+(O298*'c design-col'!$K$7)+O299*'c design-col'!$K$8+O300*'c design-col'!$K$9+O301*'c design-col'!$K$10+O302*'c design-col'!$K$11","v":705.27146974059985},{"$f":"(P297*'c design-col'!$K$6)+(P298*'c design-col'!$K$7)+P299*'c design-col'!$K$8+P300*'c design-col'!$K$9+P301*'c design-col'!$K$10+P302*'c design-col'!$K$11","v":867.09605856169992},{"$f":"(Q297*'c design-col'!$K$6)+(Q298*'c design-col'!$K$7)+Q299*'c design-col'!$K$8+Q300*'c design-col'!$K$9+Q301*'c design-col'!$K$10+Q302*'c design-col'!$K$11","v":1101.8318068045}]
["ECO2/tonne",{"$f":"B304/B303","v":6.9227560065866486E-2},{"$f":"C304/C303","v":7.726857223465794E-2},8.5288918289308444E-2,9.358523465781772E-2,0.10193760768905101,0.11437113462738609,0.12973124862986518,0.14059614499016446,0.15188934502816059,0.16416599100322157,0.18330075189971584,0.20905334032797723,0.2482056405839268,0.29860344203420969,0.36713356700893379,0.46624568669790967]
["ECO2 / m3 / Mpa",{"$f":"B304/B296","v":20.403092640412503},{"$f":"C304/C296","v":15.182630539341664},12.56412377549375,11.034167092329998,9.6119009042159984,8.9872837590199985,8.7424035148114285,8.2909546700699988,7.9586641475977746,7.7456797875139998,7.8596029673654533,8.2182352305266644,8.3652392466514289,8.8158933717574985,9.6344006506855546,11.018318068045]
["ECO2 / tonne / Mpa",{"$f":"B305/B296","v":8.6534450082333108E-3},{"$f":"C305/C296","v":6.4390476862214953E-3},5.3305573930817777E-3,4.6792617328908857E-3,4.0775043075620401E-3,3.8123711542462028E-3,3.7066071037104337E-3,3.5149036247541115E-3,3.3753187784035686E-3,3.2833198200644315E-3,3.3327409436311973E-3,3.4842223387996207E-3,3.5457948654846684E-3,3.732543025427621E-3,4.0792618556548203E-3,4.6624568669790967E-3]
[]
["40% PFA, No SP"]
["60--180",8,12,16,20,25,30,35,40,45,50,55,60,70,80,90,100]
["Water content",170,170,170,170,170,170,170,170,170,170,170,170,170,170,170,170]
["Cement content",156,176,196,216,237,268,307,333,362,393,441,505,604,732,906,1157]
["PFA content",104,117,131,144,158,179,205,222,241,262,294,337,403,488,604,771]
["Fine Agg",945,887,839,798,761,714,664,634,604,574,532,481,410,328,223,82]
["Coarse Agg",973,998,1012,1019,1022,1017,1003,989,971,949,910,854,761,630,445,168]
["Plasticiser dosage"]
["Concrete",{"$f":"B311+B312+B313+B314+B315","v":2348},2348,2348,2347,2348,2348,2349,2348,2348,2348,2347,2347,2348,2348,2348,2348]
["ECO2 / m3",{"$f":"(B311*'c design-col'!$K$6)+(B312*'c design-col'!$K$7)+B313*'c design-col'!$K$8+B314*'c design-col'!$K$9+B315*'c design-col'!$K$10+B316*'c design-col'!$K$11","v":155.55362532749999},{"$f":"(C311*'c design-col'!$K$6)+(C312*'c design-col'!$K$7)+C313*'c design-col'!$K$8+C314*'c design-col'!$K$9+C315*'c design-col'!$K$10+C316*'c design-col'!$K$11","v":173.76953398689997},{"$f":"(D311*'c design-col'!$K$6)+(D312*'c design-col'!$K$7)+D313*'c design-col'!$K$8+D314*'c design-col'!$K$9+D315*'c design-col'!$K$10+D316*'c design-col'!$K$11","v":191.89417864129999},{"$f":"(E311*'c design-col'!$K$6)+(E312*'c design-col'!$K$7)+E313*'c design-col'!$K$8+E314*'c design-col'!$K$9+E315*'c design-col'!$K$10+E316*'c design-col'!$K$11","v":209.91803530659996},{"$f":"(F311*'c design-col'!$K$6)+(F312*'c design-col'!$K$7)+F313*'c design-col'!$K$8+F314*'c design-col'!$K$9+F315*'c design-col'!$K$10+F316*'c design-col'!$K$11","v":228.81061030669994},{"$f":"(G311*'c design-col'!$K$6)+(G312*'c design-col'!$K$7)+G313*'c design-col'!$K$8+G314*'c design-col'!$K$9+G315*'c design-col'!$K$10+G316*'c design-col'!$K$11","v":256.60507906379996},{"$f":"(H311*'c design-col'!$K$6)+(H312*'c design-col'!$K$7)+H313*'c design-col'!$K$8+H314*'c design-col'!$K$9+H315*'c design-col'!$K$10+H316*'c design-col'!$K$11","v":291.48300334080005},{"$f":"(I311*'c design-col'!$K$6)+(I312*'c design-col'!$K$7)+I313*'c design-col'!$K$8+I314*'c design-col'!$K$9+I315*'c design-col'!$K$10+I316*'c design-col'!$K$11","v":314.67367893179994},{"$f":"(J311*'c design-col'!$K$6)+(J312*'c design-col'!$K$7)+J313*'c design-col'!$K$8+J314*'c design-col'!$K$9+J315*'c design-col'!$K$10+J316*'c design-col'!$K$11","v":340.51859285479998},{"$f":"(K311*'c design-col'!$K$6)+(K312*'c design-col'!$K$7)+K313*'c design-col'!$K$8+K314*'c design-col'!$K$9+K315*'c design-col'!$K$10+K316*'c design-col'!$K$11","v":368.13386220979999},{"$f":"(L311*'c design-col'!$K$6)+(L312*'c design-col'!$K$7)+L313*'c design-col'!$K$8+L314*'c design-col'!$K$9+L315*'c design-col'!$K$10+L316*'c design-col'!$K$11","v":410.82590939239992},{"$f":"(M311*'c design-col'!$K$6)+(M312*'c design-col'!$K$7)+M313*'c design-col'!$K$8+M314*'c design-col'!$K$9+M315*'c design-col'!$K$10+M316*'c design-col'!$K$11","v":467.71778585469997},{"$f":"(N311*'c design-col'!$K$6)+(N312*'c design-col'!$K$7)+N313*'c design-col'!$K$8+N314*'c design-col'!$K$9+N315*'c design-col'!$K$10+N316*'c design-col'!$K$11","v":555.64478889899988},{"$f":"(O311*'c design-col'!$K$6)+(O312*'c design-col'!$K$7)+O313*'c design-col'!$K$8+O314*'c design-col'!$K$9+O315*'c design-col'!$K$10+O316*'c design-col'!$K$11","v":669.20357158959996},{"$f":"(P311*'c design-col'!$K$6)+(P312*'c design-col'!$K$7)+P313*'c design-col'!$K$8+P314*'c design-col'!$K$9+P315*'c design-col'!$K$10+P316*'c design-col'!$K$11","v":823.51076434609979},{"$f":"(Q311*'c design-col'!$K$6)+(Q312*'c design-col'!$K$7)+Q313*'c design-col'!$K$8+Q314*'c design-col'!$K$9+Q315*'c design-col'!$K$10+Q316*'c design-col'!$K$11","v":1045.9882897133998}]
["ECO2/tonne",{"$f":"B318/B317","v":6.624941453471038E-2},{"$f":"C318/C317","v":7.4007467626448026E-2},8.1726651891524699E-2,8.9441003539241573E-2,9.7449152600809177E-2,0.10928666058935263,0.12408812402758623,0.13401775082274273,0.14502495436746166,0.15678614233807495,0.17504299505428203,0.19928324919245843,0.23664599186499144,0.28501003900749572,0.35072860491741897,0.44548053224591133]
["ECO2 / m3 / Mpa",{"$f":"B318/B310","v":19.444203165937498},{"$f":"C318/C310","v":14.480794498908331},11.993386165081249,10.495901765329998,9.1524244122679974,8.5535026354599992,8.3280858097371446,7.8668419732949983,7.5670798412177769,7.362677244196,7.4695619889527256,7.7952964309116659,7.9377826985571414,8.3650446448700002,9.1501196038455532,10.459882897133998]
["ECO2 / tonne / Mpa",{"$f":"B319/B310","v":8.2811768168387975E-3},{"$f":"C319/C310","v":6.1672889688706685E-3},5.1079157432202937E-3,4.4720501769620787E-3,3.897966104032367E-3,3.6428886863117543E-3,3.5453749722167494E-3,3.350443770568568E-3,3.2227767637213701E-3,3.1357228467614991E-3,3.182599910077855E-3,3.321387486540974E-3,3.3806570266427349E-3,3.5626254875936966E-3,3.896984499082433E-3,4.4548053224591133E-3]
[]
["40% PFA, SP"]
["60-180",8,12,16,20,25,30,35,40,45,50,55,60,70,80,90,100]
["Water content",153,153,153,153,153,153,153,153,153,153,153,153,153,153,153,153]
["Cement content",140,158,176,194,213,241,276,300,326,354,397,455,544,659,815,1041]
["PFA content",93,105,117,130,142,161,184,200,217,236,265,303,362,439,543,694]
["Fine Agg",976,918,871,830,793,747,699,670,641,613,572,524,459,382,286,157]
["Coarse Agg",1005,1032,1050,1060,1065,1065,1055,1045,1030,1012,980,932,850,735,570,323]
["Plasticiser dosage",0.9,1.1000000000000001,1.2,1.3,1.4,1.6,1.8,2,2.2000000000000002,2.4,2.6,3,3.6,4.4000000000000004,5.4,6.9]
["Concrete",{"$f":"B325+B326+B327+B328+B329+B330","v":2367.9},2367.1,2368.1999999999998,2368.3000000000002,2367.4,2368.6,2368.8000000000002,2370,2369.1999999999998,2370.4,2369.6,2370,2371.6,2372.4,2372.4,2374.9]
["ECO2 / m3",{"$f":"(B325*'c design-col'!$K$6)+(B326*'c design-col'!$K$7)+B327*'c design-col'!$K$8+B328*'c design-col'!$K$9+B329*'c design-col'!$K$10+B330*'c design-col'!$K$11","v":141.58044152319997},{"$f":"(C325*'c design-col'!$K$6)+(C326*'c design-col'!$K$7)+C327*'c design-col'!$K$8+C328*'c design-col'!$K$9+C329*'c design-col'!$K$10+C330*'c design-col'!$K$11","v":158.02729060659996},{"$f":"(D325*'c design-col'!$K$6)+(D326*'c design-col'!$K$7)+D327*'c design-col'!$K$8+D328*'c design-col'!$K$9+D329*'c design-col'!$K$10+D330*'c design-col'!$K$11","v":174.38389179969997},{"$f":"(E325*'c design-col'!$K$6)+(E326*'c design-col'!$K$7)+E327*'c design-col'!$K$8+E328*'c design-col'!$K$9+E329*'c design-col'!$K$10+E330*'c design-col'!$K$11","v":190.67854096099995},{"$f":"(F325*'c design-col'!$K$6)+(F326*'c design-col'!$K$7)+F327*'c design-col'!$K$8+F328*'c design-col'!$K$9+F329*'c design-col'!$K$10+F330*'c design-col'!$K$11","v":207.77505586509997},{"$f":"(G325*'c design-col'!$K$6)+(G326*'c design-col'!$K$7)+G327*'c design-col'!$K$8+G328*'c design-col'!$K$9+G329*'c design-col'!$K$10+G330*'c design-col'!$K$11","v":232.9304513729},{"$f":"(H325*'c design-col'!$K$6)+(H326*'c design-col'!$K$7)+H327*'c design-col'!$K$8+H328*'c design-col'!$K$9+H329*'c design-col'!$K$10+H330*'c design-col'!$K$11","v":264.24787835929993},{"$f":"(I325*'c design-col'!$K$6)+(I326*'c design-col'!$K$7)+I327*'c design-col'!$K$8+I328*'c design-col'!$K$9+I329*'c design-col'!$K$10+I330*'c design-col'!$K$11","v":285.69751100899992},{"$f":"(J325*'c design-col'!$K$6)+(J326*'c design-col'!$K$7)+J327*'c design-col'!$K$8+J328*'c design-col'!$K$9+J329*'c design-col'!$K$10+J330*'c design-col'!$K$11","v":308.87764649869996},{"$f":"(K325*'c design-col'!$K$6)+(K326*'c design-col'!$K$7)+K327*'c design-col'!$K$8+K328*'c design-col'!$K$9+K329*'c design-col'!$K$10+K330*'c design-col'!$K$11","v":333.84330146309998},{"$f":"(L325*'c design-col'!$K$6)+(L326*'c design-col'!$K$7)+L327*'c design-col'!$K$8+L328*'c design-col'!$K$9+L329*'c design-col'!$K$10+L330*'c design-col'!$K$11","v":372.12721478039992},{"$f":"(M325*'c design-col'!$K$6)+(M326*'c design-col'!$K$7)+M327*'c design-col'!$K$8+M328*'c design-col'!$K$9+M329*'c design-col'!$K$10+M330*'c design-col'!$K$11","v":423.69055101079994},{"$f":"(N325*'c design-col'!$K$6)+(N326*'c design-col'!$K$7)+N327*'c design-col'!$K$8+N328*'c design-col'!$K$9+N329*'c design-col'!$K$10+N330*'c design-col'!$K$11","v":502.74497539129999},{"$f":"(O325*'c design-col'!$K$6)+(O326*'c design-col'!$K$7)+O327*'c design-col'!$K$8+O328*'c design-col'!$K$9+O329*'c design-col'!$K$10+O330*'c design-col'!$K$11","v":604.81448326739985},{"$f":"(P325*'c design-col'!$K$6)+(P326*'c design-col'!$K$7)+P327*'c design-col'!$K$8+P328*'c design-col'!$K$9+P329*'c design-col'!$K$10+P330*'c design-col'!$K$11","v":743.16564392019984},{"$f":"(Q325*'c design-col'!$K$6)+(Q326*'c design-col'!$K$7)+Q327*'c design-col'!$K$8+Q328*'c design-col'!$K$9+Q329*'c design-col'!$K$10+Q330*'c design-col'!$K$11","v":943.52741975589993}]
["ECO2/tonne",{"$f":"B332/B331","v":5.9791562786941997E-2},{"$f":"C332/C331","v":6.6759870984157824E-2},7.3635626973946447E-2,8.051283239496683E-2,8.7765082311861101E-2,9.8340982594317325E-2,0.11155347786191316,0.12054747299957803,0.13037212835501436,0.14083838232496623,0.15704220745290343,0.17877238439274259,0.21198556897929668,0.25493781962038436,0.31325478162207038,0.39729143111537324]
["ECO2 / m3 / Mpa",{"$f":"B332/B324","v":17.697555190399996},{"$f":"C332/C324","v":13.16894088388333},10.898993237481248,9.533927048049998,8.3110022346039987,7.7643483790966661,7.5499393816942835,7.1424377752249981,6.86394769997111,6.6768660292619995,6.7659493596436349,7.0615091835133326,7.1820710770185716,7.5601810408424983,8.257396043557776,9.435274197559]
["ECO2 / tonne / Mpa",{"$f":"B333/B324","v":7.4739453483677496E-3},{"$f":"C333/C324","v":5.563322582013152E-3},4.6022266858716529E-3,4.0256416197483411E-3,3.5106032924744441E-3,3.2780327531439107E-3,3.1872422246260906E-3,3.0136868249894507E-3,2.897158407889208E-3,2.8167676464993245E-3,2.8553128627800623E-3,2.9795397398790432E-3,3.0283652711328097E-3,3.1867227452548044E-3,3.4806086846896709E-3,3.9729143111537323E-3]

{"sheet":"52.5 (40% PFA + SP)","index":10,"n_rows":50,"n_cols":17,"rows_kept":50,"cut":false,"hidden":false,"merged":[]}
[]
["0-10",8,12,16,20,25,30,35,40,45,50,55,60,70,80,90,100]
["Water content",103.5,103.5,103.5,103.5,103.5,103.5,103.5,103.5,103.5,103.5,103.5,103.5,103.5,103.5,103.5,103.5]
["Cement content",95,107,119,132,144,163,187,203,220,239,269,308,368,446,551,704]
["PFA content",63,71,79,88,96,109,125,135,147,159,179,205,245,297,368,469]
["Fine Agg",842,790,749,713,682,644,606,583,562,541,513,481,439,393,339,270]
["Coarse Agg",1321,1352,1373,1388,1398,1404,1403,1399,1391,1381,1360,1327,1269,1185,1063,877]
["Plasticiser dosage",0.6,0.7,0.8,0.9,1,1.1000000000000001,1.2,1.4,1.5,1.6,1.8,2.1,2.5,3,3.7,4.7]
["Concrete",{"$f":"B3+B4+B5+B6+B7+B8","v":2425.1},{"$f":"C3+C4+C5+C6+C7","v":2423.5},2423.5,2424.5,2423.5,2423.5,2424.5,2423.5,2423.5,2423.5,2424.5,2424.5,2424.5,2424.5,2424.5,2423.5]
["ECO2",{"$f":"(B3*'c design-col'!$K$6)+(B4*'c design-col'!$K$7)+B5*'c design-col'!$K$8+B6*'c design-col'!$K$9+B7*'c design-col'!$K$10+B8*'c design-col'!$K$11","v":104.69789414139998},{"$f":"(C3*'c design-col'!$K$6)+(C4*'c design-col'!$K$7)+C5*'c design-col'!$K$8+C6*'c design-col'!$K$9+C7*'c design-col'!$K$10+C8*'c design-col'!$K$11","v":115.798724377},{"$f":"(D3*'c design-col'!$K$6)+(D4*'c design-col'!$K$7)+D5*'c design-col'!$K$8+D6*'c design-col'!$K$9+D7*'c design-col'!$K$10+D8*'c design-col'!$K$11","v":126.79645465029998},{"$f":"(E3*'c design-col'!$K$6)+(E4*'c design-col'!$K$7)+E5*'c design-col'!$K$8+E6*'c design-col'!$K$9+E7*'c design-col'!$K$10+E8*'c design-col'!$K$11","v":138.63950952509998},{"$f":"(F3*'c design-col'!$K$6)+(F4*'c design-col'!$K$7)+F5*'c design-col'!$K$8+F6*'c design-col'!$K$9+F7*'c design-col'!$K$10+F8*'c design-col'!$K$11","v":149.51897579340002},{"$f":"(G3*'c design-col'!$K$6)+(G4*'c design-col'!$K$7)+G5*'c design-col'!$K$8+G6*'c design-col'!$K$9+G7*'c design-col'!$K$10+G8*'c design-col'!$K$11","v":166.65303183879999},{"$f":"(H3*'c design-col'!$K$6)+(H4*'c design-col'!$K$7)+H5*'c design-col'!$K$8+H6*'c design-col'!$K$9+H7*'c design-col'!$K$10+H8*'c design-col'!$K$11","v":188.19753424019996},{"$f":"(I3*'c design-col'!$K$6)+(I4*'c design-col'!$K$7)+I5*'c design-col'!$K$8+I6*'c design-col'!$K$9+I7*'c design-col'!$K$10+I8*'c design-col'!$K$11","v":202.50508794609999},{"$f":"(J3*'c design-col'!$K$6)+(J4*'c design-col'!$K$7)+J5*'c design-col'!$K$8+J6*'c design-col'!$K$9+J7*'c design-col'!$K$10+J8*'c design-col'!$K$11","v":217.70373656539996},{"$f":"(K3*'c design-col'!$K$6)+(K4*'c design-col'!$K$7)+K5*'c design-col'!$K$8+K6*'c design-col'!$K$9+K7*'c design-col'!$K$10+K8*'c design-col'!$K$11","v":234.6444458007},{"$f":"(L3*'c design-col'!$K$6)+(L4*'c design-col'!$K$7)+L5*'c design-col'!$K$8+L6*'c design-col'!$K$9+L7*'c design-col'!$K$10+L8*'c design-col'!$K$11","v":261.36630878909995},{"$f":"(M3*'c design-col'!$K$6)+(M4*'c design-col'!$K$7)+M5*'c design-col'!$K$8+M6*'c design-col'!$K$9+M7*'c design-col'!$K$10+M8*'c design-col'!$K$11","v":296.04164149070004},{"$f":"(N3*'c design-col'!$K$6)+(N4*'c design-col'!$K$7)+N5*'c design-col'!$K$8+N6*'c design-col'!$K$9+N7*'c design-col'!$K$10+N8*'c design-col'!$K$11","v":349.31208630529994},{"$f":"(O3*'c design-col'!$K$6)+(O4*'c design-col'!$K$7)+O5*'c design-col'!$K$8+O6*'c design-col'!$K$9+O7*'c design-col'!$K$10+O8*'c design-col'!$K$11","v":418.47301064509998},{"$f":"(P3*'c design-col'!$K$6)+(P4*'c design-col'!$K$7)+P5*'c design-col'!$K$8+P6*'c design-col'!$K$9+P7*'c design-col'!$K$10+P8*'c design-col'!$K$11","v":511.50488422329994},{"$f":"(Q3*'c design-col'!$K$6)+(Q4*'c design-col'!$K$7)+Q5*'c design-col'!$K$8+Q6*'c design-col'!$K$9+Q7*'c design-col'!$K$10+Q8*'c design-col'!$K$11","v":646.91590091299997}]
["ECO2/Mpa",{"$f":"B10/B2","v":13.087236767674998},{"$f":"C10/C2","v":9.6498936980833339},7.9247784156437486,6.9319754762549994,5.9807590317360004,5.5551010612933327,5.3770724068628555,5.0626271986524998,4.8378608125644433,4.6928889160139997,4.7521147052563624,4.9340273581783345,4.9901726615042845,5.2309126330637499,5.6833876024811101,6.4691590091299993]
[]
[]
[]
["10--30",8,12,16,20,25,30,35,40,45,50,55,60,70,80,90,100]
["Water content",126,126,126,126,126,126,126,126,126,126,126,126,126,126,126,126]
["Cement content",115,130,145,160,176,199,227,247,268,291,327,375,448,542,671,857]
["PFA content",77,87,97,107,117,133,152,165,179,194,218,250,298,362,447,572]
["Fine Agg",858,805,761,724,691,650,608,584,561,538,506,469,420,365,299,213]
["Coarse Agg",1221,1250,1269,1282,1288,1291,1285,1276,1265,1249,1221,1179,1106,1003,854,631]
["Plasticiser dosage",0.8,0.9,1,1.1000000000000001,1.2,1.3,1.5,1.6,1.8,1.9,2.2000000000000002,2.5,3,3.6,4.5,5.7]
["Concrete",{"$f":"B16+B17+B18+B19+B20+B21","v":2397.8000000000002},{"$f":"C16+C17+C18+C19+C20+C21","v":2398.9},2399,2400.1,2399.1999999999998,2400.3000000000002,2399.5,2399.6,2400.8000000000002,2399.9,2400.1999999999998,2401.5,2401,2401.6,2401.5,2404.6999999999998]
["ECO2",{"$f":"(B16*'c design-col'!$K$6)+(B17*'c design-col'!$K$7)+B18*'c design-col'!$K$8+B19*'c design-col'!$K$9+B20*'c design-col'!$K$10+B21*'c design-col'!$K$11","v":121.5277771926},{"$f":"(C16*'c design-col'!$K$6)+(C17*'c design-col'!$K$7)+C18*'c design-col'!$K$8+C19*'c design-col'!$K$9+C20*'c design-col'!$K$10+C21*'c design-col'!$K$11","v":135.30623949349999},{"$f":"(D16*'c design-col'!$K$6)+(D17*'c design-col'!$K$7)+D18*'c design-col'!$K$8+D19*'c design-col'!$K$9+D20*'c design-col'!$K$10+D21*'c design-col'!$K$11","v":148.9769789307},{"$f":"(E16*'c design-col'!$K$6)+(E17*'c design-col'!$K$7)+E18*'c design-col'!$K$8+E19*'c design-col'!$K$9+E20*'c design-col'!$K$10+E21*'c design-col'!$K$11","v":162.58678297079999},{"$f":"(F16*'c design-col'!$K$6)+(F17*'c design-col'!$K$7)+F18*'c design-col'!$K$8+F19*'c design-col'!$K$9+F20*'c design-col'!$K$10+F21*'c design-col'!$K$11","v":176.99974756969999},{"$f":"(G16*'c design-col'!$K$6)+(G17*'c design-col'!$K$7)+G18*'c design-col'!$K$8+G19*'c design-col'!$K$9+G20*'c design-col'!$K$10+G21*'c design-col'!$K$11","v":197.704843087},{"$f":"(H16*'c design-col'!$K$6)+(H17*'c design-col'!$K$7)+H18*'c design-col'!$K$8+H19*'c design-col'!$K$9+H20*'c design-col'!$K$10+H21*'c design-col'!$K$11","v":222.79236884559998},{"$f":"(I16*'c design-col'!$K$6)+(I17*'c design-col'!$K$7)+I18*'c design-col'!$K$8+I19*'c design-col'!$K$9+I20*'c design-col'!$K$10+I21*'c design-col'!$K$11","v":240.64987922079999},{"$f":"(J16*'c design-col'!$K$6)+(J17*'c design-col'!$K$7)+J18*'c design-col'!$K$8+J19*'c design-col'!$K$9+J20*'c design-col'!$K$10+J21*'c design-col'!$K$11","v":259.39487928269995},{"$f":"(K16*'c design-col'!$K$6)+(K17*'c design-col'!$K$7)+K18*'c design-col'!$K$8+K19*'c design-col'!$K$9+K20*'c design-col'!$K$10+K21*'c design-col'!$K$11","v":279.87038166459996},{"$f":"(L16*'c design-col'!$K$6)+(L17*'c design-col'!$K$7)+L18*'c design-col'!$K$8+L19*'c design-col'!$K$9+L20*'c design-col'!$K$10+L21*'c design-col'!$K$11","v":311.90432862619997},{"$f":"(M16*'c design-col'!$K$6)+(M17*'c design-col'!$K$7)+M18*'c design-col'!$K$8+M19*'c design-col'!$K$9+M20*'c design-col'!$K$10+M21*'c design-col'!$K$11","v":354.56937684629997},{"$f":"(N16*'c design-col'!$K$6)+(N17*'c design-col'!$K$7)+N18*'c design-col'!$K$8+N19*'c design-col'!$K$9+N20*'c design-col'!$K$10+N21*'c design-col'!$K$11","v":419.33733084599993},{"$f":"(O16*'c design-col'!$K$6)+(O17*'c design-col'!$K$7)+O18*'c design-col'!$K$8+O19*'c design-col'!$K$9+O20*'c design-col'!$K$10+O21*'c design-col'!$K$11","v":502.69937980149996},{"$f":"(P16*'c design-col'!$K$6)+(P17*'c design-col'!$K$7)+P18*'c design-col'!$K$8+P19*'c design-col'!$K$9+P20*'c design-col'!$K$10+P21*'c design-col'!$K$11","v":616.94768662729984},{"$f":"(Q16*'c design-col'!$K$6)+(Q17*'c design-col'!$K$7)+Q18*'c design-col'!$K$8+Q19*'c design-col'!$K$9+Q20*'c design-col'!$K$10+Q21*'c design-col'!$K$11","v":781.65999949109982}]
["ECO2/Mpa",{"$f":"B23/B15","v":15.190972149075},{"$f":"C23/C15","v":11.275519957791666},9.31106118316875,8.1293391485399997,7.0799899027879993,6.5901614362333332,6.3654962527314281,6.0162469805200001,5.7643306507266656,5.5974076332919989,5.6709877932036354,5.9094896141049995,5.990533297799999,6.2837422475187497,6.8549742958588871,7.8165999949109981]
[]
[]
[]
["30--60",8,12,16,20,25,30,35,40,45,50,55,60,70,80,90,100]
["Water content",139.5,139.5,139.5,139.5,139.5,139.5,139.5,139.5,139.5,139.5,139.5,139.5,139.5,139.5,139.5,139.5]
["Cement content",128,144,161,177,195,220,252,274,297,322,362,415,496,601,743,949]
["PFA content",85,96,107,118,130,147,168,182,198,215,241,277,330,400,495,633]
["Fine Agg",892,836,794,757,723,682,638,613,588,563,528,487,432,369,291,187]
["Coarse Agg",1139,1165,1181,1191,1195,1195,1185,1185,1161,1143,1112,1065,985,873,714,474]
["Plasticiser dosage",0.9,1,1.1000000000000001,1.2,1.3,1.5,1.7,1.8,2,2.1,2.4,2.8,3.3,4,5,6.3]
["Concrete",{"$f":"B29+B30+B31+B32+B33+B34","v":2384.4},2381.5,2383.6,2383.6999999999998,2383.8000000000002,2385,2384.1999999999998,2395.3000000000002,2385.5,2384.6,2384.9,2386.3000000000002,2385.8000000000002,2386.5,2387.5,2388.8000000000002]
["ECO2",{"$f":"(B29*'c design-col'!$K$6)+(B30*'c design-col'!$K$7)+B31*'c design-col'!$K$8+B32*'c design-col'!$K$9+B33*'c design-col'!$K$10+B34*'c design-col'!$K$11","v":132.27243219239998},{"$f":"(C29*'c design-col'!$K$6)+(C30*'c design-col'!$K$7)+C31*'c design-col'!$K$8+C32*'c design-col'!$K$9+C33*'c design-col'!$K$10+C34*'c design-col'!$K$11","v":146.91628526519997},{"$f":"(D29*'c design-col'!$K$6)+(D30*'c design-col'!$K$7)+D31*'c design-col'!$K$8+D32*'c design-col'!$K$9+D33*'c design-col'!$K$10+D34*'c design-col'!$K$11","v":162.34785562779999},{"$f":"(E29*'c design-col'!$K$6)+(E30*'c design-col'!$K$7)+E31*'c design-col'!$K$8+E32*'c design-col'!$K$9+E33*'c design-col'!$K$10+E34*'c design-col'!$K$11","v":176.82998479189999},{"$f":"(F29*'c design-col'!$K$6)+(F30*'c design-col'!$K$7)+F31*'c design-col'!$K$8+F32*'c design-col'!$K$9+F33*'c design-col'!$K$10+F34*'c design-col'!$K$11","v":193.03669855609996},{"$f":"(G29*'c design-col'!$K$6)+(G30*'c design-col'!$K$7)+G31*'c design-col'!$K$8+G32*'c design-col'!$K$9+G33*'c design-col'!$K$10+G34*'c design-col'!$K$11","v":215.49800261739998},{"$f":"(H29*'c design-col'!$K$6)+(H30*'c design-col'!$K$7)+H31*'c design-col'!$K$8+H32*'c design-col'!$K$9+H33*'c design-col'!$K$10+H34*'c design-col'!$K$11","v":244.11902670659995},{"$f":"(I29*'c design-col'!$K$6)+(I30*'c design-col'!$K$7)+I31*'c design-col'!$K$8+I32*'c design-col'!$K$9+I33*'c design-col'!$K$10+I34*'c design-col'!$K$11","v":263.88466475909996},{"$f":"(J29*'c design-col'!$K$6)+(J30*'c design-col'!$K$7)+J31*'c design-col'!$K$8+J32*'c design-col'!$K$9+J33*'c design-col'!$K$10+J34*'c design-col'!$K$11","v":284.27972402360001},{"$f":"(K29*'c design-col'!$K$6)+(K30*'c design-col'!$K$7)+K31*'c design-col'!$K$8+K32*'c design-col'!$K$9+K33*'c design-col'!$K$10+K34*'c design-col'!$K$11","v":306.54666412009999},{"$f":"(L29*'c design-col'!$K$6)+(L30*'c design-col'!$K$7)+L31*'c design-col'!$K$8+L32*'c design-col'!$K$9+L33*'c design-col'!$K$10+L34*'c design-col'!$K$11","v":342.12465055360002},{"$f":"(M29*'c design-col'!$K$6)+(M30*'c design-col'!$K$7)+M31*'c design-col'!$K$8+M32*'c design-col'!$K$9+M33*'c design-col'!$K$10+M34*'c design-col'!$K$11","v":389.24360503089997},{"$f":"(N29*'c design-col'!$K$6)+(N30*'c design-col'!$K$7)+N31*'c design-col'!$K$8+N32*'c design-col'!$K$9+N33*'c design-col'!$K$10+N34*'c design-col'!$K$11","v":461.11378538240001},{"$f":"(O29*'c design-col'!$K$6)+(O30*'c design-col'!$K$7)+O31*'c design-col'!$K$8+O32*'c design-col'!$K$9+O33*'c design-col'!$K$10+O34*'c design-col'!$K$11","v":554.22638182429989},{"$f":"(P29*'c design-col'!$K$6)+(P30*'c design-col'!$K$7)+P31*'c design-col'!$K$8+P32*'c design-col'!$K$9+P33*'c design-col'!$K$10+P34*'c design-col'!$K$11","v":680.0789035416999},{"$f":"(Q29*'c design-col'!$K$6)+(Q30*'c design-col'!$K$7)+Q31*'c design-col'!$K$8+Q32*'c design-col'!$K$9+Q33*'c design-col'!$K$10+Q34*'c design-col'!$K$11","v":862.55977474889994}]
["ECO2/Mpa",{"$f":"B36/B28","v":16.534054024049997},12.243023772099997,10.146740976737499,8.8414992395949987,7.7214679422439989,7.1832667539133324,6.9748293344742844,6.5971166189774992,6.3173272005244447,6.1309332824020002,6.2204481918836363,6.4873934171816661,6.5873397911771434,6.927829772803749,7.556432261574443,8.6255977474889995]
[]
[]
[]
["60-180",8,12,16,20,25,30,35,40,45,50,55,60,70,80,90,100]
["Water content",153,153,153,153,153,153,153,153,153,153,153,153,153,153,153,153]
["Cement content",140,158,176,194,213,241,276,300,326,354,397,455,544,659,815,1041]
["PFA content",93,105,117,130,142,161,184,200,217,236,265,303,362,439,543,694]
["Fine Agg",976,918,871,830,793,747,699,670,641,613,572,524,459,382,286,157]
["Coarse Agg",1005,1032,1050,1060,1065,1065,1055,1045,1030,1012,980,932,850,735,570,323]
["Plasticiser dosage",0.9,1.1000000000000001,1.2,1.3,1.4,1.6,1.8,2,2.2000000000000002,2.4,2.6,3,3.6,4.4000000000000004,5.4,6.9]
["Concrete",{"$f":"B42+B43+B44+B45+B46+B47","v":2367.9},2367.1,2368.1999999999998,2368.3000000000002,2367.4,2368.6,2368.8000000000002,2370,2369.1999999999998,2370.4,2369.6,2370,2371.6,2372.4,2372.4,2374.9]
["ECO2",{"$f":"(B42*'c design-col'!$K$6)+(B43*'c design-col'!$K$7)+B44*'c design-col'!$K$8+B45*'c design-col'!$K$9+B46*'c design-col'!$K$10+B47*'c design-col'!$K$11","v":141.58044152319997},{"$f":"(C42*'c design-col'!$K$6)+(C43*'c design-col'!$K$7)+C44*'c design-col'!$K$8+C45*'c design-col'!$K$9+C46*'c design-col'!$K$10+C47*'c design-col'!$K$11","v":158.02729060659996},{"$f":"(D42*'c design-col'!$K$6)+(D43*'c design-col'!$K$7)+D44*'c design-col'!$K$8+D45*'c design-col'!$K$9+D46*'c design-col'!$K$10+D47*'c design-col'!$K$11","v":174.38389179969997},{"$f":"(E42*'c design-col'!$K$6)+(E43*'c design-col'!$K$7)+E44*'c design-col'!$K$8+E45*'c design-col'!$K$9+E46*'c design-col'!$K$10+E47*'c design-col'!$K$11","v":190.67854096099995},{"$f":"(F42*'c design-col'!$K$6)+(F43*'c design-col'!$K$7)+F44*'c design-col'!$K$8+F45*'c design-col'!$K$9+F46*'c design-col'!$K$10+F47*'c design-col'!$K$11","v":207.77505586509997},{"$f":"(G42*'c design-col'!$K$6)+(G43*'c design-col'!$K$7)+G44*'c design-col'!$K$8+G45*'c design-col'!$K$9+G46*'c design-col'!$K$10+G47*'c design-col'!$K$11","v":232.9304513729},{"$f":"(H42*'c design-col'!$K$6)+(H43*'c design-col'!$K$7)+H44*'c design-col'!$K$8+H45*'c design-col'!$K$9+H46*'c design-col'!$K$10+H47*'c design-col'!$K$11","v":264.24787835929993},{"$f":"(I42*'c design-col'!$K$6)+(I43*'c design-col'!$K$7)+I44*'c design-col'!$K$8+I45*'c design-col'!$K$9+I46*'c design-col'!$K$10+I47*'c design-col'!$K$11","v":285.69751100899992},{"$f":"(J42*'c design-col'!$K$6)+(J43*'c design-col'!$K$7)+J44*'c design-col'!$K$8+J45*'c design-col'!$K$9+J46*'c design-col'!$K$10+J47*'c design-col'!$K$11","v":308.87764649869996},{"$f":"(K42*'c design-col'!$K$6)+(K43*'c design-col'!$K$7)+K44*'c design-col'!$K$8+K45*'c design-col'!$K$9+K46*'c design-col'!$K$10+K47*'c design-col'!$K$11","v":333.84330146309998},{"$f":"(L42*'c design-col'!$K$6)+(L43*'c design-col'!$K$7)+L44*'c design-col'!$K$8+L45*'c design-col'!$K$9+L46*'c design-col'!$K$10+L47*'c design-col'!$K$11","v":372.12721478039992},{"$f":"(M42*'c design-col'!$K$6)+(M43*'c design-col'!$K$7)+M44*'c design-col'!$K$8+M45*'c design-col'!$K$9+M46*'c design-col'!$K$10+M47*'c design-col'!$K$11","v":423.69055101079994},{"$f":"(N42*'c design-col'!$K$6)+(N43*'c design-col'!$K$7)+N44*'c design-col'!$K$8+N45*'c design-col'!$K$9+N46*'c design-col'!$K$10+N47*'c design-col'!$K$11","v":502.74497539129999},{"$f":"(O42*'c design-col'!$K$6)+(O43*'c design-col'!$K$7)+O44*'c design-col'!$K$8+O45*'c design-col'!$K$9+O46*'c design-col'!$K$10+O47*'c design-col'!$K$11","v":604.81448326739985},{"$f":"(P42*'c design-col'!$K$6)+(P43*'c design-col'!$K$7)+P44*'c design-col'!$K$8+P45*'c design-col'!$K$9+P46*'c design-col'!$K$10+P47*'c design-col'!$K$11","v":743.16564392019984},{"$f":"(Q42*'c design-col'!$K$6)+(Q43*'c design-col'!$K$7)+Q44*'c design-col'!$K$8+Q45*'c design-col'!$K$9+Q46*'c design-col'!$K$10+Q47*'c design-col'!$K$11","v":943.52741975589993}]
["ECO2/Mpa",{"$f":"B49/B41","v":17.697555190399996},13.16894088388333,10.898993237481248,9.533927048049998,8.3110022346039987,7.7643483790966661,7.5499393816942835,7.1424377752249981,6.86394769997111,6.6768660292619995,6.7659493596436349,7.0615091835133326,7.1820710770185716,7.5601810408424983,8.257396043557776,9.435274197559]

{"sheet":"Sheet1","index":11,"n_rows":0,"n_cols":0,"rows_kept":0,"cut":false,"hidden":false,"merged":[]}

{"sheet":"Sheet2","index":12,"n_rows":158,"n_cols":17,"rows_kept":158,"cut":false,"hidden":false,"merged":[]}
["0-10",8,12,16,20,25,30,35,40,45,50,55,60,70,80,90,100]
["Water content",135,135,135,135,135,135,135,135,135,135,135,135,135,135,135,135]
["Cement content",148,167,187,206,226,256,292,318,345,374,420,482,576,697,863,1102]
["PFA content",0,0,0,0,0,0,0,0,0,0,0,0,0,0,0,0]
["Fine Agg",819,796,729,695,665,628,591,569,549,529,502,471,431,387,336,270]
["Coarse Agg",1285,1316,1337,1352,1362,1369,1369,1366,1359,1349,1330,1300,1246,1168,1054,880]
["Plasticiser dosage",0,0,0,0,0,0,0,0,0,0,0,0,0,0,0,0]
["Concrete",{"$f":"SUM(B2:B7)","v":2387},{"$f":"SUM(C2:C7)","v":2414},2388,2388,2388,2388,2387,2388,2388,2387,{"$f":"SUM(L2:L7)","v":2387},{"$f":"SUM(M2:M7)","v":2388},2388,2387,2388,2387]
["ECO2",{"$f":"(B2*'c design-col'!$K$6)+(B3*'c design-col'!$K$7)+B4*'c design-col'!$K$8+B5*'c design-col'!$K$9+B6*'c design-col'!$K$10+B7*'c design-col'!$K$11","v":149.35832804329999},{"$f":"(C2*'c design-col'!$K$6)+(C3*'c design-col'!$K$7)+C4*'c design-col'!$K$8+C5*'c design-col'!$K$9+C6*'c design-col'!$K$10+C7*'c design-col'!$K$11","v":166.49737012919996},{"$f":"(D2*'c design-col'!$K$6)+(D3*'c design-col'!$K$7)+D4*'c design-col'!$K$8+D5*'c design-col'!$K$9+D6*'c design-col'!$K$10+D7*'c design-col'!$K$11","v":184.29006536429998},{"$f":"(E2*'c design-col'!$K$6)+(E3*'c design-col'!$K$7)+E4*'c design-col'!$K$8+E5*'c design-col'!$K$9+E6*'c design-col'!$K$10+E7*'c design-col'!$K$11","v":201.19804002049997},{"$f":"(F2*'c design-col'!$K$6)+(F3*'c design-col'!$K$7)+F4*'c design-col'!$K$8+F5*'c design-col'!$K$9+F6*'c design-col'!$K$10+F7*'c design-col'!$K$11","v":218.93488041949999},{"$f":"(G2*'c design-col'!$K$6)+(G3*'c design-col'!$K$7)+G4*'c design-col'!$K$8+G5*'c design-col'!$K$9+G6*'c design-col'!$K$10+G7*'c design-col'!$K$11","v":245.45581188759996},{"$f":"(H2*'c design-col'!$K$6)+(H3*'c design-col'!$K$7)+H4*'c design-col'!$K$8+H5*'c design-col'!$K$9+H6*'c design-col'!$K$10+H7*'c design-col'!$K$11","v":277.19007261169997},{"$f":"(I2*'c design-col'!$K$6)+(I3*'c design-col'!$K$7)+I4*'c design-col'!$K$8+I5*'c design-col'!$K$9+I6*'c design-col'!$K$10+I7*'c design-col'!$K$11","v":300.08161832029998},{"$f":"(J2*'c design-col'!$K$6)+(J3*'c design-col'!$K$7)+J4*'c design-col'!$K$8+J5*'c design-col'!$K$9+J6*'c design-col'!$K$10+J7*'c design-col'!$K$11","v":323.8102594623},{"$f":"(K2*'c design-col'!$K$6)+(K3*'c design-col'!$K$7)+K4*'c design-col'!$K$8+K5*'c design-col'!$K$9+K6*'c design-col'!$K$10+K7*'c design-col'!$K$11","v":349.26810862829996},{"$f":"(L2*'c design-col'!$K$6)+(L3*'c design-col'!$K$7)+L4*'c design-col'!$K$8+L5*'c design-col'!$K$9+L6*'c design-col'!$K$10+L7*'c design-col'!$K$11","v":389.62011361139997},{"$f":"(M2*'c design-col'!$K$6)+(M3*'c design-col'!$K$7)+M4*'c design-col'!$K$8+M5*'c design-col'!$K$9+M6*'c design-col'!$K$10+M7*'c design-col'!$K$11","v":443.9636206797},{"$f":"(N2*'c design-col'!$K$6)+(N3*'c design-col'!$K$7)+N4*'c design-col'!$K$8+N5*'c design-col'!$K$9+N6*'c design-col'!$K$10+N7*'c design-col'!$K$11","v":526.26211528369993},{"$f":"(O2*'c design-col'!$K$6)+(O3*'c design-col'!$K$7)+O4*'c design-col'!$K$8+O5*'c design-col'!$K$9+O6*'c design-col'!$K$10+O7*'c design-col'!$K$11","v":632.10774017689994},{"$f":"(P2*'c design-col'!$K$6)+(P3*'c design-col'!$K$7)+P4*'c design-col'!$K$8+P5*'c design-col'!$K$9+P6*'c design-col'!$K$10+P7*'c design-col'!$K$11","v":777.24922210319994},{"$f":"(Q2*'c design-col'!$K$6)+(Q3*'c design-col'!$K$7)+Q4*'c design-col'!$K$8+Q5*'c design-col'!$K$9+Q6*'c design-col'!$K$10+Q7*'c design-col'!$K$11","v":986.10832844899994}]
["ECO2/Mpa",{"$f":"B9/B1","v":18.669791005412499},{"$f":"C9/C1","v":13.874780844099996},11.518129085268749,10.059902001024998,8.7573952167799991,8.1818603962533327,7.9197163603342853,7.5020404580074995,7.1957835436066668,6.9853621725659991,7.0840020656618181,7.3993936779949996,7.5180302183385708,7.901346752211249,8.6361024678133322,9.8610832844900003]
[]
[]
[]
[]
["0-10",8,12,16,20,25,30,35,40,45,50,55,60,70,80,90,100]
["Water content",121.5,121.5,121.5,121.5,121.5,121.5,121.5,121.5,121.5,121.5,121.5,121.5,121.5,121.5,121.5,121.5]
["Cement content",133,151,168,185,203,230,263,286,310,337,378,434,518,628,777,999]
["PFA content",0,0,0,0,0,0,0,0,0,0,0,0,0,0,0,0]
["Fine Agg",836,786,746,712,682,645,608,587,567,548,521,492,453,412,364,302]
["Coarse Agg",1312,1345,1368,1385,1397,1407,1410,1409,1404,1397,1382,1357,1311,1242,1141,987]
["Plasticiser dosage",0.5,0.6,0.7,0.7,0.8,0.9,1.1000000000000001,1.1000000000000001,1.2,1.3,1.5,1.7,2.1,2.5,3.1,4]
["Concrete",{"$f":"B16+B17+B19+B20+B21","v":2403},{"$f":"C16+C17+C19+C20+C21","v":2404.1},2404.1999999999998,2404.1999999999998,2404.3000000000002,2404.4,2403.6,2404.6,2403.6999999999998,2404.8000000000002,2404,2406.1999999999998,2405.6,2406,2406.6,2413.5]
["ECO2",{"$f":"(B16*'c design-col'!$K$6)+(B17*'c design-col'!$K$7)+B18*'c design-col'!$K$8+B19*'c design-col'!$K$9+B20*'c design-col'!$K$10+B21*'c design-col'!$K$11","v":136.47290178919997},{"$f":"(C16*'c design-col'!$K$6)+(C17*'c design-col'!$K$7)+C18*'c design-col'!$K$8+C19*'c design-col'!$K$9+C20*'c design-col'!$K$10+C21*'c design-col'!$K$11","v":152.69135751019999},{"$f":"(D16*'c design-col'!$K$6)+(D17*'c design-col'!$K$7)+D18*'c design-col'!$K$8+D19*'c design-col'!$K$9+D20*'c design-col'!$K$10+D21*'c design-col'!$K$11","v":167.92051891819995},{"$f":"(E16*'c design-col'!$K$6)+(E17*'c design-col'!$K$7)+E18*'c design-col'!$K$8+E19*'c design-col'!$K$9+E20*'c design-col'!$K$10+E21*'c design-col'!$K$11","v":183.08643295839994},{"$f":"(F16*'c design-col'!$K$6)+(F17*'c design-col'!$K$7)+F18*'c design-col'!$K$8+F19*'c design-col'!$K$9+F20*'c design-col'!$K$10+F21*'c design-col'!$K$11","v":199.08121326139999},{"$f":"(G16*'c design-col'!$K$6)+(G17*'c design-col'!$K$7)+G18*'c design-col'!$K$8+G19*'c design-col'!$K$9+G20*'c design-col'!$K$10+G21*'c design-col'!$K$11","v":222.98905432549995},{"$f":"(H16*'c design-col'!$K$6)+(H17*'c design-col'!$K$7)+H18*'c design-col'!$K$8+H19*'c design-col'!$K$9+H20*'c design-col'!$K$10+H21*'c design-col'!$K$11","v":252.11022516559996},{"$f":"(I16*'c design-col'!$K$6)+(I17*'c design-col'!$K$7)+I18*'c design-col'!$K$8+I19*'c design-col'!$K$9+I20*'c design-col'!$K$10+I21*'c design-col'!$K$11","v":272.37813880889996},{"$f":"(J16*'c design-col'!$K$6)+(J17*'c design-col'!$K$7)+J18*'c design-col'!$K$8+J19*'c design-col'!$K$9+J20*'c design-col'!$K$10+J21*'c design-col'!$K$11","v":293.48083695490004},{"$f":"(K16*'c design-col'!$K$6)+(K17*'c design-col'!$K$7)+K18*'c design-col'!$K$8+K19*'c design-col'!$K$9+K20*'c design-col'!$K$10+K21*'c design-col'!$K$11","v":317.21179006760002},{"$f":"(L16*'c design-col'!$K$6)+(L17*'c design-col'!$K$7)+L18*'c design-col'!$K$8+L19*'c design-col'!$K$9+L20*'c design-col'!$K$10+L21*'c design-col'!$K$11","v":353.1957919587},{"$f":"(M16*'c design-col'!$K$6)+(M17*'c design-col'!$K$7)+M18*'c design-col'!$K$8+M19*'c design-col'!$K$9+M20*'c design-col'!$K$10+M21*'c design-col'!$K$11","v":402.30488852840006},{"$f":"(N16*'c design-col'!$K$6)+(N17*'c design-col'!$K$7)+N18*'c design-col'!$K$8+N19*'c design-col'!$K$9+N20*'c design-col'!$K$10+N21*'c design-col'!$K$11","v":475.86968839910003},{"$f":"(O16*'c design-col'!$K$6)+(O17*'c design-col'!$K$7)+O18*'c design-col'!$K$8+O19*'c design-col'!$K$9+O20*'c design-col'!$K$10+O21*'c design-col'!$K$11","v":572.11521115239987},{"$f":"(P16*'c design-col'!$K$6)+(P17*'c design-col'!$K$7)+P18*'c design-col'!$K$8+P19*'c design-col'!$K$9+P20*'c design-col'!$K$10+P21*'c design-col'!$K$11","v":702.40470494679994},{"$f":"(Q16*'c design-col'!$K$6)+(Q17*'c design-col'!$K$7)+Q18*'c design-col'!$K$8+Q19*'c design-col'!$K$9+Q20*'c design-col'!$K$10+Q21*'c design-col'!$K$11","v":896.5041043153999}]
["ECO2/Mpa",{"$f":"B23/B15","v":17.059112723649996},{"$f":"C23/C15","v":12.724279792516667},10.495032432387497,9.1543216479199963,7.9632485304560001,7.4329684775166651,7.2031492904457126,6.8094534702224987,6.5217963767755567,6.3442358013520002,6.4217416719763634,6.7050814754733343,6.7981384057014287,7.1514401394049987,7.8044967216311107,8.9650410431539989]
[]
[]
[]
["0-10",8,12,16,20,25,30,35,40,45,50,55,60,70,80,90,100]
["Water content",125,125,125,125,125,125,125,125,125,125,125,125,125,125,125,125]
["Cement content",128,144,161,177,195,220,252,274,297,322,362,415,496,601,743,949]
["PFA content",32,36,40,44,49,55,63,68,74,81,91,104,124,150,186,237]
["Fine Agg",823,772,731,697,666,629,591,569,548,527,499,467,425,379,325,256]
["Coarse Agg",1291,1322,1342,1356,1365,1370,1369,1364,1356,1344,1323,1289,1229,1144,1020,832]
["Plasticiser dosage",0,0,0,0,0,0,0,0,0,0,0,0,0,0,0,0]
["Concrete",{"$f":"B29+B30+B31+B32+B33+B34","v":2399},{"$f":"C29+C30+C31+C32+C33+C34","v":2399},2399,2399,2400,2399,2400,2400,2400,2399,2400,2400,2399,2399,2399,2399]
["ECO2",{"$f":"(B29*'c design-col'!$K$6)+(B30*'c design-col'!$K$7)+B31*'c design-col'!$K$8+B32*'c design-col'!$K$9+B33*'c design-col'!$K$10+B34*'c design-col'!$K$11","v":132.6210313981},{"$f":"(C29*'c design-col'!$K$6)+(C30*'c design-col'!$K$7)+C31*'c design-col'!$K$8+C32*'c design-col'!$K$9+C33*'c design-col'!$K$10+C34*'c design-col'!$K$11","v":147.1517041644},{"$f":"(D29*'c design-col'!$K$6)+(D30*'c design-col'!$K$7)+D31*'c design-col'!$K$8+D32*'c design-col'!$K$9+D33*'c design-col'!$K$10+D34*'c design-col'!$K$11","v":162.44799582569999},{"$f":"(E29*'c design-col'!$K$6)+(E30*'c design-col'!$K$7)+E31*'c design-col'!$K$8+E32*'c design-col'!$K$9+E33*'c design-col'!$K$10+E34*'c design-col'!$K$11","v":176.79946918989995},{"$f":"(F29*'c design-col'!$K$6)+(F30*'c design-col'!$K$7)+F31*'c design-col'!$K$8+F32*'c design-col'!$K$9+F33*'c design-col'!$K$10+F34*'c design-col'!$K$11","v":192.88837974619997},{"$f":"(G29*'c design-col'!$K$6)+(G30*'c design-col'!$K$7)+G31*'c design-col'!$K$8+G32*'c design-col'!$K$9+G33*'c design-col'!$K$10+G34*'c design-col'!$K$11","v":215.12619153029999},{"$f":"(H29*'c design-col'!$K$6)+(H30*'c design-col'!$K$7)+H31*'c design-col'!$K$8+H32*'c design-col'!$K$9+H33*'c design-col'!$K$10+H34*'c design-col'!$K$11","v":243.52575661169996},{"$f":"(I29*'c design-col'!$K$6)+(I30*'c design-col'!$K$7)+I31*'c design-col'!$K$8+I32*'c design-col'!$K$9+I33*'c design-col'!$K$10+I34*'c design-col'!$K$11","v":262.99106553629997},{"$f":"(J29*'c design-col'!$K$6)+(J30*'c design-col'!$K$7)+J31*'c design-col'!$K$8+J32*'c design-col'!$K$9+J33*'c design-col'!$K$10+J34*'c design-col'!$K$11","v":283.3310110356},{"$f":"(K29*'c design-col'!$K$6)+(K30*'c design-col'!$K$7)+K31*'c design-col'!$K$8+K32*'c design-col'!$K$9+K33*'c design-col'!$K$10+K34*'c design-col'!$K$11","v":305.41431196689996},{"$f":"(L29*'c design-col'!$K$6)+(L30*'c design-col'!$K$7)+L31*'c design-col'!$K$8+L32*'c design-col'!$K$9+L33*'c design-col'!$K$10+L34*'c design-col'!$K$11","v":340.70500291529999},{"$f":"(M29*'c design-col'!$K$6)+(M30*'c design-col'!$K$7)+M31*'c design-col'!$K$8+M32*'c design-col'!$K$9+M33*'c design-col'!$K$10+M34*'c design-col'!$K$11","v":387.39084206489997},{"$f":"(N29*'c design-col'!$K$6)+(N30*'c design-col'!$K$7)+N31*'c design-col'!$K$8+N32*'c design-col'!$K$9+N33*'c design-col'!$K$10+N34*'c design-col'!$K$11","v":458.65712051549997},{"$f":"(O29*'c design-col'!$K$6)+(O30*'c design-col'!$K$7)+O31*'c design-col'!$K$8+O32*'c design-col'!$K$9+O33*'c design-col'!$K$10+O34*'c design-col'!$K$11","v":550.96802796329985},{"$f":"(P29*'c design-col'!$K$6)+(P30*'c design-col'!$K$7)+P31*'c design-col'!$K$8+P32*'c design-col'!$K$9+P33*'c design-col'!$K$10+P34*'c design-col'!$K$11","v":675.7328600175},{"$f":"(Q29*'c design-col'!$K$6)+(Q30*'c design-col'!$K$7)+Q31*'c design-col'!$K$8+Q32*'c design-col'!$K$9+Q33*'c design-col'!$K$10+Q34*'c design-col'!$K$11","v":856.61396002319998}]
["ECO2/Mpa",{"$f":"B36/B28","v":16.5776289247625},{"$f":"C36/C28","v":12.262642013700001},10.152999739106249,8.8399734594949972,7.7155351898479987,7.1708730510100001,6.9578787603342844,6.5747766384074993,6.29624468968,6.1082862393379989,6.194636416641818,6.4565140344149992,6.5522445787928563,6.8871003495412477,7.5081428890833335,8.5661396002319989]
[]
[]
[]
[]
["0-10",8,12,16,20,25,30,35,40,45,50,55,60,70,80,90,100]
["Water content",112.5,112.5,112.5,112.5,112.5,112.5,112.5,112.5,112.5,112.5,112.5,112.5,112.5,112.5,112.5,112.5]
["Cement content",115,130,145,160,175,198,227,246,267,290,326,373,446,541,669,854]
["PFA content",29,32,36,40,44,50,57,62,67,73,81,93,112,135,167,214]
["Fine Agg",840,789,748,713,683,646,608,587,566,546,519,488,448,405,354,290]
["Coarse Agg",1318,1350,1372,1388,1399,1408,1410,1407,1401,1392,1375,1347,1295,1221,1111,943]
["Plasticiser dosage",0.6,0.6,0.7,0.8,0.9,1,1.1000000000000001,1.2,1.3,1.5,1.6,1.9,2.2000000000000002,2.7,3.3,4.3]
["Concrete",{"$f":"B43+B44+B45+B46+B47+B48","v":2415.1},{"$f":"C43+C44+C45+C46+C47+C48","v":2414.1},2414.1999999999998,2414.3000000000002,2414.4,2415.5,2415.6,2415.6999999999998,2414.8000000000002,2415,2415.1,2415.4,2415.6999999999998,2417.1999999999998,2416.8000000000002,2417.8000000000002]
["ECO2",{"$f":"(B43*'c design-col'!$K$6)+(B44*'c design-col'!$K$7)+B45*'c design-col'!$K$8+B46*'c design-col'!$K$9+B47*'c design-col'!$K$10+B48*'c design-col'!$K$11","v":121.42337146399998},{"$f":"(C43*'c design-col'!$K$6)+(C44*'c design-col'!$K$7)+C45*'c design-col'!$K$8+C46*'c design-col'!$K$9+C47*'c design-col'!$K$10+C48*'c design-col'!$K$11","v":135.0560139223},{"$f":"(D43*'c design-col'!$K$6)+(D44*'c design-col'!$K$7)+D45*'c design-col'!$K$8+D46*'c design-col'!$K$9+D47*'c design-col'!$K$10+D48*'c design-col'!$K$11","v":148.6102454876},{"$f":"(E43*'c design-col'!$K$6)+(E44*'c design-col'!$K$7)+E45*'c design-col'!$K$8+E46*'c design-col'!$K$9+E47*'c design-col'!$K$10+E48*'c design-col'!$K$11","v":162.10123020509999},{"$f":"(F43*'c design-col'!$K$6)+(F44*'c design-col'!$K$7)+F45*'c design-col'!$K$8+F46*'c design-col'!$K$9+F47*'c design-col'!$K$10+F48*'c design-col'!$K$11","v":175.53950921609996},{"$f":"(G43*'c design-col'!$K$6)+(G44*'c design-col'!$K$7)+G45*'c design-col'!$K$8+G46*'c design-col'!$K$9+G47*'c design-col'!$K$10+G48*'c design-col'!$K$11","v":196.06096608819999},{"$f":"(H43*'c design-col'!$K$6)+(H44*'c design-col'!$K$7)+H45*'c design-col'!$K$8+H46*'c design-col'!$K$9+H47*'c design-col'!$K$10+H48*'c design-col'!$K$11","v":221.82044076559995},{"$f":"(I43*'c design-col'!$K$6)+(I44*'c design-col'!$K$7)+I45*'c design-col'!$K$8+I46*'c design-col'!$K$9+I47*'c design-col'!$K$10+I48*'c design-col'!$K$11","v":238.66211814489998},{"$f":"(J43*'c design-col'!$K$6)+(J44*'c design-col'!$K$7)+J45*'c design-col'!$K$8+J46*'c design-col'!$K$9+J47*'c design-col'!$K$10+J48*'c design-col'!$K$11","v":257.23300354820003},{"$f":"(K43*'c design-col'!$K$6)+(K44*'c design-col'!$K$7)+K45*'c design-col'!$K$8+K46*'c design-col'!$K$9+K47*'c design-col'!$K$10+K48*'c design-col'!$K$11","v":277.56240894619998},{"$f":"(L43*'c design-col'!$K$6)+(L44*'c design-col'!$K$7)+L45*'c design-col'!$K$8+L46*'c design-col'!$K$9+L47*'c design-col'!$K$10+L48*'c design-col'!$K$11","v":309.31729063329999},{"$f":"(M43*'c design-col'!$K$6)+(M44*'c design-col'!$K$7)+M45*'c design-col'!$K$8+M46*'c design-col'!$K$9+M47*'c design-col'!$K$10+M48*'c design-col'!$K$11","v":350.75226094559997},{"$f":"(N43*'c design-col'!$K$6)+(N44*'c design-col'!$K$7)+N45*'c design-col'!$K$8+N46*'c design-col'!$K$9+N47*'c design-col'!$K$10+N48*'c design-col'!$K$11","v":415.02792139359997},{"$f":"(O43*'c design-col'!$K$6)+(O44*'c design-col'!$K$7)+O45*'c design-col'!$K$8+O46*'c design-col'!$K$9+O47*'c design-col'!$K$10+O48*'c design-col'!$K$11","v":498.56731530549996},{"$f":"(P43*'c design-col'!$K$6)+(P44*'c design-col'!$K$7)+P45*'c design-col'!$K$8+P46*'c design-col'!$K$9+P47*'c design-col'!$K$10+P48*'c design-col'!$K$11","v":611.03666051979985},{"$f":"(Q43*'c design-col'!$K$6)+(Q44*'c design-col'!$K$7)+Q45*'c design-col'!$K$8+Q46*'c design-col'!$K$9+Q47*'c design-col'!$K$10+Q48*'c design-col'!$K$11","v":773.51683391899996}]
["ECO2/Mpa",{"$f":"B50/B42","v":15.177921432999998},{"$f":"C50/C42","v":11.254667826858332},9.2881403429749998,8.1050615102550001,7.0215803686439981,6.5353655362733329,6.3377268790171417,5.9665529536224993,5.7162889677377784,5.5512481789239994,5.6239507387872729,5.8458710157599993,5.9289703056228564,6.2320914413187491,6.7892962279977764,7.7351683391899995]
[]
[]
[]
["0-10",8,12,16,20,25,30,35,40,45,50,55,60,70,80,90,100]
["Water content",115,115,115,115,115,115,115,115,115,115,115,115,115,115,115,115]
["Cement content",105,119,132,146,160,181,208,226,245,266,298,342,409,495,613,782]
["PFA content",70,79,88,97,107,121,138,150,163,177,199,228,272,330,408,522]
["Fine Agg",825,774,732,697,665,627,588,565,543,522,493,459,415,366,308,233]
["Coarse Agg",1295,1324,1343,1356,1363,1367,1362,1355,1345,1331,1306,1267,1200,1105,967,759]
["Plasticiser dosage"]
["Concrete",{"$f":"B56+B57+B58+B59+B60","v":2410},{"$f":"C56+C57+C58+C59+C60","v":2411},2410,2411,2410,2411,2411,2411,2411,2411,2411,2411,2411,2411,2411,2411]
["ECO2",{"$f":"(B56*'c design-col'!$K$6)+(B57*'c design-col'!$K$7)+B58*'c design-col'!$K$8+B59*'c design-col'!$K$9+B60*'c design-col'!$K$10+B61*'c design-col'!$K$11","v":113.36375796749998},{"$f":"(C56*'c design-col'!$K$6)+(C57*'c design-col'!$K$7)+C58*'c design-col'!$K$8+C59*'c design-col'!$K$9+C60*'c design-col'!$K$10+C61*'c design-col'!$K$11","v":126.23595974979997},{"$f":"(D56*'c design-col'!$K$6)+(D57*'c design-col'!$K$7)+D58*'c design-col'!$K$8+D59*'c design-col'!$K$9+D60*'c design-col'!$K$10+D61*'c design-col'!$K$11","v":138.11655576839999},{"$f":"(E56*'c design-col'!$K$6)+(E57*'c design-col'!$K$7)+E58*'c design-col'!$K$8+E59*'c design-col'!$K$9+E60*'c design-col'!$K$10+E61*'c design-col'!$K$11","v":150.82009928989999},{"$f":"(F56*'c design-col'!$K$6)+(F57*'c design-col'!$K$7)+F58*'c design-col'!$K$8+F59*'c design-col'!$K$9+F60*'c design-col'!$K$10+F61*'c design-col'!$K$11","v":163.4804616115},{"$f":"(G56*'c design-col'!$K$6)+(G57*'c design-col'!$K$7)+G58*'c design-col'!$K$8+G59*'c design-col'!$K$9+G60*'c design-col'!$K$10+G61*'c design-col'!$K$11","v":182.38357775289998},{"$f":"(H56*'c design-col'!$K$6)+(H57*'c design-col'!$K$7)+H58*'c design-col'!$K$8+H59*'c design-col'!$K$9+H60*'c design-col'!$K$10+H61*'c design-col'!$K$11","v":206.5530065156},{"$f":"(I56*'c design-col'!$K$6)+(I57*'c design-col'!$K$7)+I58*'c design-col'!$K$8+I59*'c design-col'!$K$9+I60*'c design-col'!$K$10+I61*'c design-col'!$K$11","v":222.64376720550001},{"$f":"(J56*'c design-col'!$K$6)+(J57*'c design-col'!$K$7)+J58*'c design-col'!$K$8+J59*'c design-col'!$K$9+J60*'c design-col'!$K$10+J61*'c design-col'!$K$11","v":239.60916447010001},{"$f":"(K56*'c design-col'!$K$6)+(K57*'c design-col'!$K$7)+K58*'c design-col'!$K$8+K59*'c design-col'!$K$9+K60*'c design-col'!$K$10+K61*'c design-col'!$K$11","v":258.32022861740001},{"$f":"(L56*'c design-col'!$K$6)+(L57*'c design-col'!$K$7)+L58*'c design-col'!$K$8+L59*'c design-col'!$K$9+L60*'c design-col'!$K$10+L61*'c design-col'!$K$11","v":286.81013454710001},{"$f":"(M56*'c design-col'!$K$6)+(M57*'c design-col'!$K$7)+M58*'c design-col'!$K$8+M59*'c design-col'!$K$9+M60*'c design-col'!$K$10+M61*'c design-col'!$K$11","v":325.90414173529996},{"$f":"(N56*'c design-col'!$K$6)+(N57*'c design-col'!$K$7)+N58*'c design-col'!$K$8+N59*'c design-col'!$K$9+N60*'c design-col'!$K$10+N61*'c design-col'!$K$11","v":385.34946854049997},{"$f":"(O56*'c design-col'!$K$6)+(O57*'c design-col'!$K$7)+O58*'c design-col'!$K$8+O59*'c design-col'!$K$9+O60*'c design-col'!$K$10+O61*'c design-col'!$K$11","v":461.59514061620001},{"$f":"(P56*'c design-col'!$K$6)+(P57*'c design-col'!$K$7)+P58*'c design-col'!$K$8+P59*'c design-col'!$K$9+P60*'c design-col'!$K$10+P61*'c design-col'!$K$11","v":566.09160097959989},{"$f":"(Q56*'c design-col'!$K$6)+(Q57*'c design-col'!$K$7)+Q58*'c design-col'!$K$8+Q59*'c design-col'!$K$9+Q60*'c design-col'!$K$10+Q61*'c design-col'!$K$11","v":715.69911314109993}]
["ECO2/Mpa",{"$f":"B63/B55","v":14.170469745937497},{"$f":"C63/C55","v":10.519663312483331},8.6322847355249994,7.5410049644949995,6.5392184644600002,6.0794525917633324,5.901514471874286,5.5660941801375001,5.3246480993355556,5.1664045723480001,5.2147297190381821,5.4317356955883325,5.5049924077214278,5.7699392577025002,6.2899066775511097,7.1569911314109991]
[]
[]
[]
["0-10",8,12,16,20,25,30,35,40,45,50,55,60,70,80,90,100]
["Water content",103.5,103.5,103.5,103.5,103.5,103.5,103.5,103.5,103.5,103.5,103.5,103.5,103.5,103.5,103.5,103.5]
["Cement content",95,107,119,132,144,163,187,203,220,239,269,308,368,446,551,704]
["PFA content",63,71,79,88,96,109,125,135,147,159,179,205,245,297,368,469]
["Fine Agg",842,790,749,713,682,644,606,583,562,541,513,481,439,393,339,270]
["Coarse Agg",1321,1352,1373,1388,1398,1404,1403,1399,1391,1381,1360,1327,1269,1185,1063,877]
["Plasticiser dosage",0.6,0.7,0.8,0.9,1,1.1000000000000001,1.2,1.4,1.5,1.6,1.8,2.1,2.5,3,3.7,4.7]
["Concrete",{"$f":"B69+B70+B71+B72+B73+B74","v":2425.1},{"$f":"C69+C70+C71+C72+C73","v":2423.5},2423.5,2424.5,2423.5,2423.5,2424.5,2423.5,2423.5,2423.5,2424.5,2424.5,2424.5,2424.5,2424.5,2423.5]
["ECO2",{"$f":"(B69*'c design-col'!$K$6)+(B70*'c design-col'!$K$7)+B71*'c design-col'!$K$8+B72*'c design-col'!$K$9+B73*'c design-col'!$K$10+B74*'c design-col'!$K$11","v":104.69789414139998},{"$f":"(C69*'c design-col'!$K$6)+(C70*'c design-col'!$K$7)+C71*'c design-col'!$K$8+C72*'c design-col'!$K$9+C73*'c design-col'!$K$10+C74*'c design-col'!$K$11","v":115.798724377},{"$f":"(D69*'c design-col'!$K$6)+(D70*'c design-col'!$K$7)+D71*'c design-col'!$K$8+D72*'c design-col'!$K$9+D73*'c design-col'!$K$10+D74*'c design-col'!$K$11","v":126.79645465029998},{"$f":"(E69*'c design-col'!$K$6)+(E70*'c design-col'!$K$7)+E71*'c design-col'!$K$8+E72*'c design-col'!$K$9+E73*'c design-col'!$K$10+E74*'c design-col'!$K$11","v":138.63950952509998},{"$f":"(F69*'c design-col'!$K$6)+(F70*'c design-col'!$K$7)+F71*'c design-col'!$K$8+F72*'c design-col'!$K$9+F73*'c design-col'!$K$10+F74*'c design-col'!$K$11","v":149.51897579340002},{"$f":"(G69*'c design-col'!$K$6)+(G70*'c design-col'!$K$7)+G71*'c design-col'!$K$8+G72*'c design-col'!$K$9+G73*'c design-col'!$K$10+G74*'c design-col'!$K$11","v":166.65303183879999},{"$f":"(H69*'c design-col'!$K$6)+(H70*'c design-col'!$K$7)+H71*'c design-col'!$K$8+H72*'c design-col'!$K$9+H73*'c design-col'!$K$10+H74*'c design-col'!$K$11","v":188.19753424019996},{"$f":"(I69*'c design-col'!$K$6)+(I70*'c design-col'!$K$7)+I71*'c design-col'!$K$8+I72*'c design-col'!$K$9+I73*'c design-col'!$K$10+I74*'c design-col'!$K$11","v":202.50508794609999},{"$f":"(J69*'c design-col'!$K$6)+(J70*'c design-col'!$K$7)+J71*'c design-col'!$K$8+J72*'c design-col'!$K$9+J73*'c design-col'!$K$10+J74*'c design-col'!$K$11","v":217.70373656539996},{"$f":"(K69*'c design-col'!$K$6)+(K70*'c design-col'!$K$7)+K71*'c design-col'!$K$8+K72*'c design-col'!$K$9+K73*'c design-col'!$K$10+K74*'c design-col'!$K$11","v":234.6444458007},{"$f":"(L69*'c design-col'!$K$6)+(L70*'c design-col'!$K$7)+L71*'c design-col'!$K$8+L72*'c design-col'!$K$9+L73*'c design-col'!$K$10+L74*'c design-col'!$K$11","v":261.36630878909995},{"$f":"(M69*'c design-col'!$K$6)+(M70*'c design-col'!$K$7)+M71*'c design-col'!$K$8+M72*'c design-col'!$K$9+M73*'c design-col'!$K$10+M74*'c design-col'!$K$11","v":296.04164149070004},{"$f":"(N69*'c design-col'!$K$6)+(N70*'c design-col'!$K$7)+N71*'c design-col'!$K$8+N72*'c design-col'!$K$9+N73*'c design-col'!$K$10+N74*'c design-col'!$K$11","v":349.31208630529994},{"$f":"(O69*'c design-col'!$K$6)+(O70*'c design-col'!$K$7)+O71*'c design-col'!$K$8+O72*'c design-col'!$K$9+O73*'c design-col'!$K$10+O74*'c design-col'!$K$11","v":418.47301064509998},{"$f":"(P69*'c design-col'!$K$6)+(P70*'c design-col'!$K$7)+P71*'c design-col'!$K$8+P72*'c design-col'!$K$9+P73*'c design-col'!$K$10+P74*'c design-col'!$K$11","v":511.50488422329994},{"$f":"(Q69*'c design-col'!$K$6)+(Q70*'c design-col'!$K$7)+Q71*'c design-col'!$K$8+Q72*'c design-col'!$K$9+Q73*'c design-col'!$K$10+Q74*'c design-col'!$K$11","v":646.91590091299997}]
["ECO2/Mpa",{"$f":"B76/B68","v":13.087236767674998},9.6498936980833339,7.9247784156437486,6.9319754762549994,5.9807590317360004,5.5551010612933327,5.3770724068628555,5.0626271986524998,4.8378608125644433,4.6928889160139997,4.7521147052563624,4.9340273581783345,4.9901726615042845,5.2309126330637499,5.6833876024811101,6.4691590091299993]
[]
[]
[]
[]
["1930-10-01",8,12,16,20,25,30,35,40,45,50,55,60,70,80,90,100]
["Water content",160,160,160,160,160,160,160,160,160,160,160,160,160,160,160,160]
["Cement content",176,199,221,244,268,303,347,376,409,444,498,571,682,827,1023,1306]
["PFA content",0,0,0,0,0,0,0,0,0,0,0,0,0,0,0,0]
["Fine Agg",835,783,741,706,674,635,595,572,550,528,498,463,417,366,305,225]
["Coarse Agg",1188,1217,1237,1250,1258,1261,1257,1250,1241,1227,1203,1165,1100,1006,871,668]
["Plasticiser dosage",0,0,0,0,0,0,0,0,0,0,0,0,0,0,0,0]
["Concrete",{"$f":"SUM(B83:B88)","v":2359},2359,2359,2360,2360,2359,2359,2358,2360,2359,2359,2359,2359,2359,2359,2359]
["ECO2",{"$f":"(B83*'c design-col'!$K$6)+(B84*'c design-col'!$K$7)+B85*'c design-col'!$K$8+B86*'c design-col'!$K$9+B87*'c design-col'!$K$10+B88*'c design-col'!$K$11","v":172.92233103049998},{"$f":"(C83*'c design-col'!$K$6)+(C84*'c design-col'!$K$7)+C85*'c design-col'!$K$8+C86*'c design-col'!$K$9+C87*'c design-col'!$K$10+C88*'c design-col'!$K$11","v":193.50416746209999},{"$f":"(D83*'c design-col'!$K$6)+(D84*'c design-col'!$K$7)+D85*'c design-col'!$K$8+D86*'c design-col'!$K$9+D87*'c design-col'!$K$10+D88*'c design-col'!$K$11","v":213.10956217269995},{"$f":"(E83*'c design-col'!$K$6)+(E84*'c design-col'!$K$7)+E85*'c design-col'!$K$8+E86*'c design-col'!$K$9+E87*'c design-col'!$K$10+E88*'c design-col'!$K$11","v":233.52505179419998},{"$f":"(F83*'c design-col'!$K$6)+(F84*'c design-col'!$K$7)+F85*'c design-col'!$K$8+F86*'c design-col'!$K$9+F87*'c design-col'!$K$10+F88*'c design-col'!$K$11","v":254.76709570779997},{"$f":"(G83*'c design-col'!$K$6)+(G84*'c design-col'!$K$7)+G85*'c design-col'!$K$8+G86*'c design-col'!$K$9+G87*'c design-col'!$K$10+G88*'c design-col'!$K$11","v":285.65140840650002},{"$f":"(H83*'c design-col'!$K$6)+(H84*'c design-col'!$K$7)+H85*'c design-col'!$K$8+H86*'c design-col'!$K$9+H87*'c design-col'!$K$10+H88*'c design-col'!$K$11","v":324.39838761050004},{"$f":"(I83*'c design-col'!$K$6)+(I84*'c design-col'!$K$7)+I85*'c design-col'!$K$8+I86*'c design-col'!$K$9+I87*'c design-col'!$K$10+I88*'c design-col'!$K$11","v":349.88786020039998},{"$f":"(J83*'c design-col'!$K$6)+(J84*'c design-col'!$K$7)+J85*'c design-col'!$K$8+J86*'c design-col'!$K$9+J87*'c design-col'!$K$10+J88*'c design-col'!$K$11","v":378.889470657},{"$f":"(K83*'c design-col'!$K$6)+(K84*'c design-col'!$K$7)+K85*'c design-col'!$K$8+K86*'c design-col'!$K$9+K87*'c design-col'!$K$10+K88*'c design-col'!$K$11","v":409.59458395360002},{"$f":"(L83*'c design-col'!$K$6)+(L84*'c design-col'!$K$7)+L85*'c design-col'!$K$8+L86*'c design-col'!$K$9+L87*'c design-col'!$K$10+L88*'c design-col'!$K$11","v":456.94645482459998},{"$f":"(M83*'c design-col'!$K$6)+(M84*'c design-col'!$K$7)+M85*'c design-col'!$K$8+M86*'c design-col'!$K$9+M87*'c design-col'!$K$10+M88*'c design-col'!$K$11","v":520.90060725410001},{"$f":"(N83*'c design-col'!$K$6)+(N84*'c design-col'!$K$7)+N85*'c design-col'!$K$8+N86*'c design-col'!$K$9+N87*'c design-col'!$K$10+N88*'c design-col'!$K$11","v":618.06986394189994},{"$f":"(O83*'c design-col'!$K$6)+(O84*'c design-col'!$K$7)+O85*'c design-col'!$K$8+O86*'c design-col'!$K$9+O87*'c design-col'!$K$10+O88*'c design-col'!$K$11","v":744.9068568081999},{"$f":"(P83*'c design-col'!$K$6)+(P84*'c design-col'!$K$7)+P85*'c design-col'!$K$8+P86*'c design-col'!$K$9+P87*'c design-col'!$K$10+P88*'c design-col'!$K$11","v":916.27180679549997},{"$f":"(Q83*'c design-col'!$K$6)+(Q84*'c design-col'!$K$7)+Q85*'c design-col'!$K$8+Q86*'c design-col'!$K$9+Q87*'c design-col'!$K$10+Q88*'c design-col'!$K$11","v":1163.6166752634999}]
["ECO2/Mpa",{"$f":"B90/B82","v":21.615291378812497},16.125347288508333,13.319347635793747,11.67625258971,10.190683828311998,9.5217136135500002,9.2685253603000017,8.7471965050099989,8.4197660146000004,8.1918916790720004,8.3081173604472731,8.6816767875683336,8.8295694848842849,9.3113357101024992,10.180797853283334,11.636166752634999]
[]
[]
[]
["1930-10-01",8,12,16,20,25,30,35,40,45,50,55,60,70,80,90,100]
["Water content",144,144,144,144,144,144,144,144,144,144,144,144,144,144,144,144]
["Cement content",158,179,199,220,241,273,312,339,368,399,448,514,614,744,921,1176]
["PFA content",0,0,0,0,0,0,0,0,0,0,0,0,0,0,0,0]
["Fine Agg",857,805,762,727,695,657,618,595,573,552,523,489,446,397,340,267]
["Coarse Agg",1219,1250,1272,1287,1297,1304,1304,1300,1293,1282,1262,1231,1174,1092,973,791]
["Plasticiser dosage",0.6,0.7,0.8,0.9,1,1.1000000000000001,1.2,1.4,1.5,1.6,1.8,2.1,2.5,3,3.7,4.7]
["Concrete",{"$f":"B96+B97+B98+B99+B100+B101","v":2378.6},2378.6999999999998,2377.8000000000002,2378.9,2378,2379.1,2379.1999999999998,2379.4,2379.5,2378.6,2378.8000000000002,2380.1,2380.5,2380,2381.6999999999998,2382.6999999999998]
["ECO2",{"$f":"(B96*'c design-col'!$K$6)+(B97*'c design-col'!$K$7)+B98*'c design-col'!$K$8+B99*'c design-col'!$K$9+B100*'c design-col'!$K$10+B101*'c design-col'!$K$11","v":157.44572421789999},{"$f":"(C96*'c design-col'!$K$6)+(C97*'c design-col'!$K$7)+C98*'c design-col'!$K$8+C99*'c design-col'!$K$9+C100*'c design-col'!$K$10+C101*'c design-col'!$K$11","v":176.28550055349999},{"$f":"(D96*'c design-col'!$K$6)+(D97*'c design-col'!$K$7)+D98*'c design-col'!$K$8+D99*'c design-col'!$K$9+D100*'c design-col'!$K$10+D101*'c design-col'!$K$11","v":194.14652371740002},{"$f":"(E96*'c design-col'!$K$6)+(E97*'c design-col'!$K$7)+E98*'c design-col'!$K$8+E99*'c design-col'!$K$9+E100*'c design-col'!$K$10+E101*'c design-col'!$K$11","v":212.81995324289997},{"$f":"(F96*'c design-col'!$K$6)+(F97*'c design-col'!$K$7)+F98*'c design-col'!$K$8+F99*'c design-col'!$K$9+F100*'c design-col'!$K$10+F101*'c design-col'!$K$11","v":231.43605416049999},{"$f":"(G96*'c design-col'!$K$6)+(G97*'c design-col'!$K$7)+G98*'c design-col'!$K$8+G99*'c design-col'!$K$9+G100*'c design-col'!$K$10+G101*'c design-col'!$K$11","v":259.72244049789998},{"$f":"(H96*'c design-col'!$K$6)+(H97*'c design-col'!$K$7)+H98*'c design-col'!$K$8+H99*'c design-col'!$K$9+H100*'c design-col'!$K$10+H101*'c design-col'!$K$11","v":294.10372754059995},{"$f":"(I96*'c design-col'!$K$6)+(I97*'c design-col'!$K$7)+I98*'c design-col'!$K$8+I99*'c design-col'!$K$9+I100*'c design-col'!$K$10+I101*'c design-col'!$K$11","v":317.86399314649998},{"$f":"(J96*'c design-col'!$K$6)+(J97*'c design-col'!$K$7)+J98*'c design-col'!$K$8+J99*'c design-col'!$K$9+J100*'c design-col'!$K$10+J101*'c design-col'!$K$11","v":343.35577770709995},{"$f":"(K96*'c design-col'!$K$6)+(K97*'c design-col'!$K$7)+K98*'c design-col'!$K$8+K99*'c design-col'!$K$9+K100*'c design-col'!$K$10+K101*'c design-col'!$K$11","v":370.56622915039998},{"$f":"(L96*'c design-col'!$K$6)+(L97*'c design-col'!$K$7)+L98*'c design-col'!$K$8+L99*'c design-col'!$K$9+L100*'c design-col'!$K$10+L101*'c design-col'!$K$11","v":413.55240838009996},{"$f":"(M96*'c design-col'!$K$6)+(M97*'c design-col'!$K$7)+M98*'c design-col'!$K$8+M99*'c design-col'!$K$9+M100*'c design-col'!$K$10+M101*'c design-col'!$K$11","v":471.41166166429997},{"$f":"(N96*'c design-col'!$K$6)+(N97*'c design-col'!$K$7)+N98*'c design-col'!$K$8+N99*'c design-col'!$K$9+N100*'c design-col'!$K$10+N101*'c design-col'!$K$11","v":558.96796362019995},{"$f":"(O96*'c design-col'!$K$6)+(O97*'c design-col'!$K$7)+O98*'c design-col'!$K$8+O99*'c design-col'!$K$9+O100*'c design-col'!$K$10+O101*'c design-col'!$K$11","v":672.70556959189992},{"$f":"(P96*'c design-col'!$K$6)+(P97*'c design-col'!$K$7)+P98*'c design-col'!$K$8+P99*'c design-col'!$K$9+P100*'c design-col'!$K$10+P101*'c design-col'!$K$11","v":827.4916353939999},{"$f":"(Q96*'c design-col'!$K$6)+(Q97*'c design-col'!$K$7)+Q98*'c design-col'!$K$8+Q99*'c design-col'!$K$9+Q100*'c design-col'!$K$10+Q101*'c design-col'!$K$11","v":1050.3738724488999}]
["ECO2/Mpa",{"$f":"B103/B95","v":19.680715527237499},14.690458379458333,12.134157732337501,10.640997662144999,9.2574421664199988,8.6574146832633332,8.4029636440171416,7.9465998286624995,7.6301283934911099,7.4113245830079997,7.5191346978199993,7.8568610277383328,7.9852566231457134,8.4088196198987486,9.1943515043777762,10.503738724488999]
[]
[]
[]
["0-10",8,12,16,20,25,30,35,40,45,50,55,60,70,80,90,100]
["Water content",150,150,150,150,150,150,150,150,150,150,150,150,150,150,150,150]
["Cement content",153,173,193,213,234,264,302,328,356,387,435,498,595,721,892,1139]
["PFA content",38,43,48,53,58,66,76,82,89,97,109,124,149,180,223,285]
["Fine Agg",837,785,742,705,673,633,592,568,545,523,491,455,406,352,287,201]
["Coarse Agg",1192,1220,1238,1249,1255,1257,1251,1242,1230,1214,1186,1144,1071,967,819,596]
["Plasticiser dosage"]
["Concrete",{"$f":"B109+B110+B111+B112+B113","v":2370},2371,2371,2370,2370,2370,2371,2370,2370,2371,2371,2371,2371,2370,2371,2371]
["ECO2",{"$f":"(B109*'c design-col'!$K$6)+(B110*'c design-col'!$K$7)+B111*'c design-col'!$K$8+B112*'c design-col'!$K$9+B113*'c design-col'!$K$10+B114*'c design-col'!$K$11","v":153.6650575999},{"$f":"(C109*'c design-col'!$K$6)+(C110*'c design-col'!$K$7)+C111*'c design-col'!$K$8+C112*'c design-col'!$K$9+C113*'c design-col'!$K$10+C114*'c design-col'!$K$11","v":171.71739273949999},{"$f":"(D109*'c design-col'!$K$6)+(D110*'c design-col'!$K$7)+D111*'c design-col'!$K$8+D112*'c design-col'!$K$9+D113*'c design-col'!$K$10+D114*'c design-col'!$K$11","v":189.66200501539996},{"$f":"(E109*'c design-col'!$K$6)+(E110*'c design-col'!$K$7)+E111*'c design-col'!$K$8+E112*'c design-col'!$K$9+E113*'c design-col'!$K$10+E114*'c design-col'!$K$11","v":207.53051785150001},{"$f":"(F109*'c design-col'!$K$6)+(F110*'c design-col'!$K$7)+F111*'c design-col'!$K$8+F112*'c design-col'!$K$9+F113*'c design-col'!$K$10+F114*'c design-col'!$K$11","v":226.2302078811},{"$f":"(G109*'c design-col'!$K$6)+(G110*'c design-col'!$K$7)+G111*'c design-col'!$K$8+G112*'c design-col'!$K$9+G113*'c design-col'!$K$10+G114*'c design-col'!$K$11","v":252.89594203709999},{"$f":"(H109*'c design-col'!$K$6)+(H110*'c design-col'!$K$7)+H111*'c design-col'!$K$8+H112*'c design-col'!$K$9+H113*'c design-col'!$K$10+H114*'c design-col'!$K$11","v":286.58160720639995},{"$f":"(I109*'c design-col'!$K$6)+(I110*'c design-col'!$K$7)+I111*'c design-col'!$K$8+I112*'c design-col'!$K$9+I113*'c design-col'!$K$10+I114*'c design-col'!$K$11","v":309.55341446159997},{"$f":"(J109*'c design-col'!$K$6)+(J110*'c design-col'!$K$7)+J111*'c design-col'!$K$8+J112*'c design-col'!$K$9+J113*'c design-col'!$K$10+J114*'c design-col'!$K$11","v":334.28374119149993},{"$f":"(K109*'c design-col'!$K$6)+(K110*'c design-col'!$K$7)+K111*'c design-col'!$K$8+K112*'c design-col'!$K$9+K113*'c design-col'!$K$10+K114*'c design-col'!$K$11","v":361.64361770409988},{"$f":"(L109*'c design-col'!$K$6)+(L110*'c design-col'!$K$7)+L111*'c design-col'!$K$8+L112*'c design-col'!$K$9+L113*'c design-col'!$K$10+L114*'c design-col'!$K$11","v":403.96015790569999},{"$f":"(M109*'c design-col'!$K$6)+(M110*'c design-col'!$K$7)+M111*'c design-col'!$K$8+M112*'c design-col'!$K$9+M113*'c design-col'!$K$10+M114*'c design-col'!$K$11","v":459.42675951649994},{"$f":"(N109*'c design-col'!$K$6)+(N110*'c design-col'!$K$7)+N111*'c design-col'!$K$8+N112*'c design-col'!$K$9+N113*'c design-col'!$K$10+N114*'c design-col'!$K$11","v":544.78690051620003},{"$f":"(O109*'c design-col'!$K$6)+(O110*'c design-col'!$K$7)+O111*'c design-col'!$K$8+O112*'c design-col'!$K$9+O113*'c design-col'!$K$10+O114*'c design-col'!$K$11","v":655.53165801039995},{"$f":"(P109*'c design-col'!$K$6)+(P110*'c design-col'!$K$7)+P111*'c design-col'!$K$8+P112*'c design-col'!$K$9+P113*'c design-col'!$K$10+P114*'c design-col'!$K$11","v":805.78420599889989},{"$f":"(Q109*'c design-col'!$K$6)+(Q110*'c design-col'!$K$7)+Q111*'c design-col'!$K$8+Q112*'c design-col'!$K$9+Q113*'c design-col'!$K$10+Q114*'c design-col'!$K$11","v":1022.7123695227}]
["ECO2/Mpa",{"$f":"B116/B108","v":19.208132199987499},14.309782728291665,11.853875313462497,10.376525892575,9.0492083152439999,8.4298647345699997,8.188045920182855,7.7388353615399996,7.4285275820333316,7.2328723540819979,7.3447301437399997,7.657112658608332,7.7826700073742865,8.1941457251299994,8.9531578444322211,10.227123695227]
[]
[]
[]
["1930-10-01",8,12,16,20,25,30,35,40,45,50,55,60,70,80,90,100]
["Water content",135,135,135,135,135,135,135,135,135,135,135,135,135,135,135,135]
["Cement content",138,156,174,192,210,238,272,295,321,348,391,448,535,649,803,1025]
["PFA content",34,39,43,48,53,59,68,74,80,87,98,112,134,162,201,256]
["Fine Agg",859,806,763,727,695,655,615,591,569,547,516,482,436,385,324,245]
["Coarse Agg",1222,1252,1273,1287,1295,1301,1298,1292,1283,1271,1248,1211,1148,1057,925,726]
["Plasticiser dosage",0.7,0.8,0.9,1,1.1000000000000001,1.2,1.4,1.5,1.6,1.7,2,2.2000000000000002,2.7,3.2,4,5.0999999999999996]
["Concrete",{"$f":"SUM(B122:B127)","v":2388.6999999999998},2388.8000000000002,2388.9,2390,2389.1,2389.1999999999998,2389.4,2388.5,2389.6,2389.6999999999998,2390,2390.1999999999998,2390.6999999999998,2391.1999999999998,2392,2392.1]
["ECO2",{"$f":"(B122*'c design-col'!$K$6)+(B123*'c design-col'!$K$7)+B124*'c design-col'!$K$8+B125*'c design-col'!$K$9+B126*'c design-col'!$K$10+B127*'c design-col'!$K$11","v":140.72024741529998},{"$f":"(C122*'c design-col'!$K$6)+(C123*'c design-col'!$K$7)+C124*'c design-col'!$K$8+C125*'c design-col'!$K$9+C126*'c design-col'!$K$10+C127*'c design-col'!$K$11","v":157.0282110082},{"$f":"(D122*'c design-col'!$K$6)+(D123*'c design-col'!$K$7)+D124*'c design-col'!$K$8+D125*'c design-col'!$K$9+D126*'c design-col'!$K$10+D127*'c design-col'!$K$11","v":173.2166157801},{"$f":"(E122*'c design-col'!$K$6)+(E123*'c design-col'!$K$7)+E124*'c design-col'!$K$8+E125*'c design-col'!$K$9+E126*'c design-col'!$K$10+E127*'c design-col'!$K$11","v":189.35823256289999},{"$f":"(F122*'c design-col'!$K$6)+(F123*'c design-col'!$K$7)+F124*'c design-col'!$K$8+F125*'c design-col'!$K$9+F126*'c design-col'!$K$10+F127*'c design-col'!$K$11","v":205.43197959649996},{"$f":"(G122*'c design-col'!$K$6)+(G123*'c design-col'!$K$7)+G124*'c design-col'!$K$8+G125*'c design-col'!$K$9+G126*'c design-col'!$K$10+G127*'c design-col'!$K$11","v":230.32735884049995},{"$f":"(H122*'c design-col'!$K$6)+(H123*'c design-col'!$K$7)+H124*'c design-col'!$K$8+H125*'c design-col'!$K$9+H126*'c design-col'!$K$10+H127*'c design-col'!$K$11","v":260.49136267649999},{"$f":"(I122*'c design-col'!$K$6)+(I123*'c design-col'!$K$7)+I124*'c design-col'!$K$8+I125*'c design-col'!$K$9+I126*'c design-col'!$K$10+I127*'c design-col'!$K$11","v":280.85007952769996},{"$f":"(J122*'c design-col'!$K$6)+(J123*'c design-col'!$K$7)+J124*'c design-col'!$K$8+J125*'c design-col'!$K$9+J126*'c design-col'!$K$10+J127*'c design-col'!$K$11","v":303.82651020430001},{"$f":"(K122*'c design-col'!$K$6)+(K123*'c design-col'!$K$7)+K124*'c design-col'!$K$8+K125*'c design-col'!$K$9+K126*'c design-col'!$K$10+K127*'c design-col'!$K$11","v":327.67526600489998},{"$f":"(L122*'c design-col'!$K$6)+(L123*'c design-col'!$K$7)+L124*'c design-col'!$K$8+L125*'c design-col'!$K$9+L126*'c design-col'!$K$10+L127*'c design-col'!$K$11","v":365.61196767719997},{"$f":"(M122*'c design-col'!$K$6)+(M123*'c design-col'!$K$7)+M124*'c design-col'!$K$8+M125*'c design-col'!$K$9+M126*'c design-col'!$K$10+M127*'c design-col'!$K$11","v":415.81715878939997},{"$f":"(N122*'c design-col'!$K$6)+(N123*'c design-col'!$K$7)+N124*'c design-col'!$K$8+N125*'c design-col'!$K$9+N126*'c design-col'!$K$10+N127*'c design-col'!$K$11","v":492.39293366119995},{"$f":"(O122*'c design-col'!$K$6)+(O123*'c design-col'!$K$7)+O124*'c design-col'!$K$8+O125*'c design-col'!$K$9+O126*'c design-col'!$K$10+O127*'c design-col'!$K$11","v":592.62411700349992},{"$f":"(P122*'c design-col'!$K$6)+(P123*'c design-col'!$K$7)+P124*'c design-col'!$K$8+P125*'c design-col'!$K$9+P126*'c design-col'!$K$10+P127*'c design-col'!$K$11","v":727.95754712679991},{"$f":"(Q122*'c design-col'!$K$6)+(Q123*'c design-col'!$K$7)+Q124*'c design-col'!$K$8+Q125*'c design-col'!$K$9+Q126*'c design-col'!$K$10+Q127*'c design-col'!$K$11","v":922.92428623349997}]
["ECO2/Mpa",{"$f":"B129/B121","v":17.590030926912497},13.085684250683334,10.82603848625625,9.467911628145,8.2172791838599988,7.6775786280166649,7.4426103621857136,7.0212519881924988,6.7517002267622228,6.553505320098,6.6474903214036356,6.9302859798233332,7.0341847665885711,7.4078014625437492,8.0884171902977773,9.2292428623349991]
[]
[]
[]
[]
["10--30",8,12,16,20,25,30,35,40,45,50,55,60,70,80,90,100]
["Water content",140,140,140,140,140,140,140,140,140,140,140,140,140,140,140,140]
["Cement content",128,145,161,178,195,221,253,275,298,324,363,416,497,603,746,953]
["PFA content",85,96,107,119,130,147,169,183,199,216,242,278,332,402,497,635]
["Fine Agg",837,783,740,702,669,628,585,560,536,512,479,440,389,330,259,165]
["Coarse Agg",1191,1218,1234,1243,1248,1246,1236,1224,1209,1191,1157,1108,1024,907,740,489]
["Plasticiser dosage"]
["Concrete",{"$f":"B136+B137+B138+B139+B140","v":2381},2382,2382,2382,2382,2382,2383,2382,2382,2383,2381,2382,2382,2382,2382,2382]
["ECO2",{"$f":"(B136*'c design-col'!$K$6)+(B137*'c design-col'!$K$7)+B138*'c design-col'!$K$8+B139*'c design-col'!$K$9+B140*'c design-col'!$K$10+B141*'c design-col'!$K$11","v":132.81413250789998},{"$f":"(C136*'c design-col'!$K$6)+(C137*'c design-col'!$K$7)+C138*'c design-col'!$K$8+C139*'c design-col'!$K$9+C140*'c design-col'!$K$10+C141*'c design-col'!$K$11","v":148.35934345409999},{"$f":"(D136*'c design-col'!$K$6)+(D137*'c design-col'!$K$7)+D138*'c design-col'!$K$8+D139*'c design-col'!$K$9+D140*'c design-col'!$K$10+D141*'c design-col'!$K$11","v":162.90471894599997},{"$f":"(E136*'c design-col'!$K$6)+(E137*'c design-col'!$K$7)+E138*'c design-col'!$K$8+E139*'c design-col'!$K$9+E140*'c design-col'!$K$10+E141*'c design-col'!$K$11","v":178.28256644739994},{"$f":"(F136*'c design-col'!$K$6)+(F137*'c design-col'!$K$7)+F138*'c design-col'!$K$8+F139*'c design-col'!$K$9+F140*'c design-col'!$K$10+F141*'c design-col'!$K$11","v":193.59356083429995},{"$f":"(G136*'c design-col'!$K$6)+(G137*'c design-col'!$K$7)+G138*'c design-col'!$K$8+G139*'c design-col'!$K$9+G140*'c design-col'!$K$10+G141*'c design-col'!$K$11","v":216.91304157159996},{"$f":"(H136*'c design-col'!$K$6)+(H137*'c design-col'!$K$7)+H138*'c design-col'!$K$8+H139*'c design-col'!$K$9+H140*'c design-col'!$K$10+H141*'c design-col'!$K$11","v":245.56337607149996},{"$f":"(I136*'c design-col'!$K$6)+(I137*'c design-col'!$K$7)+I138*'c design-col'!$K$8+I139*'c design-col'!$K$9+I140*'c design-col'!$K$10+I141*'c design-col'!$K$11","v":265.17478249999999},{"$f":"(J136*'c design-col'!$K$6)+(J137*'c design-col'!$K$7)+J138*'c design-col'!$K$8+J139*'c design-col'!$K$9+J140*'c design-col'!$K$10+J141*'c design-col'!$K$11","v":285.68782550319997},{"$f":"(K136*'c design-col'!$K$6)+(K137*'c design-col'!$K$7)+K138*'c design-col'!$K$8+K139*'c design-col'!$K$9+K140*'c design-col'!$K$10+K141*'c design-col'!$K$11","v":308.84095943039995},{"$f":"(L136*'c design-col'!$K$6)+(L137*'c design-col'!$K$7)+L138*'c design-col'!$K$8+L139*'c design-col'!$K$9+L140*'c design-col'!$K$10+L141*'c design-col'!$K$11","v":343.50112652929994},{"$f":"(M136*'c design-col'!$K$6)+(M137*'c design-col'!$K$7)+M138*'c design-col'!$K$8+M139*'c design-col'!$K$9+M140*'c design-col'!$K$10+M141*'c design-col'!$K$11","v":390.59899664399995},{"$f":"(N136*'c design-col'!$K$6)+(N137*'c design-col'!$K$7)+N138*'c design-col'!$K$8+N139*'c design-col'!$K$9+N140*'c design-col'!$K$10+N141*'c design-col'!$K$11","v":462.45400983029992},{"$f":"(O136*'c design-col'!$K$6)+(O137*'c design-col'!$K$7)+O138*'c design-col'!$K$8+O139*'c design-col'!$K$9+O140*'c design-col'!$K$10+O141*'c design-col'!$K$11","v":556.39546837499995},{"$f":"(P136*'c design-col'!$K$6)+(P137*'c design-col'!$K$7)+P138*'c design-col'!$K$8+P139*'c design-col'!$K$9+P140*'c design-col'!$K$10+P141*'c design-col'!$K$11","v":683.0452272112999},{"$f":"(Q136*'c design-col'!$K$6)+(Q137*'c design-col'!$K$7)+Q138*'c design-col'!$K$8+Q139*'c design-col'!$K$9+Q140*'c design-col'!$K$10+Q141*'c design-col'!$K$11","v":866.29171055349991}]
["ECO2/Mpa",{"$f":"B143/B135","v":16.601766563487498},12.363278621174999,10.181544934124998,8.9141283223699972,7.743742433371998,7.2304347190533322,7.0160964591857136,6.6293695625,6.3486183445155548,6.1768191886079986,6.2454750278054538,6.509983277399999,6.6064858547185707,6.954943354687499,7.5893914134588876,8.6629171055349996]
[]
[]
[]
[]
["10--30",8,12,16,20,25,30,35,40,45,50,55,60,70,80,90,100]
["Water content",126,126,126,126,126,126,126,126,126,126,126,126,126,126,126,126]
["Cement content",115,130,145,160,176,199,227,247,268,291,327,375,448,542,671,857]
["PFA content",77,87,97,107,117,133,152,165,179,194,218,250,298,362,447,572]
["Fine Agg",858,805,761,724,691,650,608,584,561,538,506,469,420,365,299,213]
["Coarse Agg",1221,1250,1269,1282,1288,1291,1285,1276,1265,1249,1221,1179,1106,1003,854,631]
["Plasticiser dosage",0.8,0.9,1,1.1000000000000001,1.2,1.3,1.5,1.6,1.8,1.9,2.2000000000000002,2.5,3,3.6,4.5,5.7]
["Concrete",{"$f":"B150+B151+B152+B153+B154+B155","v":2397.8000000000002},2398.9,2399,2400.1,2399.1999999999998,2400.3000000000002,2399.5,2399.6,2400.8000000000002,2399.9,2400.1999999999998,2401.5,2401,2401.6,2401.5,2404.6999999999998]
["ECO2",{"$f":"(B150*'c design-col'!$K$6)+(B151*'c design-col'!$K$7)+B152*'c design-col'!$K$8+B153*'c design-col'!$K$9+B154*'c design-col'!$K$10+B155*'c design-col'!$K$11","v":121.5277771926},{"$f":"(C150*'c design-col'!$K$6)+(C151*'c design-col'!$K$7)+C152*'c design-col'!$K$8+C153*'c design-col'!$K$9+C154*'c design-col'!$K$10+C155*'c design-col'!$K$11","v":135.30623949349999},{"$f":"(D150*'c design-col'!$K$6)+(D151*'c design-col'!$K$7)+D152*'c design-col'!$K$8+D153*'c design-col'!$K$9+D154*'c design-col'!$K$10+D155*'c design-col'!$K$11","v":148.9769789307},{"$f":"(E150*'c design-col'!$K$6)+(E151*'c design-col'!$K$7)+E152*'c design-col'!$K$8+E153*'c design-col'!$K$9+E154*'c design-col'!$K$10+E155*'c design-col'!$K$11","v":162.58678297079999},{"$f":"(F150*'c design-col'!$K$6)+(F151*'c design-col'!$K$7)+F152*'c design-col'!$K$8+F153*'c design-col'!$K$9+F154*'c design-col'!$K$10+F155*'c design-col'!$K$11","v":176.99974756969999},{"$f":"(G150*'c design-col'!$K$6)+(G151*'c design-col'!$K$7)+G152*'c design-col'!$K$8+G153*'c design-col'!$K$9+G154*'c design-col'!$K$10+G155*'c design-col'!$K$11","v":197.704843087},{"$f":"(H150*'c design-col'!$K$6)+(H151*'c design-col'!$K$7)+H152*'c design-col'!$K$8+H153*'c design-col'!$K$9+H154*'c design-col'!$K$10+H155*'c design-col'!$K$11","v":222.79236884559998},{"$f":"(I150*'c design-col'!$K$6)+(I151*'c design-col'!$K$7)+I152*'c design-col'!$K$8+I153*'c design-col'!$K$9+I154*'c design-col'!$K$10+I155*'c design-col'!$K$11","v":240.64987922079999},{"$f":"(J150*'c design-col'!$K$6)+(J151*'c design-col'!$K$7)+J152*'c design-col'!$K$8+J153*'c design-col'!$K$9+J154*'c design-col'!$K$10+J155*'c design-col'!$K$11","v":259.39487928269995},{"$f":"(K150*'c design-col'!$K$6)+(K151*'c design-col'!$K$7)+K152*'c design-col'!$K$8+K153*'c design-col'!$K$9+K154*'c design-col'!$K$10+K155*'c design-col'!$K$11","v":279.87038166459996},{"$f":"(L150*'c design-col'!$K$6)+(L151*'c design-col'!$K$7)+L152*'c design-col'!$K$8+L153*'c design-col'!$K$9+L154*'c design-col'!$K$10+L155*'c design-col'!$K$11","v":311.90432862619997},{"$f":"(M150*'c design-col'!$K$6)+(M151*'c design-col'!$K$7)+M152*'c design-col'!$K$8+M153*'c design-col'!$K$9+M154*'c design-col'!$K$10+M155*'c design-col'!$K$11","v":354.56937684629997},{"$f":"(N150*'c design-col'!$K$6)+(N151*'c design-col'!$K$7)+N152*'c design-col'!$K$8+N153*'c design-col'!$K$9+N154*'c design-col'!$K$10+N155*'c design-col'!$K$11","v":419.33733084599993},{"$f":"(O150*'c design-col'!$K$6)+(O151*'c design-col'!$K$7)+O152*'c design-col'!$K$8+O153*'c design-col'!$K$9+O154*'c design-col'!$K$10+O155*'c design-col'!$K$11","v":502.69937980149996},{"$f":"(P150*'c design-col'!$K$6)+(P151*'c design-col'!$K$7)+P152*'c design-col'!$K$8+P153*'c design-col'!$K$9+P154*'c design-col'!$K$10+P155*'c design-col'!$K$11","v":616.94768662729984},{"$f":"(Q150*'c design-col'!$K$6)+(Q151*'c design-col'!$K$7)+Q152*'c design-col'!$K$8+Q153*'c design-col'!$K$9+Q154*'c design-col'!$K$10+Q155*'c design-col'!$K$11","v":781.65999949109982}]
["ECO2/Mpa",{"$f":"B157/B149","v":15.190972149075},11.275519957791666,9.31106118316875,8.1293391485399997,7.0799899027879993,6.5901614362333332,6.3654962527314281,6.0162469805200001,5.7643306507266656,5.5974076332919989,5.6709877932036354,5.9094896141049995,5.990533297799999,6.2837422475187497,6.8549742958588871,7.8165999949109981]

{"sheet":"Sheet3","index":13,"n_rows":150,"n_cols":17,"rows_kept":150,"cut":false,"hidden":false,"merged":[]}
[]
["30-60",8,12,16,20,25,30,35,40,45,50,55,60,70,80,90,100]
["Water content",180,180,180,180,180,180,180,180,180,180,180,180,180,180,180,180]
["Cement content",198,223,249,275,301,341,390,424,460,499,561,642,767,930,1151,1470]
["PFA content",0,0,0,0,0,0,0,0,0,0,0,0,0,0,0,0]
["Fine Agg",860,809,767,731,699,659,618,594,570,547,514,475,424,364,251,194]
["Coarse Agg",1098,1124,1141,1151,1156,1156,1148,1139,1126,1110,1082,1039,965,862,714,492]
["Plasticiser dosage",0,0,0,0,0,0,0,0,0,0,0,0,0,0,0,0]
["Concrete",{"$f":"SUM(B3:B8)","v":2336},2336,2337,2337,2336,2336,2336,2337,2336,2336,2337,2336,2336,2336,2296,2336]
["ECO2",{"$f":"(B3*'c design-col'!$K$6)+(B4*'c design-col'!$K$7)+B5*'c design-col'!$K$8+B6*'c design-col'!$K$9+B7*'c design-col'!$K$10+B8*'c design-col'!$K$11","v":191.28880781799998},{"$f":"(C3*'c design-col'!$K$6)+(C4*'c design-col'!$K$7)+C5*'c design-col'!$K$8+C6*'c design-col'!$K$9+C7*'c design-col'!$K$10+C8*'c design-col'!$K$11","v":213.6021637243},{"$f":"(D3*'c design-col'!$K$6)+(D4*'c design-col'!$K$7)+D5*'c design-col'!$K$8+D6*'c design-col'!$K$9+D7*'c design-col'!$K$10+D8*'c design-col'!$K$11","v":236.7045322589},{"$f":"(E3*'c design-col'!$K$6)+(E4*'c design-col'!$K$7)+E5*'c design-col'!$K$8+E6*'c design-col'!$K$9+E7*'c design-col'!$K$10+E8*'c design-col'!$K$11","v":259.73080135369997},{"$f":"(F3*'c design-col'!$K$6)+(F4*'c design-col'!$K$7)+F5*'c design-col'!$K$8+F6*'c design-col'!$K$9+F7*'c design-col'!$K$10+F8*'c design-col'!$K$11","v":282.70205329129993},{"$f":"(G3*'c design-col'!$K$6)+(G4*'c design-col'!$K$7)+G5*'c design-col'!$K$8+G6*'c design-col'!$K$9+G7*'c design-col'!$K$10+G8*'c design-col'!$K$11","v":317.96491126329994},{"$f":"(H3*'c design-col'!$K$6)+(H4*'c design-col'!$K$7)+H5*'c design-col'!$K$8+H6*'c design-col'!$K$9+H7*'c design-col'!$K$10+H8*'c design-col'!$K$11","v":361.07758314859996},{"$f":"(I3*'c design-col'!$K$6)+(I4*'c design-col'!$K$7)+I5*'c design-col'!$K$8+I6*'c design-col'!$K$9+I7*'c design-col'!$K$10+I8*'c design-col'!$K$11","v":390.95845360379997},{"$f":"(J3*'c design-col'!$K$6)+(J4*'c design-col'!$K$7)+J5*'c design-col'!$K$8+J6*'c design-col'!$K$9+J7*'c design-col'!$K$10+J8*'c design-col'!$K$11","v":422.55567949099992},{"$f":"(K3*'c design-col'!$K$6)+(K4*'c design-col'!$K$7)+K5*'c design-col'!$K$8+K6*'c design-col'!$K$9+K7*'c design-col'!$K$10+K8*'c design-col'!$K$11","v":456.7683077529},{"$f":"(L3*'c design-col'!$K$6)+(L4*'c design-col'!$K$7)+L5*'c design-col'!$K$8+L6*'c design-col'!$K$9+L7*'c design-col'!$K$10+L8*'c design-col'!$K$11","v":511.13289710379991},{"$f":"(M3*'c design-col'!$K$6)+(M4*'c design-col'!$K$7)+M5*'c design-col'!$K$8+M6*'c design-col'!$K$9+M7*'c design-col'!$K$10+M8*'c design-col'!$K$11","v":582.08460397049987},{"$f":"(N3*'c design-col'!$K$6)+(N4*'c design-col'!$K$7)+N5*'c design-col'!$K$8+N6*'c design-col'!$K$9+N7*'c design-col'!$K$10+N8*'c design-col'!$K$11","v":691.50099067679992},{"$f":"(O3*'c design-col'!$K$6)+(O4*'c design-col'!$K$7)+O5*'c design-col'!$K$8+O6*'c design-col'!$K$9+O7*'c design-col'!$K$10+O8*'c design-col'!$K$11","v":834.11139935879987},{"$f":"(P3*'c design-col'!$K$6)+(P4*'c design-col'!$K$7)+P5*'c design-col'!$K$8+P6*'c design-col'!$K$9+P7*'c design-col'!$K$10+P8*'c design-col'!$K$11","v":1027.2861427136997},{"$f":"(Q3*'c design-col'!$K$6)+(Q4*'c design-col'!$K$7)+Q5*'c design-col'!$K$8+Q6*'c design-col'!$K$9+Q7*'c design-col'!$K$10+Q8*'c design-col'!$K$11","v":1306.2597596997998}]
["ECO2/Mpa",{"$f":"B10/B2","v":23.911100977249998},17.800180310358332,14.79403326618125,12.986540067684999,11.308082131651997,10.598830375443331,10.316502375674284,9.7739613400949992,9.3901262109111094,9.1353661550579996,9.2933254018872713,9.7014100661749971,9.8785855810971412,10.426392491984998,11.414290474596664,13.062597596997998]
[]
[]
["30-60",8,12,16,20,25,30,35,40,45,50,55,60,70,80,90,100]
["Water content",162,162,162,162,162,162,162,162,162,162,162,162,162,162,162,162]
["Cement content",178,201,224,247,271,307,351,381,414,449,505,578,691,837,1036,1323]
["PFA content",0,0,0,0,0,0,0,0,0,0,0,0,0,0,0,0]
["Fine Agg",886,834,792,757,725,686,645,622,592,576,545,508,459,403,336,247]
["Coarse Agg",1131,1160,1179,1191,1198,1202,1198,1192,1182,1170,1146,1109,1045,955,824,626]
["Plasticiser dosage",0.7,0.8,0.9,1,1.1000000000000001,1.2,1.4,1.5,1.7,1.8,2,2.2999999999999998,2.8,3.3,4.0999999999999996,5.3]
["Concrete",{"$f":"B15+B16+B17+B18+B19+B20","v":2357.6999999999998},2357.8000000000002,2357.9,2358,2357.1,2358.1999999999998,2357.4,2358.5,2351.6999999999998,2358.8000000000002,2360,2359.3000000000002,2359.8000000000002,2360.3000000000002,2362.1,2363.3000000000002]
["ECO2",{"$f":"(B15*'c design-col'!$K$6)+(B16*'c design-col'!$K$7)+B17*'c design-col'!$K$8+B18*'c design-col'!$K$9+B19*'c design-col'!$K$10+B20*'c design-col'!$K$11","v":174.07738671219997},{"$f":"(C15*'c design-col'!$K$6)+(C16*'c design-col'!$K$7)+C17*'c design-col'!$K$8+C18*'c design-col'!$K$9+C19*'c design-col'!$K$10+C20*'c design-col'!$K$11","v":194.65922366379999},{"$f":"(D15*'c design-col'!$K$6)+(D16*'c design-col'!$K$7)+D17*'c design-col'!$K$8+D18*'c design-col'!$K$9+D19*'c design-col'!$K$10+D20*'c design-col'!$K$11","v":215.1356492024},{"$f":"(E15*'c design-col'!$K$6)+(E16*'c design-col'!$K$7)+E17*'c design-col'!$K$8+E18*'c design-col'!$K$9+E19*'c design-col'!$K$10+E20*'c design-col'!$K$11","v":235.53828675189999},{"$f":"(F15*'c design-col'!$K$6)+(F16*'c design-col'!$K$7)+F17*'c design-col'!$K$8+F18*'c design-col'!$K$9+F19*'c design-col'!$K$10+F20*'c design-col'!$K$11","v":256.76747859349996},{"$f":"(G15*'c design-col'!$K$6)+(G16*'c design-col'!$K$7)+G17*'c design-col'!$K$8+G18*'c design-col'!$K$9+G19*'c design-col'!$K$10+G20*'c design-col'!$K$11","v":288.54852730419992},{"$f":"(H15*'c design-col'!$K$6)+(H16*'c design-col'!$K$7)+H17*'c design-col'!$K$8+H18*'c design-col'!$K$9+H19*'c design-col'!$K$10+H20*'c design-col'!$K$11","v":327.2931960974999},{"$f":"(I15*'c design-col'!$K$6)+(I16*'c design-col'!$K$7)+I17*'c design-col'!$K$8+I18*'c design-col'!$K$9+I19*'c design-col'!$K$10+I20*'c design-col'!$K$11","v":353.67940469939992},{"$f":"(J15*'c design-col'!$K$6)+(J16*'c design-col'!$K$7)+J17*'c design-col'!$K$8+J18*'c design-col'!$K$9+J19*'c design-col'!$K$10+J20*'c design-col'!$K$11","v":382.64967199839998},{"$f":"(K15*'c design-col'!$K$6)+(K16*'c design-col'!$K$7)+K17*'c design-col'!$K$8+K18*'c design-col'!$K$9+K19*'c design-col'!$K$10+K20*'c design-col'!$K$11","v":413.39435970319994},{"$f":"(L15*'c design-col'!$K$6)+(L16*'c design-col'!$K$7)+L17*'c design-col'!$K$8+L18*'c design-col'!$K$9+L19*'c design-col'!$K$10+L20*'c design-col'!$K$11","v":462.51168596349993},{"$f":"(M15*'c design-col'!$K$6)+(M16*'c design-col'!$K$7)+M17*'c design-col'!$K$8+M18*'c design-col'!$K$9+M19*'c design-col'!$K$10+M20*'c design-col'!$K$11","v":526.47406964359993},{"$f":"(N15*'c design-col'!$K$6)+(N16*'c design-col'!$K$7)+N17*'c design-col'!$K$8+N18*'c design-col'!$K$9+N19*'c design-col'!$K$10+N20*'c design-col'!$K$11","v":625.41701297129998},{"$f":"(O15*'c design-col'!$K$6)+(O16*'c design-col'!$K$7)+O17*'c design-col'!$K$8+O18*'c design-col'!$K$9+O19*'c design-col'!$K$10+O20*'c design-col'!$K$11","v":753.17774445209977},{"$f":"(P15*'c design-col'!$K$6)+(P16*'c design-col'!$K$7)+P17*'c design-col'!$K$8+P18*'c design-col'!$K$9+P19*'c design-col'!$K$10+P20*'c design-col'!$K$11","v":927.23188896319994},{"$f":"(Q15*'c design-col'!$K$6)+(Q16*'c design-col'!$K$7)+Q17*'c design-col'!$K$8+Q18*'c design-col'!$K$9+Q19*'c design-col'!$K$10+Q20*'c design-col'!$K$11","v":1178.1557551748999}]
["ECO2/Mpa",{"$f":"B22/B14","v":21.759673339024996},16.221601971983333,13.44597807515,11.776914337594999,10.270699143739998,9.6182842434733313,9.3512341742142837,8.8419851174849988,8.5033260444088885,8.2678871940639986,8.4093033811545439,8.7745678273933319,8.9345287567328562,9.4147218056512472,10.302576544035555,11.781557551749]
[]
[]
["30-60",8,12,16,20,25,30,35,40,45,50,55,60,70,80,90,100]
["Water content",170,170,170,170,170,170,170,170,170,170,170,170,170,170,170,170]
["Cement content",174,196,219,241,265,299,343,372,404,439,493,564,674,817,1011,1291]
["PFA content",43,49,55,60,66,75,86,93,101,110,123,141,169,204,253,323]
["Fine Agg",861,809,766,729,696,655,612,587,562,538,503,464,407,343,265,159]
["Coarse Agg",1100,1124,1139,1147,1151,1148,1137,1126,1110,1092,1059,1010,928,813,649,404]
["Plasticiser dosage"]
["Concrete",{"$f":"B27+B28+B29+B30+B31","v":2348},2348,2349,2347,2348,2347,2348,2348,2347,2349,2348,2349,2348,2347,2348,2347]
["ECO2",{"$f":"(B27*'c design-col'!$K$6)+(B28*'c design-col'!$K$7)+B29*'c design-col'!$K$8+B30*'c design-col'!$K$9+B31*'c design-col'!$K$10+B32*'c design-col'!$K$11","v":171.25463485269998},{"$f":"(C27*'c design-col'!$K$6)+(C28*'c design-col'!$K$7)+C29*'c design-col'!$K$8+C30*'c design-col'!$K$9+C31*'c design-col'!$K$10+C32*'c design-col'!$K$11","v":191.05032542429998},{"$f":"(D27*'c design-col'!$K$6)+(D28*'c design-col'!$K$7)+D29*'c design-col'!$K$8+D30*'c design-col'!$K$9+D31*'c design-col'!$K$10+D32*'c design-col'!$K$11","v":211.63502862419998},{"$f":"(E27*'c design-col'!$K$6)+(E28*'c design-col'!$K$7)+E29*'c design-col'!$K$8+E30*'c design-col'!$K$9+E31*'c design-col'!$K$10+E32*'c design-col'!$K$11","v":231.23274948429997},{"$f":"(F27*'c design-col'!$K$6)+(F28*'c design-col'!$K$7)+F29*'c design-col'!$K$8+F30*'c design-col'!$K$9+F31*'c design-col'!$K$10+F32*'c design-col'!$K$11","v":252.58307157919998},{"$f":"(G27*'c design-col'!$K$6)+(G28*'c design-col'!$K$7)+G29*'c design-col'!$K$8+G30*'c design-col'!$K$9+G31*'c design-col'!$K$10+G32*'c design-col'!$K$11","v":282.74476292449998},{"$f":"(H27*'c design-col'!$K$6)+(H28*'c design-col'!$K$7)+H29*'c design-col'!$K$8+H30*'c design-col'!$K$9+H31*'c design-col'!$K$10+H32*'c design-col'!$K$11","v":321.69183963239999},{"$f":"(I27*'c design-col'!$K$6)+(I28*'c design-col'!$K$7)+I29*'c design-col'!$K$8+I30*'c design-col'!$K$9+I31*'c design-col'!$K$10+I32*'c design-col'!$K$11","v":347.3142789529},{"$f":"(J27*'c design-col'!$K$6)+(J28*'c design-col'!$K$7)+J29*'c design-col'!$K$8+J30*'c design-col'!$K$9+J31*'c design-col'!$K$10+J32*'c design-col'!$K$11","v":375.55110401339994},{"$f":"(K27*'c design-col'!$K$6)+(K28*'c design-col'!$K$7)+K29*'c design-col'!$K$8+K30*'c design-col'!$K$9+K31*'c design-col'!$K$10+K32*'c design-col'!$K$11","v":406.44318404059999},{"$f":"(L27*'c design-col'!$K$6)+(L28*'c design-col'!$K$7)+L29*'c design-col'!$K$8+L30*'c design-col'!$K$9+L31*'c design-col'!$K$10+L32*'c design-col'!$K$11","v":454.01882433009996},{"$f":"(M27*'c design-col'!$K$6)+(M28*'c design-col'!$K$7)+M29*'c design-col'!$K$8+M30*'c design-col'!$K$9+M31*'c design-col'!$K$10+M32*'c design-col'!$K$11","v":516.54058664479999},{"$f":"(N27*'c design-col'!$K$6)+(N28*'c design-col'!$K$7)+N29*'c design-col'!$K$8+N30*'c design-col'!$K$9+N31*'c design-col'!$K$10+N32*'c design-col'!$K$11","v":613.33804041089979},{"$f":"(O27*'c design-col'!$K$6)+(O28*'c design-col'!$K$7)+O29*'c design-col'!$K$8+O30*'c design-col'!$K$9+O31*'c design-col'!$K$10+O32*'c design-col'!$K$11","v":739.05231418609992},{"$f":"(P27*'c design-col'!$K$6)+(P28*'c design-col'!$K$7)+P29*'c design-col'!$K$8+P30*'c design-col'!$K$9+P31*'c design-col'!$K$10+P32*'c design-col'!$K$11","v":909.56047854349993},{"$f":"(Q27*'c design-col'!$K$6)+(Q28*'c design-col'!$K$7)+Q29*'c design-col'!$K$8+Q30*'c design-col'!$K$9+Q31*'c design-col'!$K$10+Q32*'c design-col'!$K$11","v":1155.5437917293}]
["ECO2/Mpa",{"$f":"B34/B26","v":21.406829356587497},15.920860452024998,13.227189289012498,11.561637474214999,10.103322863168,9.4248254308166661,9.1911954180685704,8.6828569738224992,8.3455800891866652,8.1288636808119996,8.2548877150927265,8.6090097774133323,8.7619720058699979,9.2381539273262483,10.106227539372222,11.555437917293]
[]
[]
[]
["30-60",8,12,16,20,25,30,35,40,45,50,55,60,70,80,90,100]
["Water content",153,153,153,153,153,153,153,153,153,153,153,153,153,153,153,153]
["Cement content",156,177,197,217,238,269,308,335,364,395,443,508,607,735,910,1162]
["PFA content",39,44,49,54,60,67,77,84,91,99,111,127,152,184,227,291]
["Fine Agg",886,834,791,755,723,682,640,615,592,568,535,496,444,384,312,215]
["Coarse Agg",1132,1159,1177,1188,1194,1195,1189,1180,1168,1153,1125,1083,1012,911,765,546]
["Plasticiser dosage",0.88,0.9,1,1.1000000000000001,1.2,1.3,1.5,1.7,1.8,2,2.2000000000000002,2.5,3,3.7,4.5,5.8]
["Concrete",{"$f":"B40+B41+B42+B43+B44+B45","v":2366.88},2367.9,2368,2368.1,2369.1999999999998,2367.3000000000002,2368.5,2368.6999999999998,2369.8000000000002,2370,2369.1999999999998,2369.5,2371,2370.6999999999998,2371.5,2372.8000000000002]
["ECO2",{"$f":"(B40*'c design-col'!$K$6)+(B41*'c design-col'!$K$7)+B42*'c design-col'!$K$8+B43*'c design-col'!$K$9+B44*'c design-col'!$K$10+B45*'c design-col'!$K$11","v":155.68881644019999},{"$f":"(C40*'c design-col'!$K$6)+(C41*'c design-col'!$K$7)+C42*'c design-col'!$K$8+C43*'c design-col'!$K$9+C44*'c design-col'!$K$10+C45*'c design-col'!$K$11","v":174.61218199179996},{"$f":"(D40*'c design-col'!$K$6)+(D41*'c design-col'!$K$7)+D42*'c design-col'!$K$8+D43*'c design-col'!$K$9+D44*'c design-col'!$K$10+D45*'c design-col'!$K$11","v":192.5567947877},{"$f":"(E40*'c design-col'!$K$6)+(E41*'c design-col'!$K$7)+E42*'c design-col'!$K$8+E43*'c design-col'!$K$9+E44*'c design-col'!$K$10+E45*'c design-col'!$K$11","v":210.42761959449996},{"$f":"(F40*'c design-col'!$K$6)+(F41*'c design-col'!$K$7)+F42*'c design-col'!$K$8+F43*'c design-col'!$K$9+F44*'c design-col'!$K$10+F45*'c design-col'!$K$11","v":229.15431014409998},{"$f":"(G40*'c design-col'!$K$6)+(G41*'c design-col'!$K$7)+G42*'c design-col'!$K$8+G43*'c design-col'!$K$9+G44*'c design-col'!$K$10+G45*'c design-col'!$K$11","v":256.66176367739996},{"$f":"(H40*'c design-col'!$K$6)+(H41*'c design-col'!$K$7)+H42*'c design-col'!$K$8+H43*'c design-col'!$K$9+H44*'c design-col'!$K$10+H45*'c design-col'!$K$11","v":291.22900133600001},{"$f":"(I40*'c design-col'!$K$6)+(I41*'c design-col'!$K$7)+I42*'c design-col'!$K$8+I43*'c design-col'!$K$9+I44*'c design-col'!$K$10+I45*'c design-col'!$K$11","v":315.10938108049999},{"$f":"(J40*'c design-col'!$K$6)+(J41*'c design-col'!$K$7)+J42*'c design-col'!$K$8+J43*'c design-col'!$K$9+J44*'c design-col'!$K$10+J45*'c design-col'!$K$11","v":340.72359123039996},{"$f":"(K40*'c design-col'!$K$6)+(K41*'c design-col'!$K$7)+K42*'c design-col'!$K$8+K43*'c design-col'!$K$9+K44*'c design-col'!$K$10+K45*'c design-col'!$K$11","v":368.09169847360005},{"$f":"(L40*'c design-col'!$K$6)+(L41*'c design-col'!$K$7)+L42*'c design-col'!$K$8+L43*'c design-col'!$K$9+L44*'c design-col'!$K$10+L45*'c design-col'!$K$11","v":410.40592826449995},{"$f":"(M40*'c design-col'!$K$6)+(M41*'c design-col'!$K$7)+M42*'c design-col'!$K$8+M43*'c design-col'!$K$9+M44*'c design-col'!$K$10+M45*'c design-col'!$K$11","v":467.66036288319992},{"$f":"(N40*'c design-col'!$K$6)+(N41*'c design-col'!$K$7)+N42*'c design-col'!$K$8+N43*'c design-col'!$K$9+N44*'c design-col'!$K$10+N45*'c design-col'!$K$11","v":554.80704311479997},{"$f":"(O40*'c design-col'!$K$6)+(O41*'c design-col'!$K$7)+O42*'c design-col'!$K$8+O43*'c design-col'!$K$9+O44*'c design-col'!$K$10+O45*'c design-col'!$K$11","v":667.37125912079989},{"$f":"(P40*'c design-col'!$K$6)+(P41*'c design-col'!$K$7)+P42*'c design-col'!$K$8+P43*'c design-col'!$K$9+P44*'c design-col'!$K$10+P45*'c design-col'!$K$11","v":821.16886789839998},{"$f":"(Q40*'c design-col'!$K$6)+(Q41*'c design-col'!$K$7)+Q42*'c design-col'!$K$8+Q43*'c design-col'!$K$9+Q44*'c design-col'!$K$10+Q45*'c design-col'!$K$11","v":1042.5964370925001}]
["ECO2/Mpa",{"$f":"B47/B39","v":19.461102055024998},14.55101516598333,12.03479967423125,10.521380979724999,9.1661724057639997,8.5553921225799989,8.3208286095999995,7.8777345270124997,7.5716353606755549,7.3618339694720012,7.4619259684454535,7.7943393813866653,7.9258149016399999,8.3421407390099986,9.1240985322044441,10.425964370925001]
[]
[]
[]
["30--60",8,12,16,20,25,30,35,40,45,50,55,60,70,80,90,100]
["Water content",155,155,155,155,155,155,155,155,155,155,155,155,155,155,155,155]
["Cement content",142,160,178,197,216,245,280,304,330,358,402,461,551,667,826,1055]
["PFA content",95,107,119,131,144,163,187,203,220,239,268,307,367,445,550,703]
["Fine Agg",867,813,769,731,697,655,610,584,558,532,496,453,394,326,241,128]
["Coarse Agg",1107,1130,1143,1150,1152,1148,1133,1119,1102,1081,1043,989,898,772,592,324]
["Plasticiser dosage"]
["Concrete",{"$f":"B53+B54+B55+B56+B57","v":2366},2365,2364,2364,2364,2366,2365,2365,2365,2365,2364,2365,2365,2365,2364,2365]
["ECO2",{"$f":"(B53*'c design-col'!$K$6)+(B54*'c design-col'!$K$7)+B55*'c design-col'!$K$8+B56*'c design-col'!$K$9+B57*'c design-col'!$K$10+B58*'c design-col'!$K$11","v":144.46321890090002},{"$f":"(C53*'c design-col'!$K$6)+(C54*'c design-col'!$K$7)+C55*'c design-col'!$K$8+C56*'c design-col'!$K$9+C57*'c design-col'!$K$10+C58*'c design-col'!$K$11","v":160.86790237909997},{"$f":"(D53*'c design-col'!$K$6)+(D54*'c design-col'!$K$7)+D55*'c design-col'!$K$8+D56*'c design-col'!$K$9+D57*'c design-col'!$K$10+D58*'c design-col'!$K$11","v":177.16717444429997},{"$f":"(E53*'c design-col'!$K$6)+(E54*'c design-col'!$K$7)+E55*'c design-col'!$K$8+E56*'c design-col'!$K$9+E57*'c design-col'!$K$10+E58*'c design-col'!$K$11","v":194.28708256169998},{"$f":"(F53*'c design-col'!$K$6)+(F54*'c design-col'!$K$7)+F55*'c design-col'!$K$8+F56*'c design-col'!$K$9+F57*'c design-col'!$K$10+F58*'c design-col'!$K$11","v":211.37897352189998},{"$f":"(G53*'c design-col'!$K$6)+(G54*'c design-col'!$K$7)+G55*'c design-col'!$K$8+G56*'c design-col'!$K$9+G57*'c design-col'!$K$10+G58*'c design-col'!$K$11","v":237.37608632449997},{"$f":"(H53*'c design-col'!$K$6)+(H54*'c design-col'!$K$7)+H55*'c design-col'!$K$8+H56*'c design-col'!$K$9+H57*'c design-col'!$K$10+H58*'c design-col'!$K$11","v":268.66318366299998},{"$f":"(I53*'c design-col'!$K$6)+(I54*'c design-col'!$K$7)+I55*'c design-col'!$K$8+I56*'c design-col'!$K$9+I57*'c design-col'!$K$10+I58*'c design-col'!$K$11","v":290.0683392567999},{"$f":"(J53*'c design-col'!$K$6)+(J54*'c design-col'!$K$7)+J55*'c design-col'!$K$8+J56*'c design-col'!$K$9+J57*'c design-col'!$K$10+J58*'c design-col'!$K$11","v":313.22970287459998},{"$f":"(K53*'c design-col'!$K$6)+(K54*'c design-col'!$K$7)+K55*'c design-col'!$K$8+K56*'c design-col'!$K$9+K57*'c design-col'!$K$10+K58*'c design-col'!$K$11","v":338.16142192439986},{"$f":"(L53*'c design-col'!$K$6)+(L54*'c design-col'!$K$7)+L55*'c design-col'!$K$8+L56*'c design-col'!$K$9+L57*'c design-col'!$K$10+L58*'c design-col'!$K$11","v":377.26365880319992},{"$f":"(M53*'c design-col'!$K$6)+(M54*'c design-col'!$K$7)+M55*'c design-col'!$K$8+M56*'c design-col'!$K$9+M57*'c design-col'!$K$10+M58*'c design-col'!$K$11","v":429.67231755509994},{"$f":"(N53*'c design-col'!$K$6)+(N54*'c design-col'!$K$7)+N55*'c design-col'!$K$8+N56*'c design-col'!$K$9+N57*'c design-col'!$K$10+N58*'c design-col'!$K$11","v":509.53581709179991},{"$f":"(O53*'c design-col'!$K$6)+(O54*'c design-col'!$K$7)+O55*'c design-col'!$K$8+O56*'c design-col'!$K$9+O57*'c design-col'!$K$10+O58*'c design-col'!$K$11","v":612.3956282521998},{"$f":"(P53*'c design-col'!$K$6)+(P54*'c design-col'!$K$7)+P55*'c design-col'!$K$8+P56*'c design-col'!$K$9+P57*'c design-col'!$K$10+P58*'c design-col'!$K$11","v":753.25806948269997},{"$f":"(Q53*'c design-col'!$K$6)+(Q54*'c design-col'!$K$7)+Q55*'c design-col'!$K$8+Q56*'c design-col'!$K$9+Q57*'c design-col'!$K$10+Q58*'c design-col'!$K$11","v":956.09256499759988}]
["ECO2/Mpa",{"$f":"B60/B52","v":18.057902362612502},13.405658531591664,11.072948402768748,9.7143541280849988,8.4551589408759984,7.9125362108166657,7.6760909617999999,7.2517084814199979,6.9606600638799998,6.7632284384879968,6.8593392509672713,7.1612052925849987,7.2790831013114277,7.6549453531524971,8.3695341053633321,9.5609256499759994]
[]
[]
[]
[]
["30--60",8,12,16,20,25,30,35,40,45,50,55,60,70,80,90,100]
["Water content",139.5,139.5,139.5,139.5,139.5,139.5,139.5,139.5,139.5,139.5,139.5,139.5,139.5,139.5,139.5,139.5]
["Cement content",128,144,161,177,195,220,252,274,297,322,362,415,496,601,743,949]
["PFA content",85,96,107,118,130,147,168,182,198,215,241,277,330,400,495,633]
["Fine Agg",892,836,794,757,723,682,638,613,588,563,528,487,432,369,291,187]
["Coarse Agg",1139,1165,1181,1191,1195,1195,1185,1185,1161,1143,1112,1065,985,873,714,474]
["Plasticiser dosage",0.9,1,1.1000000000000001,1.2,1.3,1.5,1.7,1.8,2,2.1,2.4,2.8,3.3,4,5,6.3]
["Concrete",{"$f":"B67+B68+B69+B70+B71+B72","v":2384.4},2381.5,2383.6,2383.6999999999998,2383.8000000000002,2385,2384.1999999999998,2395.3000000000002,2385.5,2384.6,2384.9,2386.3000000000002,2385.8000000000002,2386.5,2387.5,2388.8000000000002]
["ECO2",{"$f":"(B67*'c design-col'!$K$6)+(B68*'c design-col'!$K$7)+B69*'c design-col'!$K$8+B70*'c design-col'!$K$9+B71*'c design-col'!$K$10+B72*'c design-col'!$K$11","v":132.27243219239998},{"$f":"(C67*'c design-col'!$K$6)+(C68*'c design-col'!$K$7)+C69*'c design-col'!$K$8+C70*'c design-col'!$K$9+C71*'c design-col'!$K$10+C72*'c design-col'!$K$11","v":146.91628526519997},{"$f":"(D67*'c design-col'!$K$6)+(D68*'c design-col'!$K$7)+D69*'c design-col'!$K$8+D70*'c design-col'!$K$9+D71*'c design-col'!$K$10+D72*'c design-col'!$K$11","v":162.34785562779999},{"$f":"(E67*'c design-col'!$K$6)+(E68*'c design-col'!$K$7)+E69*'c design-col'!$K$8+E70*'c design-col'!$K$9+E71*'c design-col'!$K$10+E72*'c design-col'!$K$11","v":176.82998479189999},{"$f":"(F67*'c design-col'!$K$6)+(F68*'c design-col'!$K$7)+F69*'c design-col'!$K$8+F70*'c design-col'!$K$9+F71*'c design-col'!$K$10+F72*'c design-col'!$K$11","v":193.03669855609996},{"$f":"(G67*'c design-col'!$K$6)+(G68*'c design-col'!$K$7)+G69*'c design-col'!$K$8+G70*'c design-col'!$K$9+G71*'c design-col'!$K$10+G72*'c design-col'!$K$11","v":215.49800261739998},{"$f":"(H67*'c design-col'!$K$6)+(H68*'c design-col'!$K$7)+H69*'c design-col'!$K$8+H70*'c design-col'!$K$9+H71*'c design-col'!$K$10+H72*'c design-col'!$K$11","v":244.11902670659995},{"$f":"(I67*'c design-col'!$K$6)+(I68*'c design-col'!$K$7)+I69*'c design-col'!$K$8+I70*'c design-col'!$K$9+I71*'c design-col'!$K$10+I72*'c design-col'!$K$11","v":263.88466475909996},{"$f":"(J67*'c design-col'!$K$6)+(J68*'c design-col'!$K$7)+J69*'c design-col'!$K$8+J70*'c design-col'!$K$9+J71*'c design-col'!$K$10+J72*'c design-col'!$K$11","v":284.27972402360001},{"$f":"(K67*'c design-col'!$K$6)+(K68*'c design-col'!$K$7)+K69*'c design-col'!$K$8+K70*'c design-col'!$K$9+K71*'c design-col'!$K$10+K72*'c design-col'!$K$11","v":306.54666412009999},{"$f":"(L67*'c design-col'!$K$6)+(L68*'c design-col'!$K$7)+L69*'c design-col'!$K$8+L70*'c design-col'!$K$9+L71*'c design-col'!$K$10+L72*'c design-col'!$K$11","v":342.12465055360002},{"$f":"(M67*'c design-col'!$K$6)+(M68*'c design-col'!$K$7)+M69*'c design-col'!$K$8+M70*'c design-col'!$K$9+M71*'c design-col'!$K$10+M72*'c design-col'!$K$11","v":389.24360503089997},{"$f":"(N67*'c design-col'!$K$6)+(N68*'c design-col'!$K$7)+N69*'c design-col'!$K$8+N70*'c design-col'!$K$9+N71*'c design-col'!$K$10+N72*'c design-col'!$K$11","v":461.11378538240001},{"$f":"(O67*'c design-col'!$K$6)+(O68*'c design-col'!$K$7)+O69*'c design-col'!$K$8+O70*'c design-col'!$K$9+O71*'c design-col'!$K$10+O72*'c design-col'!$K$11","v":554.22638182429989},{"$f":"(P67*'c design-col'!$K$6)+(P68*'c design-col'!$K$7)+P69*'c design-col'!$K$8+P70*'c design-col'!$K$9+P71*'c design-col'!$K$10+P72*'c design-col'!$K$11","v":680.0789035416999},{"$f":"(Q67*'c design-col'!$K$6)+(Q68*'c design-col'!$K$7)+Q69*'c design-col'!$K$8+Q70*'c design-col'!$K$9+Q71*'c design-col'!$K$10+Q72*'c design-col'!$K$11","v":862.55977474889994}]
["ECO2/Mpa",{"$f":"B74/B66","v":16.534054024049997},12.243023772099997,10.146740976737499,8.8414992395949987,7.7214679422439989,7.1832667539133324,6.9748293344742844,6.5971166189774992,6.3173272005244447,6.1309332824020002,6.2204481918836363,6.4873934171816661,6.5873397911771434,6.927829772803749,7.556432261574443,8.6255977474889995]
[]
[]
[]
[]
[]
["60-180",8,12,16,20,25,30,35,40,45,50,55,60,70,80,90,100]
["Water content",195,195,195,195,195,195,195,195,195,195,195,195,195,195,195,195]
["Cement content",214,242,269,297,326,369,422,459,498,541,607,696,831,1007,1247,1592]
["PFA content",0,0,0,0,0,0,0,0,0,0,0,0,0,0,0,0]
["Fine Agg",941,886,841,802,727,724,678,650,628,597,559,514,453,382,293,174]
["Coarse Agg",969,996,1014,1025,1030,1031,1024,1015,1002,986,957,914,839,735,584,358]
["Plasticiser dosage",0,0,0,0,0,0,0,0,0,0,0,0,0,0,0,0]
["Concrete",{"$f":"SUM(B82:B87)","v":2319},2319,2319,2319,2278,2319,2319,2319,2323,2319,2318,2319,2318,2319,2319,2319]
["ECO2",{"$f":"(B82*'c design-col'!$K$6)+(B83*'c design-col'!$K$7)+B84*'c design-col'!$K$8+B85*'c design-col'!$K$9+B86*'c design-col'!$K$10+B87*'c design-col'!$K$11","v":203.97517735669996},{"$f":"(C82*'c design-col'!$K$6)+(C83*'c design-col'!$K$7)+C84*'c design-col'!$K$8+C85*'c design-col'!$K$9+C86*'c design-col'!$K$10+C87*'c design-col'!$K$11","v":228.94378875219999},{"$f":"(D82*'c design-col'!$K$6)+(D83*'c design-col'!$K$7)+D84*'c design-col'!$K$8+D85*'c design-col'!$K$9+D86*'c design-col'!$K$10+D87*'c design-col'!$K$11","v":252.93595842669995},{"$f":"(E82*'c design-col'!$K$6)+(E83*'c design-col'!$K$7)+E84*'c design-col'!$K$8+E85*'c design-col'!$K$9+E86*'c design-col'!$K$10+E87*'c design-col'!$K$11","v":277.73591156139997},{"$f":"(F82*'c design-col'!$K$6)+(F83*'c design-col'!$K$7)+F84*'c design-col'!$K$8+F85*'c design-col'!$K$9+F86*'c design-col'!$K$10+F87*'c design-col'!$K$11","v":303.25941981889997},{"$f":"(G82*'c design-col'!$K$6)+(G83*'c design-col'!$K$7)+G84*'c design-col'!$K$8+G85*'c design-col'!$K$9+G86*'c design-col'!$K$10+G87*'c design-col'!$K$11","v":341.27230275879992},{"$f":"(H82*'c design-col'!$K$6)+(H83*'c design-col'!$K$7)+H84*'c design-col'!$K$8+H85*'c design-col'!$K$9+H86*'c design-col'!$K$10+H87*'c design-col'!$K$11","v":387.92180158259993},{"$f":"(I82*'c design-col'!$K$6)+(I83*'c design-col'!$K$7)+I84*'c design-col'!$K$8+I85*'c design-col'!$K$9+I86*'c design-col'!$K$10+I87*'c design-col'!$K$11","v":420.44507493499992},{"$f":"(J82*'c design-col'!$K$6)+(J83*'c design-col'!$K$7)+J84*'c design-col'!$K$8+J85*'c design-col'!$K$9+J86*'c design-col'!$K$10+J87*'c design-col'!$K$11","v":454.69857242359996},{"$f":"(K82*'c design-col'!$K$6)+(K83*'c design-col'!$K$7)+K84*'c design-col'!$K$8+K85*'c design-col'!$K$9+K86*'c design-col'!$K$10+K87*'c design-col'!$K$11","v":492.42824067989994},{"$f":"(L82*'c design-col'!$K$6)+(L83*'c design-col'!$K$7)+L84*'c design-col'!$K$8+L85*'c design-col'!$K$9+L86*'c design-col'!$K$10+L87*'c design-col'!$K$11","v":550.30395178529989},{"$f":"(M82*'c design-col'!$K$6)+(M83*'c design-col'!$K$7)+M84*'c design-col'!$K$8+M85*'c design-col'!$K$9+M86*'c design-col'!$K$10+M87*'c design-col'!$K$11","v":628.31285314780007},{"$f":"(N82*'c design-col'!$K$6)+(N83*'c design-col'!$K$7)+N84*'c design-col'!$K$8+N85*'c design-col'!$K$9+N86*'c design-col'!$K$10+N87*'c design-col'!$K$11","v":746.53210175510003},{"$f":"(O82*'c design-col'!$K$6)+(O83*'c design-col'!$K$7)+O84*'c design-col'!$K$8+O85*'c design-col'!$K$9+O86*'c design-col'!$K$10+O87*'c design-col'!$K$11","v":900.59470958739985},{"$f":"(P82*'c design-col'!$K$6)+(P83*'c design-col'!$K$7)+P84*'c design-col'!$K$8+P85*'c design-col'!$K$9+P86*'c design-col'!$K$10+P87*'c design-col'!$K$11","v":1110.5801450830998},{"$f":"(Q82*'c design-col'!$K$6)+(Q83*'c design-col'!$K$7)+Q84*'c design-col'!$K$8+Q85*'c design-col'!$K$9+Q86*'c design-col'!$K$10+Q87*'c design-col'!$K$11","v":1412.3399971577999}]
["ECO2/Mpa",{"$f":"B89/B81","v":25.496897169587495},19.078649062683333,15.808497401668747,13.886795578069998,12.130376792756,11.375743425293331,11.08348004521714,10.511126873374998,10.104412720524444,9.8485648135979993,10.005526396096361,10.471880885796669,10.664744310787142,11.257433869842497,12.33977938981222,14.123399971577999]
[]
[]
["60-180",8,12,16,20,25,30,35,40,45,50,55,60,70,80,90,100]
["Water content",175.5,175.5,175.5,175.5,175.5,175.5,175.5,175.5,175.5,175.5,175.5,175.5,175.5,175.5,175.5,175.5]
["Cement content",193,218,243,268,294,332,380,413,448,487,547,626,748,907,1122,1433]
["PFA content",0,0,0,0,0,0,0,0,0,0,0,0,0,0,0,0]
["Fine Agg",792,917,872,833,799,756,711,685,659,633,597,555,497,431,349,240]
["Coarse Agg",1001,1031,1051,1065,1073,1078,1074,1068,1059,1046,1022,985,921,829,695,493]
["Plasticiser dosage",0.8,0.9,1,1.1000000000000001,1.2,1.3,1.5,1.7,1.8,1.9,2.2000000000000002,2.5,3,3.6,4.5,5.7]
["Concrete",{"$f":"B94+B95+B96+B97+B98+B99","v":2162.3000000000002},2342.4,2342.5,2342.6,2342.6999999999998,2342.8000000000002,2342,2343.1999999999998,2343.3000000000002,2343.4,2343.6999999999998,2344,2344.5,2346.1,2346,2347.1999999999998]
["ECO2",{"$f":"(B94*'c design-col'!$K$6)+(B95*'c design-col'!$K$7)+B96*'c design-col'!$K$8+B97*'c design-col'!$K$9+B98*'c design-col'!$K$10+B99*'c design-col'!$K$11","v":185.46101740639998},{"$f":"(C94*'c design-col'!$K$6)+(C95*'c design-col'!$K$7)+C96*'c design-col'!$K$8+C97*'c design-col'!$K$9+C98*'c design-col'!$K$10+C99*'c design-col'!$K$11","v":208.23259952389998},{"$f":"(D94*'c design-col'!$K$6)+(D95*'c design-col'!$K$7)+D96*'c design-col'!$K$8+D97*'c design-col'!$K$9+D98*'c design-col'!$K$10+D99*'c design-col'!$K$11","v":230.48270910240001},{"$f":"(E94*'c design-col'!$K$6)+(E95*'c design-col'!$K$7)+E96*'c design-col'!$K$8+E97*'c design-col'!$K$9+E98*'c design-col'!$K$10+E99*'c design-col'!$K$11","v":252.66957183309998},{"$f":"(F94*'c design-col'!$K$6)+(F95*'c design-col'!$K$7)+F96*'c design-col'!$K$8+F97*'c design-col'!$K$9+F98*'c design-col'!$K$10+F99*'c design-col'!$K$11","v":275.67475916530003},{"$f":"(G94*'c design-col'!$K$6)+(G95*'c design-col'!$K$7)+G96*'c design-col'!$K$8+G97*'c design-col'!$K$9+G98*'c design-col'!$K$10+G99*'c design-col'!$K$11","v":309.22718046520004},{"$f":"(H94*'c design-col'!$K$6)+(H95*'c design-col'!$K$7)+H96*'c design-col'!$K$8+H97*'c design-col'!$K$9+H98*'c design-col'!$K$10+H99*'c design-col'!$K$11","v":351.4981350557},{"$f":"(I94*'c design-col'!$K$6)+(I95*'c design-col'!$K$7)+I96*'c design-col'!$K$8+I97*'c design-col'!$K$9+I98*'c design-col'!$K$10+I99*'c design-col'!$K$11","v":380.52905852549998},{"$f":"(J94*'c design-col'!$K$6)+(J95*'c design-col'!$K$7)+J96*'c design-col'!$K$8+J97*'c design-col'!$K$9+J98*'c design-col'!$K$10+J99*'c design-col'!$K$11","v":411.28918949929994},{"$f":"(K94*'c design-col'!$K$6)+(K95*'c design-col'!$K$7)+K96*'c design-col'!$K$8+K97*'c design-col'!$K$9+K98*'c design-col'!$K$10+K99*'c design-col'!$K$11","v":445.5334417050999},{"$f":"(L94*'c design-col'!$K$6)+(L95*'c design-col'!$K$7)+L96*'c design-col'!$K$8+L97*'c design-col'!$K$9+L98*'c design-col'!$K$10+L99*'c design-col'!$K$11","v":498.17474283189995},{"$f":"(M94*'c design-col'!$K$6)+(M95*'c design-col'!$K$7)+M96*'c design-col'!$K$8+M97*'c design-col'!$K$9+M98*'c design-col'!$K$10+M99*'c design-col'!$K$11","v":567.42886665850006},{"$f":"(N94*'c design-col'!$K$6)+(N95*'c design-col'!$K$7)+N96*'c design-col'!$K$8+N97*'c design-col'!$K$9+N98*'c design-col'!$K$10+N99*'c design-col'!$K$11","v":674.30595302990002},{"$f":"(O94*'c design-col'!$K$6)+(O95*'c design-col'!$K$7)+O96*'c design-col'!$K$8+O97*'c design-col'!$K$9+O98*'c design-col'!$K$10+O99*'c design-col'!$K$11","v":813.50834303969987},{"$f":"(P94*'c design-col'!$K$6)+(P95*'c design-col'!$K$7)+P96*'c design-col'!$K$8+P97*'c design-col'!$K$9+P98*'c design-col'!$K$10+P99*'c design-col'!$K$11","v":1001.6313849342999},{"$f":"(Q94*'c design-col'!$K$6)+(Q95*'c design-col'!$K$7)+Q96*'c design-col'!$K$8+Q97*'c design-col'!$K$9+Q98*'c design-col'!$K$10+Q99*'c design-col'!$K$11","v":1273.6708013640002}]
["ECO2/Mpa",{"$f":"B101/B93","v":23.182627175799997},17.352716626991665,14.405169318900001,12.633478591654999,11.026990366612001,10.307572682173335,10.042803858734286,9.5132264631374994,9.1397597666511103,8.9106688341019975,9.0577225969436359,9.4571477776416675,9.6329421861414293,10.168854287996249,11.129237610381111,12.736708013640003]
[]
[]
["60-180",8,12,16,20,25,30,35,40,45,50,55,60,70,80,90,100]
["Water content",180,180,180,180,180,180,180,180,180,180,180,180,180,180,180,180]
["Cement content",184,208,231,255,280,317,363,394,428,464,521,597,714,865,1070,1367]
["PFA content",46,52,58,64,70,79,91,98,107,116,130,149,178,216,268,342]
["Fine Agg",949,893,847,807,771,726,678,650,622,594,555,508,443,368,273,146]
["Coarse Agg",977,1004,1020,1030,1035,1034,1025,1014,1000,982,950,902,821,707,545,301]
["Plasticiser dosage"]
["Concrete",{"$f":"B106+B107+B108+B109+B110","v":2336},2337,2336,2336,2336,2336,2337,2336,2337,2336,2336,2336,2336,2336,2336,2336]
["ECO2",{"$f":"(B106*'c design-col'!$K$6)+(B107*'c design-col'!$K$7)+B108*'c design-col'!$K$8+B109*'c design-col'!$K$9+B110*'c design-col'!$K$10+B111*'c design-col'!$K$11","v":178.80700269829998},{"$f":"(C106*'c design-col'!$K$6)+(C107*'c design-col'!$K$7)+C108*'c design-col'!$K$8+C109*'c design-col'!$K$9+C110*'c design-col'!$K$10+C111*'c design-col'!$K$11","v":200.3997710431},{"$f":"(D106*'c design-col'!$K$6)+(D107*'c design-col'!$K$7)+D108*'c design-col'!$K$8+D109*'c design-col'!$K$9+D110*'c design-col'!$K$10+D111*'c design-col'!$K$11","v":220.99039248289998},{"$f":"(E106*'c design-col'!$K$6)+(E107*'c design-col'!$K$7)+E108*'c design-col'!$K$8+E109*'c design-col'!$K$9+E110*'c design-col'!$K$10+E111*'c design-col'!$K$11","v":242.40164997489998},{"$f":"(F106*'c design-col'!$K$6)+(F107*'c design-col'!$K$7)+F108*'c design-col'!$K$8+F109*'c design-col'!$K$9+F110*'c design-col'!$K$10+F111*'c design-col'!$K$11","v":264.64177320969998},{"$f":"(G106*'c design-col'!$K$6)+(G107*'c design-col'!$K$7)+G108*'c design-col'!$K$8+G109*'c design-col'!$K$9+G110*'c design-col'!$K$10+G111*'c design-col'!$K$11","v":297.47157263619994},{"$f":"(H106*'c design-col'!$K$6)+(H107*'c design-col'!$K$7)+H108*'c design-col'!$K$8+H109*'c design-col'!$K$9+H110*'c design-col'!$K$10+H111*'c design-col'!$K$11","v":338.22756307459997},{"$f":"(I106*'c design-col'!$K$6)+(I107*'c design-col'!$K$7)+I108*'c design-col'!$K$8+I109*'c design-col'!$K$9+I110*'c design-col'!$K$10+I111*'c design-col'!$K$11","v":365.61083384299997},{"$f":"(J106*'c design-col'!$K$6)+(J107*'c design-col'!$K$7)+J108*'c design-col'!$K$8+J109*'c design-col'!$K$9+J110*'c design-col'!$K$10+J111*'c design-col'!$K$11","v":395.6611955354},{"$f":"(K106*'c design-col'!$K$6)+(K107*'c design-col'!$K$7)+K108*'c design-col'!$K$8+K109*'c design-col'!$K$9+K110*'c design-col'!$K$10+K111*'c design-col'!$K$11","v":427.42791265979997},{"$f":"(L106*'c design-col'!$K$6)+(L107*'c design-col'!$K$7)+L108*'c design-col'!$K$8+L109*'c design-col'!$K$9+L110*'c design-col'!$K$10+L111*'c design-col'!$K$11","v":477.68580843849992},{"$f":"(M106*'c design-col'!$K$6)+(M107*'c design-col'!$K$7)+M108*'c design-col'!$K$8+M109*'c design-col'!$K$9+M110*'c design-col'!$K$10+M111*'c design-col'!$K$11","v":544.64834623959996},{"$f":"(N106*'c design-col'!$K$6)+(N107*'c design-col'!$K$7)+N108*'c design-col'!$K$8+N109*'c design-col'!$K$9+N110*'c design-col'!$K$10+N111*'c design-col'!$K$11","v":647.65434129209984},{"$f":"(O106*'c design-col'!$K$6)+(O107*'c design-col'!$K$7)+O108*'c design-col'!$K$8+O109*'c design-col'!$K$9+O110*'c design-col'!$K$10+O111*'c design-col'!$K$11","v":780.50810490159995},{"$f":"(P106*'c design-col'!$K$6)+(P107*'c design-col'!$K$7)+P108*'c design-col'!$K$8+P109*'c design-col'!$K$9+P110*'c design-col'!$K$10+P111*'c design-col'!$K$11","v":960.80639168109985},{"$f":"(Q106*'c design-col'!$K$6)+(Q107*'c design-col'!$K$7)+Q108*'c design-col'!$K$8+Q109*'c design-col'!$K$9+Q110*'c design-col'!$K$10+Q111*'c design-col'!$K$11","v":1221.8880262941998}]
["ECO2/Mpa",{"$f":"B113/B105","v":22.350875337287498},16.699980920258334,13.811899530181249,12.120082498744999,10.585670928388,9.915719087873331,9.6636446592742846,9.1402708460749995,8.7924710118977778,8.5485582531959992,8.685196517063634,9.0774724373266658,9.2522048756014268,9.7563513112699987,10.675626574234443,12.218880262941997]
[]
[]
["60-180",8,12,16,20,25,30,35,40,45,50,55,60,70,80,90,100]
["Water content",162,162,162,162,162,162,162,162,162,162,162,162,162,162,162,162]
["Cement content",166,187,208,230,252,285,326,355,385,418,469,538,643,779,963,1230]
["PFA content",41,47,52,57,63,71,82,89,96,104,117,134,161,195,241,308]
["Fine Agg",979,923,877,838,802,758,712,684,657,631,593,548,488,418,331,215]
["Coarse Agg",1009,1038,1057,1070,1077,1080,1075,1067,1056,1042,1015,974,902,804,660,442]
["Plasticiser dosage",0.8,0.9,1,1.1000000000000001,1.3,1.4,1.6,1.8,1.9,2.1,2.2999999999999998,2.7,3.2,3.9,4.8,6.2]
["Concrete",{"$f":"B118+B119+B120+B121+B122+B123","v":2357.8000000000002},2357.9,2357,2358.1,2357.3000000000002,2357.4,2358.6,2358.8000000000002,2357.9,2359.1,2358.3000000000002,2358.6999999999998,2359.1999999999998,2361.9,2361.8000000000002,2363.1999999999998]
["ECO2",{"$f":"(B118*'c design-col'!$K$6)+(B119*'c design-col'!$K$7)+B120*'c design-col'!$K$8+B121*'c design-col'!$K$9+B122*'c design-col'!$K$10+B123*'c design-col'!$K$11","v":163.22474112330002},{"$f":"(C118*'c design-col'!$K$6)+(C119*'c design-col'!$K$7)+C120*'c design-col'!$K$8+C121*'c design-col'!$K$9+C122*'c design-col'!$K$10+C123*'c design-col'!$K$11","v":182.19156647209996},{"$f":"(D118*'c design-col'!$K$6)+(D119*'c design-col'!$K$7)+D120*'c design-col'!$K$8+D121*'c design-col'!$K$9+D122*'c design-col'!$K$10+D123*'c design-col'!$K$11","v":201.02598040789999},{"$f":"(E118*'c design-col'!$K$6)+(E119*'c design-col'!$K$7)+E120*'c design-col'!$K$8+E121*'c design-col'!$K$9+E122*'c design-col'!$K$10+E123*'c design-col'!$K$11","v":220.68334184659997},{"$f":"(F118*'c design-col'!$K$6)+(F119*'c design-col'!$K$7)+F120*'c design-col'!$K$8+F121*'c design-col'!$K$9+F122*'c design-col'!$K$10+F123*'c design-col'!$K$11","v":240.29752260539996},{"$f":"(G118*'c design-col'!$K$6)+(G119*'c design-col'!$K$7)+G120*'c design-col'!$K$8+G121*'c design-col'!$K$9+G122*'c design-col'!$K$10+G123*'c design-col'!$K$11","v":269.61851277059998},{"$f":"(H118*'c design-col'!$K$6)+(H119*'c design-col'!$K$7)+H120*'c design-col'!$K$8+H121*'c design-col'!$K$9+H122*'c design-col'!$K$10+H123*'c design-col'!$K$11","v":305.9841230184},{"$f":"(I118*'c design-col'!$K$6)+(I119*'c design-col'!$K$7)+I120*'c design-col'!$K$8+I121*'c design-col'!$K$9+I122*'c design-col'!$K$10+I123*'c design-col'!$K$11","v":331.63818680279996},{"$f":"(J118*'c design-col'!$K$6)+(J119*'c design-col'!$K$7)+J120*'c design-col'!$K$8+J121*'c design-col'!$K$9+J122*'c design-col'!$K$10+J123*'c design-col'!$K$11","v":358.13988664189986},{"$f":"(K118*'c design-col'!$K$6)+(K119*'c design-col'!$K$7)+K120*'c design-col'!$K$8+K121*'c design-col'!$K$9+K122*'c design-col'!$K$10+K123*'c design-col'!$K$11","v":387.2839893757},{"$f":"(L118*'c design-col'!$K$6)+(L119*'c design-col'!$K$7)+L120*'c design-col'!$K$8+L121*'c design-col'!$K$9+L122*'c design-col'!$K$10+L123*'c design-col'!$K$11","v":432.27816320509993},{"$f":"(M118*'c design-col'!$K$6)+(M119*'c design-col'!$K$7)+M120*'c design-col'!$K$8+M121*'c design-col'!$K$9+M122*'c design-col'!$K$10+M123*'c design-col'!$K$11","v":493.09411383159988},{"$f":"(N118*'c design-col'!$K$6)+(N119*'c design-col'!$K$7)+N120*'c design-col'!$K$8+N121*'c design-col'!$K$9+N122*'c design-col'!$K$10+N123*'c design-col'!$K$11","v":585.56674726560004},{"$f":"(O118*'c design-col'!$K$6)+(O119*'c design-col'!$K$7)+O120*'c design-col'!$K$8+O121*'c design-col'!$K$9+O122*'c design-col'!$K$10+O123*'c design-col'!$K$11","v":705.27146974059985},{"$f":"(P118*'c design-col'!$K$6)+(P119*'c design-col'!$K$7)+P120*'c design-col'!$K$8+P121*'c design-col'!$K$9+P122*'c design-col'!$K$10+P123*'c design-col'!$K$11","v":867.09605856169992},{"$f":"(Q118*'c design-col'!$K$6)+(Q119*'c design-col'!$K$7)+Q120*'c design-col'!$K$8+Q121*'c design-col'!$K$9+Q122*'c design-col'!$K$10+Q123*'c design-col'!$K$11","v":1101.8318068045}]
["ECO2/Mpa",{"$f":"B125/B117","v":20.403092640412503},15.182630539341664,12.56412377549375,11.034167092329998,9.6119009042159984,8.9872837590199985,8.7424035148114285,8.2909546700699988,7.9586641475977746,7.7456797875139998,7.8596029673654533,8.2182352305266644,8.3652392466514289,8.8158933717574985,9.6344006506855546,11.018318068045]
[]
[]
["60--180",8,12,16,20,25,30,35,40,45,50,55,60,70,80,90,100]
["Water content",170,170,170,170,170,170,170,170,170,170,170,170,170,170,170,170]
["Cement content",156,176,196,216,237,268,307,333,362,393,441,505,604,732,906,1157]
["PFA content",104,117,131,144,158,179,205,222,241,262,294,337,403,488,604,771]
["Fine Agg",945,887,839,798,761,714,664,634,604,574,532,481,410,328,223,82]
["Coarse Agg",973,998,1012,1019,1022,1017,1003,989,971,949,910,854,761,630,445,168]
["Plasticiser dosage"]
["Concrete",{"$f":"B130+B131+B132+B133+B134","v":2348},2348,2348,2347,2348,2348,2349,2348,2348,2348,2347,2347,2348,2348,2348,2348]
["ECO2",{"$f":"(B130*'c design-col'!$K$6)+(B131*'c design-col'!$K$7)+B132*'c design-col'!$K$8+B133*'c design-col'!$K$9+B134*'c design-col'!$K$10+B135*'c design-col'!$K$11","v":155.55362532749999},{"$f":"(C130*'c design-col'!$K$6)+(C131*'c design-col'!$K$7)+C132*'c design-col'!$K$8+C133*'c design-col'!$K$9+C134*'c design-col'!$K$10+C135*'c design-col'!$K$11","v":173.76953398689997},{"$f":"(D130*'c design-col'!$K$6)+(D131*'c design-col'!$K$7)+D132*'c design-col'!$K$8+D133*'c design-col'!$K$9+D134*'c design-col'!$K$10+D135*'c design-col'!$K$11","v":191.89417864129999},{"$f":"(E130*'c design-col'!$K$6)+(E131*'c design-col'!$K$7)+E132*'c design-col'!$K$8+E133*'c design-col'!$K$9+E134*'c design-col'!$K$10+E135*'c design-col'!$K$11","v":209.91803530659996},{"$f":"(F130*'c design-col'!$K$6)+(F131*'c design-col'!$K$7)+F132*'c design-col'!$K$8+F133*'c design-col'!$K$9+F134*'c design-col'!$K$10+F135*'c design-col'!$K$11","v":228.81061030669994},{"$f":"(G130*'c design-col'!$K$6)+(G131*'c design-col'!$K$7)+G132*'c design-col'!$K$8+G133*'c design-col'!$K$9+G134*'c design-col'!$K$10+G135*'c design-col'!$K$11","v":256.60507906379996},{"$f":"(H130*'c design-col'!$K$6)+(H131*'c design-col'!$K$7)+H132*'c design-col'!$K$8+H133*'c design-col'!$K$9+H134*'c design-col'!$K$10+H135*'c design-col'!$K$11","v":291.48300334080005},{"$f":"(I130*'c design-col'!$K$6)+(I131*'c design-col'!$K$7)+I132*'c design-col'!$K$8+I133*'c design-col'!$K$9+I134*'c design-col'!$K$10+I135*'c design-col'!$K$11","v":314.67367893179994},{"$f":"(J130*'c design-col'!$K$6)+(J131*'c design-col'!$K$7)+J132*'c design-col'!$K$8+J133*'c design-col'!$K$9+J134*'c design-col'!$K$10+J135*'c design-col'!$K$11","v":340.51859285479998},{"$f":"(K130*'c design-col'!$K$6)+(K131*'c design-col'!$K$7)+K132*'c design-col'!$K$8+K133*'c design-col'!$K$9+K134*'c design-col'!$K$10+K135*'c design-col'!$K$11","v":368.13386220979999},{"$f":"(L130*'c design-col'!$K$6)+(L131*'c design-col'!$K$7)+L132*'c design-col'!$K$8+L133*'c design-col'!$K$9+L134*'c design-col'!$K$10+L135*'c design-col'!$K$11","v":410.82590939239992},{"$f":"(M130*'c design-col'!$K$6)+(M131*'c design-col'!$K$7)+M132*'c design-col'!$K$8+M133*'c design-col'!$K$9+M134*'c design-col'!$K$10+M135*'c design-col'!$K$11","v":467.71778585469997},{"$f":"(N130*'c design-col'!$K$6)+(N131*'c design-col'!$K$7)+N132*'c design-col'!$K$8+N133*'c design-col'!$K$9+N134*'c design-col'!$K$10+N135*'c design-col'!$K$11","v":555.64478889899988},{"$f":"(O130*'c design-col'!$K$6)+(O131*'c design-col'!$K$7)+O132*'c design-col'!$K$8+O133*'c design-col'!$K$9+O134*'c design-col'!$K$10+O135*'c design-col'!$K$11","v":669.20357158959996},{"$f":"(P130*'c design-col'!$K$6)+(P131*'c design-col'!$K$7)+P132*'c design-col'!$K$8+P133*'c design-col'!$K$9+P134*'c design-col'!$K$10+P135*'c design-col'!$K$11","v":823.51076434609979},{"$f":"(Q130*'c design-col'!$K$6)+(Q131*'c design-col'!$K$7)+Q132*'c design-col'!$K$8+Q133*'c design-col'!$K$9+Q134*'c design-col'!$K$10+Q135*'c design-col'!$K$11","v":1045.9882897133998}]
["ECO2/Mpa",{"$f":"B137/B129","v":19.444203165937498},14.480794498908331,11.993386165081249,10.495901765329998,9.1524244122679974,8.5535026354599992,8.3280858097371446,7.8668419732949983,7.5670798412177769,7.362677244196,7.4695619889527256,7.7952964309116659,7.9377826985571414,8.3650446448700002,9.1501196038455532,10.459882897133998]
[]
[]
["60-180",8,12,16,20,25,30,35,40,45,50,55,60,70,80,90,100]
["Water content",153,153,153,153,153,153,153,153,153,153,153,153,153,153,153,153]
["Cement content",140,158,176,194,213,241,276,300,326,354,397,455,544,659,815,1041]
["PFA content",93,105,117,130,142,161,184,200,217,236,265,303,362,439,543,694]
["Fine Agg",976,918,871,830,793,747,699,670,641,613,572,524,459,382,286,157]
["Coarse Agg",1005,1032,1050,1060,1065,1065,1055,1045,1030,1012,980,932,850,735,570,323]
["Plasticiser dosage",0.9,1.1000000000000001,1.2,1.3,1.4,1.6,1.8,2,2.2000000000000002,2.4,2.6,3,3.6,4.4000000000000004,5.4,6.9]
["Concrete",{"$f":"B142+B143+B144+B145+B146+B147","v":2367.9},2367.1,2368.1999999999998,2368.3000000000002,2367.4,2368.6,2368.8000000000002,2370,2369.1999999999998,2370.4,2369.6,2370,2371.6,2372.4,2372.4,2374.9]
["ECO2",{"$f":"(B142*'c design-col'!$K$6)+(B143*'c design-col'!$K$7)+B144*'c design-col'!$K$8+B145*'c design-col'!$K$9+B146*'c design-col'!$K$10+B147*'c design-col'!$K$11","v":141.58044152319997},{"$f":"(C142*'c design-col'!$K$6)+(C143*'c design-col'!$K$7)+C144*'c design-col'!$K$8+C145*'c design-col'!$K$9+C146*'c design-col'!$K$10+C147*'c design-col'!$K$11","v":158.02729060659996},{"$f":"(D142*'c design-col'!$K$6)+(D143*'c design-col'!$K$7)+D144*'c design-col'!$K$8+D145*'c design-col'!$K$9+D146*'c design-col'!$K$10+D147*'c design-col'!$K$11","v":174.38389179969997},{"$f":"(E142*'c design-col'!$K$6)+(E143*'c design-col'!$K$7)+E144*'c design-col'!$K$8+E145*'c design-col'!$K$9+E146*'c design-col'!$K$10+E147*'c design-col'!$K$11","v":190.67854096099995},{"$f":"(F142*'c design-col'!$K$6)+(F143*'c design-col'!$K$7)+F144*'c design-col'!$K$8+F145*'c design-col'!$K$9+F146*'c design-col'!$K$10+F147*'c design-col'!$K$11","v":207.77505586509997},{"$f":"(G142*'c design-col'!$K$6)+(G143*'c design-col'!$K$7)+G144*'c design-col'!$K$8+G145*'c design-col'!$K$9+G146*'c design-col'!$K$10+G147*'c design-col'!$K$11","v":232.9304513729},{"$f":"(H142*'c design-col'!$K$6)+(H143*'c design-col'!$K$7)+H144*'c design-col'!$K$8+H145*'c design-col'!$K$9+H146*'c design-col'!$K$10+H147*'c design-col'!$K$11","v":264.24787835929993},{"$f":"(I142*'c design-col'!$K$6)+(I143*'c design-col'!$K$7)+I144*'c design-col'!$K$8+I145*'c design-col'!$K$9+I146*'c design-col'!$K$10+I147*'c design-col'!$K$11","v":285.69751100899992},{"$f":"(J142*'c design-col'!$K$6)+(J143*'c design-col'!$K$7)+J144*'c design-col'!$K$8+J145*'c design-col'!$K$9+J146*'c design-col'!$K$10+J147*'c design-col'!$K$11","v":308.87764649869996},{"$f":"(K142*'c design-col'!$K$6)+(K143*'c design-col'!$K$7)+K144*'c design-col'!$K$8+K145*'c design-col'!$K$9+K146*'c design-col'!$K$10+K147*'c design-col'!$K$11","v":333.84330146309998},{"$f":"(L142*'c design-col'!$K$6)+(L143*'c design-col'!$K$7)+L144*'c design-col'!$K$8+L145*'c design-col'!$K$9+L146*'c design-col'!$K$10+L147*'c design-col'!$K$11","v":372.12721478039992},{"$f":"(M142*'c design-col'!$K$6)+(M143*'c design-col'!$K$7)+M144*'c design-col'!$K$8+M145*'c design-col'!$K$9+M146*'c design-col'!$K$10+M147*'c design-col'!$K$11","v":423.69055101079994},{"$f":"(N142*'c design-col'!$K$6)+(N143*'c design-col'!$K$7)+N144*'c design-col'!$K$8+N145*'c design-col'!$K$9+N146*'c design-col'!$K$10+N147*'c design-col'!$K$11","v":502.74497539129999},{"$f":"(O142*'c design-col'!$K$6)+(O143*'c design-col'!$K$7)+O144*'c design-col'!$K$8+O145*'c design-col'!$K$9+O146*'c design-col'!$K$10+O147*'c design-col'!$K$11","v":604.81448326739985},{"$f":"(P142*'c design-col'!$K$6)+(P143*'c design-col'!$K$7)+P144*'c design-col'!$K$8+P145*'c design-col'!$K$9+P146*'c design-col'!$K$10+P147*'c design-col'!$K$11","v":743.16564392019984},{"$f":"(Q142*'c design-col'!$K$6)+(Q143*'c design-col'!$K$7)+Q144*'c design-col'!$K$8+Q145*'c design-col'!$K$9+Q146*'c design-col'!$K$10+Q147*'c design-col'!$K$11","v":943.52741975589993}]
["ECO2/Mpa",{"$f":"B149/B141","v":17.697555190399996},13.16894088388333,10.898993237481248,9.533927048049998,8.3110022346039987,7.7643483790966661,7.5499393816942835,7.1424377752249981,6.86394769997111,6.6768660292619995,6.7659493596436349,7.0615091835133326,7.1820710770185716,7.5601810408424983,8.257396043557776,9.435274197559]

{"sheet":"Sheet2 (3)","index":14,"n_rows":345,"n_cols":17,"rows_kept":345,"cut":false,"hidden":false,"merged":[]}
["0% PFA, No SP"]
["0-10",8,12,16,20,25,30,35,40,45,50,55,60,70,80,90,100]
["Water content",135,135,135,135,135,135,135,135,135,135,135,135,135,135,135,135]
["Cement content",148,167,187,206,226,256,292,318,345,374,420,482,576,697,863,1102]
["PFA content",0,0,0,0,0,0,0,0,0,0,0,0,0,0,0,0]
["Fine Agg",819,796,729,695,665,628,591,569,549,529,502,471,431,387,336,270]
["Coarse Agg",1285,1316,1337,1352,1362,1369,1369,1366,1359,1349,1330,1300,1246,1168,1054,880]
["Plasticiser dosage",0,0,0,0,0,0,0,0,0,0,0,0,0,0,0,0]
["Concrete",{"$f":"SUM(B3:B8)","v":2387},{"$f":"SUM(C3:C8)","v":2414},2388,2388,2388,2388,2387,2388,2388,2387,{"$f":"SUM(L3:L8)","v":2387},{"$f":"SUM(M3:M8)","v":2388},2388,2387,2388,2387]
["ECO2 / m3",{"$f":"(B3*'c design-col'!$K$6)+(B4*'c design-col'!$K$7)+B5*'c design-col'!$K$8+B6*'c design-col'!$K$9+B7*'c design-col'!$K$10+B8*'c design-col'!$K$11","v":149.35832804329999},{"$f":"(C3*'c design-col'!$K$6)+(C4*'c design-col'!$K$7)+C5*'c design-col'!$K$8+C6*'c design-col'!$K$9+C7*'c design-col'!$K$10+C8*'c design-col'!$K$11","v":166.49737012919996},{"$f":"(D3*'c design-col'!$K$6)+(D4*'c design-col'!$K$7)+D5*'c design-col'!$K$8+D6*'c design-col'!$K$9+D7*'c design-col'!$K$10+D8*'c design-col'!$K$11","v":184.29006536429998},{"$f":"(E3*'c design-col'!$K$6)+(E4*'c design-col'!$K$7)+E5*'c design-col'!$K$8+E6*'c design-col'!$K$9+E7*'c design-col'!$K$10+E8*'c design-col'!$K$11","v":201.19804002049997},{"$f":"(F3*'c design-col'!$K$6)+(F4*'c design-col'!$K$7)+F5*'c design-col'!$K$8+F6*'c design-col'!$K$9+F7*'c design-col'!$K$10+F8*'c design-col'!$K$11","v":218.93488041949999},{"$f":"(G3*'c design-col'!$K$6)+(G4*'c design-col'!$K$7)+G5*'c design-col'!$K$8+G6*'c design-col'!$K$9+G7*'c design-col'!$K$10+G8*'c design-col'!$K$11","v":245.45581188759996},{"$f":"(H3*'c design-col'!$K$6)+(H4*'c design-col'!$K$7)+H5*'c design-col'!$K$8+H6*'c design-col'!$K$9+H7*'c design-col'!$K$10+H8*'c design-col'!$K$11","v":277.19007261169997},{"$f":"(I3*'c design-col'!$K$6)+(I4*'c design-col'!$K$7)+I5*'c design-col'!$K$8+I6*'c design-col'!$K$9+I7*'c design-col'!$K$10+I8*'c design-col'!$K$11","v":300.08161832029998},{"$f":"(J3*'c design-col'!$K$6)+(J4*'c design-col'!$K$7)+J5*'c design-col'!$K$8+J6*'c design-col'!$K$9+J7*'c design-col'!$K$10+J8*'c design-col'!$K$11","v":323.8102594623},{"$f":"(K3*'c design-col'!$K$6)+(K4*'c design-col'!$K$7)+K5*'c design-col'!$K$8+K6*'c design-col'!$K$9+K7*'c design-col'!$K$10+K8*'c design-col'!$K$11","v":349.26810862829996},{"$f":"(L3*'c design-col'!$K$6)+(L4*'c design-col'!$K$7)+L5*'c design-col'!$K$8+L6*'c design-col'!$K$9+L7*'c design-col'!$K$10+L8*'c design-col'!$K$11","v":389.62011361139997},{"$f":"(M3*'c design-col'!$K$6)+(M4*'c design-col'!$K$7)+M5*'c design-col'!$K$8+M6*'c design-col'!$K$9+M7*'c design-col'!$K$10+M8*'c design-col'!$K$11","v":443.9636206797},{"$f":"(N3*'c design-col'!$K$6)+(N4*'c design-col'!$K$7)+N5*'c design-col'!$K$8+N6*'c design-col'!$K$9+N7*'c design-col'!$K$10+N8*'c design-col'!$K$11","v":526.26211528369993},{"$f":"(O3*'c design-col'!$K$6)+(O4*'c design-col'!$K$7)+O5*'c design-col'!$K$8+O6*'c design-col'!$K$9+O7*'c design-col'!$K$10+O8*'c design-col'!$K$11","v":632.10774017689994},{"$f":"(P3*'c design-col'!$K$6)+(P4*'c design-col'!$K$7)+P5*'c design-col'!$K$8+P6*'c design-col'!$K$9+P7*'c design-col'!$K$10+P8*'c design-col'!$K$11","v":777.24922210319994},{"$f":"(Q3*'c design-col'!$K$6)+(Q4*'c design-col'!$K$7)+Q5*'c design-col'!$K$8+Q6*'c design-col'!$K$9+Q7*'c design-col'!$K$10+Q8*'c design-col'!$K$11","v":986.10832844899994}]
["ECO2/tonne",{"$f":"B10/B9","v":6.2571566000544615E-2},{"$f":"C10/C9","v":6.8971570061806112E-2},7.7173394206155765E-2,8.425378560322444E-2,9.1681273207495806E-2,0.10278719090770518,0.11612487331868453,0.12566231922960636,0.1355989361232412,0.14632095040984497,0.16322585404750731,0.18591441401997488,0.22037777021930482,0.26481262680222034,0.32548124878693463,0.4131161828441558]
["ECO2 / m3 / Mpa",{"$f":"B10/B2","v":18.669791005412499},{"$f":"C10/C2","v":13.874780844099996},11.518129085268749,10.059902001024998,8.7573952167799991,8.1818603962533327,7.9197163603342853,7.5020404580074995,7.1957835436066668,6.9853621725659991,7.0840020656618181,7.3993936779949996,7.5180302183385708,7.901346752211249,8.6361024678133322,9.8610832844900003]
["ECO2 / tonne / Mpa",{"$f":"B11/B2","v":7.8214457500680769E-3},{"$f":"C11/C2","v":5.7476308384838424E-3},4.8233371378847353E-3,4.2126892801612218E-3,3.6672509282998323E-3,3.4262396969235056E-3,3.3178535233909863E-3,3.1415579807401589E-3,3.0133096916275821E-3,2.9264190081968993E-3,2.9677428008637692E-3,3.0985735669995813E-3,3.1482538602757831E-3,3.3101578350277542E-3,3.6164583198548292E-3,4.1311618284415579E-3]
[]
["0% PFA, SP"]
["0-10",8,12,16,20,25,30,35,40,45,50,55,60,70,80,90,100]
["Water content",121.5,121.5,121.5,121.5,121.5,121.5,121.5,121.5,121.5,121.5,121.5,121.5,121.5,121.5,121.5,121.5]
["Cement content",133,151,168,185,203,230,263,286,310,337,378,434,518,628,777,999]
["PFA content",0,0,0,0,0,0,0,0,0,0,0,0,0,0,0,0]
["Fine Agg",836,786,746,712,682,645,608,587,567,548,521,492,453,412,364,302]
["Coarse Agg",1312,1345,1368,1385,1397,1407,1410,1409,1404,1397,1382,1357,1311,1242,1141,987]
["Plasticiser dosage",0.5,0.6,0.7,0.7,0.8,0.9,1.1000000000000001,1.1000000000000001,1.2,1.3,1.5,1.7,2.1,2.5,3.1,4]
["Concrete",{"$f":"B17+B18+B20+B21+B22","v":2403},{"$f":"C17+C18+C20+C21+C22","v":2404.1},2404.1999999999998,2404.1999999999998,2404.3000000000002,2404.4,2403.6,2404.6,2403.6999999999998,2404.8000000000002,2404,2406.1999999999998,2405.6,2406,2406.6,2413.5]
["ECO2 / m3",{"$f":"(B17*'c design-col'!$K$6)+(B18*'c design-col'!$K$7)+B19*'c design-col'!$K$8+B20*'c design-col'!$K$9+B21*'c design-col'!$K$10+B22*'c design-col'!$K$11","v":136.47290178919997},{"$f":"(C17*'c design-col'!$K$6)+(C18*'c design-col'!$K$7)+C19*'c design-col'!$K$8+C20*'c design-col'!$K$9+C21*'c design-col'!$K$10+C22*'c design-col'!$K$11","v":152.69135751019999},{"$f":"(D17*'c design-col'!$K$6)+(D18*'c design-col'!$K$7)+D19*'c design-col'!$K$8+D20*'c design-col'!$K$9+D21*'c design-col'!$K$10+D22*'c design-col'!$K$11","v":167.92051891819995},{"$f":"(E17*'c design-col'!$K$6)+(E18*'c design-col'!$K$7)+E19*'c design-col'!$K$8+E20*'c design-col'!$K$9+E21*'c design-col'!$K$10+E22*'c design-col'!$K$11","v":183.08643295839994},{"$f":"(F17*'c design-col'!$K$6)+(F18*'c design-col'!$K$7)+F19*'c design-col'!$K$8+F20*'c design-col'!$K$9+F21*'c design-col'!$K$10+F22*'c design-col'!$K$11","v":199.08121326139999},{"$f":"(G17*'c design-col'!$K$6)+(G18*'c design-col'!$K$7)+G19*'c design-col'!$K$8+G20*'c design-col'!$K$9+G21*'c design-col'!$K$10+G22*'c design-col'!$K$11","v":222.98905432549995},{"$f":"(H17*'c design-col'!$K$6)+(H18*'c design-col'!$K$7)+H19*'c design-col'!$K$8+H20*'c design-col'!$K$9+H21*'c design-col'!$K$10+H22*'c design-col'!$K$11","v":252.11022516559996},{"$f":"(I17*'c design-col'!$K$6)+(I18*'c design-col'!$K$7)+I19*'c design-col'!$K$8+I20*'c design-col'!$K$9+I21*'c design-col'!$K$10+I22*'c design-col'!$K$11","v":272.37813880889996},{"$f":"(J17*'c design-col'!$K$6)+(J18*'c design-col'!$K$7)+J19*'c design-col'!$K$8+J20*'c design-col'!$K$9+J21*'c design-col'!$K$10+J22*'c design-col'!$K$11","v":293.48083695490004},{"$f":"(K17*'c design-col'!$K$6)+(K18*'c design-col'!$K$7)+K19*'c design-col'!$K$8+K20*'c design-col'!$K$9+K21*'c design-col'!$K$10+K22*'c design-col'!$K$11","v":317.21179006760002},{"$f":"(L17*'c design-col'!$K$6)+(L18*'c design-col'!$K$7)+L19*'c design-col'!$K$8+L20*'c design-col'!$K$9+L21*'c design-col'!$K$10+L22*'c design-col'!$K$11","v":353.1957919587},{"$f":"(M17*'c design-col'!$K$6)+(M18*'c design-col'!$K$7)+M19*'c design-col'!$K$8+M20*'c design-col'!$K$9+M21*'c design-col'!$K$10+M22*'c design-col'!$K$11","v":402.30488852840006},{"$f":"(N17*'c design-col'!$K$6)+(N18*'c design-col'!$K$7)+N19*'c design-col'!$K$8+N20*'c design-col'!$K$9+N21*'c design-col'!$K$10+N22*'c design-col'!$K$11","v":475.86968839910003},{"$f":"(O17*'c design-col'!$K$6)+(O18*'c design-col'!$K$7)+O19*'c design-col'!$K$8+O20*'c design-col'!$K$9+O21*'c design-col'!$K$10+O22*'c design-col'!$K$11","v":572.11521115239987},{"$f":"(P17*'c design-col'!$K$6)+(P18*'c design-col'!$K$7)+P19*'c design-col'!$K$8+P20*'c design-col'!$K$9+P21*'c design-col'!$K$10+P22*'c design-col'!$K$11","v":702.40470494679994},{"$f":"(Q17*'c design-col'!$K$6)+(Q18*'c design-col'!$K$7)+Q19*'c design-col'!$K$8+Q20*'c design-col'!$K$9+Q21*'c design-col'!$K$10+Q22*'c design-col'!$K$11","v":896.5041043153999}]
["ECO2/tonne",{"$f":"B24/B23","v":5.6792718181106934E-2},{"$f":"C24/C23","v":6.3512897762239506E-2},6.9844654736793924E-2,7.6152746426420406E-2,8.2802151670507002E-2,9.2742078824446822E-2,0.10488859426094191,0.11327378308612658,0.12209545157669428,0.13190776366749835,0.1469200465718386,0.16719511617006072,0.19781746275320089,0.23778687080315872,0.29186599557333998,0.37145394833867823]
["ECO2 / m3 / Mpa",{"$f":"B24/B16","v":17.059112723649996},{"$f":"C24/C16","v":12.724279792516667},10.495032432387497,9.1543216479199963,7.9632485304560001,7.4329684775166651,7.2031492904457126,6.8094534702224987,6.5217963767755567,6.3442358013520002,6.4217416719763634,6.7050814754733343,6.7981384057014287,7.1514401394049987,7.8044967216311107,8.9650410431539989]
["ECO2 / tonne / Mpa",{"$f":"B25/B16","v":7.0990897726383667E-3},{"$f":"C25/C16","v":5.2927414801866258E-3},4.3652909210496202E-3,3.8076373213210201E-3,3.3120860668202799E-3,3.0914026274815607E-3,2.9968169788840543E-3,2.8318445771531647E-3,2.713232257259873E-3,2.6381552733499669E-3,2.6712735740334293E-3,2.7865852695010121E-3,2.8259637536171556E-3,2.972335885039484E-3,3.2429555063704443E-3,3.7145394833867822E-3]
["20% PFA, No SP"]
["0-10",8,12,16,20,25,30,35,40,45,50,55,60,70,80,90,100]
["Water content",125,125,125,125,125,125,125,125,125,125,125,125,125,125,125,125]
["Cement content",128,144,161,177,195,220,252,274,297,322,362,415,496,601,743,949]
["PFA content",32,36,40,44,49,55,63,68,74,81,91,104,124,150,186,237]
["Fine Agg",823,772,731,697,666,629,591,569,548,527,499,467,425,379,325,256]
["Coarse Agg",1291,1322,1342,1356,1365,1370,1369,1364,1356,1344,1323,1289,1229,1144,1020,832]
["Plasticiser dosage",0,0,0,0,0,0,0,0,0,0,0,0,0,0,0,0]
["Concrete",{"$f":"B30+B31+B32+B33+B34+B35","v":2399},{"$f":"C30+C31+C32+C33+C34+C35","v":2399},2399,2399,2400,2399,2400,2400,2400,2399,2400,2400,2399,2399,2399,2399]
["ECO2 / m3",{"$f":"(B30*'c design-col'!$K$6)+(B31*'c design-col'!$K$7)+B32*'c design-col'!$K$8+B33*'c design-col'!$K$9+B34*'c design-col'!$K$10+B35*'c design-col'!$K$11","v":132.6210313981},{"$f":"(C30*'c design-col'!$K$6)+(C31*'c design-col'!$K$7)+C32*'c design-col'!$K$8+C33*'c design-col'!$K$9+C34*'c design-col'!$K$10+C35*'c design-col'!$K$11","v":147.1517041644},{"$f":"(D30*'c design-col'!$K$6)+(D31*'c design-col'!$K$7)+D32*'c design-col'!$K$8+D33*'c design-col'!$K$9+D34*'c design-col'!$K$10+D35*'c design-col'!$K$11","v":162.44799582569999},{"$f":"(E30*'c design-col'!$K$6)+(E31*'c design-col'!$K$7)+E32*'c design-col'!$K$8+E33*'c design-col'!$K$9+E34*'c design-col'!$K$10+E35*'c design-col'!$K$11","v":176.79946918989995},{"$f":"(F30*'c design-col'!$K$6)+(F31*'c design-col'!$K$7)+F32*'c design-col'!$K$8+F33*'c design-col'!$K$9+F34*'c design-col'!$K$10+F35*'c design-col'!$K$11","v":192.88837974619997},{"$f":"(G30*'c design-col'!$K$6)+(G31*'c design-col'!$K$7)+G32*'c design-col'!$K$8+G33*'c design-col'!$K$9+G34*'c design-col'!$K$10+G35*'c design-col'!$K$11","v":215.12619153029999},{"$f":"(H30*'c design-col'!$K$6)+(H31*'c design-col'!$K$7)+H32*'c design-col'!$K$8+H33*'c design-col'!$K$9+H34*'c design-col'!$K$10+H35*'c design-col'!$K$11","v":243.52575661169996},{"$f":"(I30*'c design-col'!$K$6)+(I31*'c design-col'!$K$7)+I32*'c design-col'!$K$8+I33*'c design-col'!$K$9+I34*'c design-col'!$K$10+I35*'c design-col'!$K$11","v":262.99106553629997},{"$f":"(J30*'c design-col'!$K$6)+(J31*'c design-col'!$K$7)+J32*'c design-col'!$K$8+J33*'c design-col'!$K$9+J34*'c design-col'!$K$10+J35*'c design-col'!$K$11","v":283.3310110356},{"$f":"(K30*'c design-col'!$K$6)+(K31*'c design-col'!$K$7)+K32*'c design-col'!$K$8+K33*'c design-col'!$K$9+K34*'c design-col'!$K$10+K35*'c design-col'!$K$11","v":305.41431196689996},{"$f":"(L30*'c design-col'!$K$6)+(L31*'c design-col'!$K$7)+L32*'c design-col'!$K$8+L33*'c design-col'!$K$9+L34*'c design-col'!$K$10+L35*'c design-col'!$K$11","v":340.70500291529999},{"$f":"(M30*'c design-col'!$K$6)+(M31*'c design-col'!$K$7)+M32*'c design-col'!$K$8+M33*'c design-col'!$K$9+M34*'c design-col'!$K$10+M35*'c design-col'!$K$11","v":387.39084206489997},{"$f":"(N30*'c design-col'!$K$6)+(N31*'c design-col'!$K$7)+N32*'c design-col'!$K$8+N33*'c design-col'!$K$9+N34*'c design-col'!$K$10+N35*'c design-col'!$K$11","v":458.65712051549997},{"$f":"(O30*'c design-col'!$K$6)+(O31*'c design-col'!$K$7)+O32*'c design-col'!$K$8+O33*'c design-col'!$K$9+O34*'c design-col'!$K$10+O35*'c design-col'!$K$11","v":550.96802796329985},{"$f":"(P30*'c design-col'!$K$6)+(P31*'c design-col'!$K$7)+P32*'c design-col'!$K$8+P33*'c design-col'!$K$9+P34*'c design-col'!$K$10+P35*'c design-col'!$K$11","v":675.7328600175},{"$f":"(Q30*'c design-col'!$K$6)+(Q31*'c design-col'!$K$7)+Q32*'c design-col'!$K$8+Q33*'c design-col'!$K$9+Q34*'c design-col'!$K$10+Q35*'c design-col'!$K$11","v":856.61396002319998}]
["ECO2/tonne",{"$f":"B37/B36","v":5.528179716469362E-2},{"$f":"C37/C36","v":6.1338767888453521E-2},6.7714879460483532E-2,7.369715264272611E-2,8.0370158227583324E-2,8.9673277003042937E-2,0.10146906525487498,0.10957961064012499,0.1180545879315,0.12730900873984993,0.14196041788137501,0.16141285086037499,0.19118679471258856,0.2296657056954147,0.28167272197478116,0.35707126303593162]
["ECO2 / m3 / Mpa",{"$f":"B37/B29","v":16.5776289247625},{"$f":"C37/C29","v":12.262642013700001},10.152999739106249,8.8399734594949972,7.7155351898479987,7.1708730510100001,6.9578787603342844,6.5747766384074993,6.29624468968,6.1082862393379989,6.194636416641818,6.4565140344149992,6.5522445787928563,6.8871003495412477,7.5081428890833335,8.5661396002319989]
["ECO2 / tonne / Mpa",{"$f":"B38/B29","v":6.9102246455867026E-3},{"$f":"C38/C29","v":5.1115639907044598E-3},4.2321799662802207E-3,3.6848576321363057E-3,3.2148063291033329E-3,2.9891092334347644E-3,2.8991161501392853E-3,2.7394902660031247E-3,2.6234352873666668E-3,2.5461801747969988E-3,2.581098506934091E-3,2.6902141810062497E-3,2.7312399244655509E-3,2.8708213211926835E-3,3.129696910830902E-3,3.5707126303593162E-3]
[]
["20% PFA, SP"]
["0-10",8,12,16,20,25,30,35,40,45,50,55,60,70,80,90,100]
["Water content",112.5,112.5,112.5,112.5,112.5,112.5,112.5,112.5,112.5,112.5,112.5,112.5,112.5,112.5,112.5,112.5]
["Cement content",115,130,145,160,175,198,227,246,267,290,326,373,446,541,669,854]
["PFA content",29,32,36,40,44,50,57,62,67,73,81,93,112,135,167,214]
["Fine Agg",840,789,748,713,683,646,608,587,566,546,519,488,448,405,354,290]
["Coarse Agg",1318,1350,1372,1388,1399,1408,1410,1407,1401,1392,1375,1347,1295,1221,1111,943]
["Plasticiser dosage",0.6,0.6,0.7,0.8,0.9,1,1.1000000000000001,1.2,1.3,1.5,1.6,1.9,2.2000000000000002,2.7,3.3,4.3]
["Concrete",{"$f":"B44+B45+B46+B47+B48+B49","v":2415.1},{"$f":"C44+C45+C46+C47+C48+C49","v":2414.1},2414.1999999999998,2414.3000000000002,2414.4,2415.5,2415.6,2415.6999999999998,2414.8000000000002,2415,2415.1,2415.4,2415.6999999999998,2417.1999999999998,2416.8000000000002,2417.8000000000002]
["ECO2 / m3",{"$f":"(B44*'c design-col'!$K$6)+(B45*'c design-col'!$K$7)+B46*'c design-col'!$K$8+B47*'c design-col'!$K$9+B48*'c design-col'!$K$10+B49*'c design-col'!$K$11","v":121.42337146399998},{"$f":"(C44*'c design-col'!$K$6)+(C45*'c design-col'!$K$7)+C46*'c design-col'!$K$8+C47*'c design-col'!$K$9+C48*'c design-col'!$K$10+C49*'c design-col'!$K$11","v":135.0560139223},{"$f":"(D44*'c design-col'!$K$6)+(D45*'c design-col'!$K$7)+D46*'c design-col'!$K$8+D47*'c design-col'!$K$9+D48*'c design-col'!$K$10+D49*'c design-col'!$K$11","v":148.6102454876},{"$f":"(E44*'c design-col'!$K$6)+(E45*'c design-col'!$K$7)+E46*'c design-col'!$K$8+E47*'c design-col'!$K$9+E48*'c design-col'!$K$10+E49*'c design-col'!$K$11","v":162.10123020509999},{"$f":"(F44*'c design-col'!$K$6)+(F45*'c design-col'!$K$7)+F46*'c design-col'!$K$8+F47*'c design-col'!$K$9+F48*'c design-col'!$K$10+F49*'c design-col'!$K$11","v":175.53950921609996},{"$f":"(G44*'c design-col'!$K$6)+(G45*'c design-col'!$K$7)+G46*'c design-col'!$K$8+G47*'c design-col'!$K$9+G48*'c design-col'!$K$10+G49*'c design-col'!$K$11","v":196.06096608819999},{"$f":"(H44*'c design-col'!$K$6)+(H45*'c design-col'!$K$7)+H46*'c design-col'!$K$8+H47*'c design-col'!$K$9+H48*'c design-col'!$K$10+H49*'c design-col'!$K$11","v":221.82044076559995},{"$f":"(I44*'c design-col'!$K$6)+(I45*'c design-col'!$K$7)+I46*'c design-col'!$K$8+I47*'c design-col'!$K$9+I48*'c design-col'!$K$10+I49*'c design-col'!$K$11","v":238.66211814489998},{"$f":"(J44*'c design-col'!$K$6)+(J45*'c design-col'!$K$7)+J46*'c design-col'!$K$8+J47*'c design-col'!$K$9+J48*'c design-col'!$K$10+J49*'c design-col'!$K$11","v":257.23300354820003},{"$f":"(K44*'c design-col'!$K$6)+(K45*'c design-col'!$K$7)+K46*'c design-col'!$K$8+K47*'c design-col'!$K$9+K48*'c design-col'!$K$10+K49*'c design-col'!$K$11","v":277.56240894619998},{"$f":"(L44*'c design-col'!$K$6)+(L45*'c design-col'!$K$7)+L46*'c design-col'!$K$8+L47*'c design-col'!$K$9+L48*'c design-col'!$K$10+L49*'c design-col'!$K$11","v":309.31729063329999},{"$f":"(M44*'c design-col'!$K$6)+(M45*'c design-col'!$K$7)+M46*'c design-col'!$K$8+M47*'c design-col'!$K$9+M48*'c design-col'!$K$10+M49*'c design-col'!$K$11","v":350.75226094559997},{"$f":"(N44*'c design-col'!$K$6)+(N45*'c design-col'!$K$7)+N46*'c design-col'!$K$8+N47*'c design-col'!$K$9+N48*'c design-col'!$K$10+N49*'c design-col'!$K$11","v":415.02792139359997},{"$f":"(O44*'c design-col'!$K$6)+(O45*'c design-col'!$K$7)+O46*'c design-col'!$K$8+O47*'c design-col'!$K$9+O48*'c design-col'!$K$10+O49*'c design-col'!$K$11","v":498.56731530549996},{"$f":"(P44*'c design-col'!$K$6)+(P45*'c design-col'!$K$7)+P46*'c design-col'!$K$8+P47*'c design-col'!$K$9+P48*'c design-col'!$K$10+P49*'c design-col'!$K$11","v":611.03666051979985},{"$f":"(Q44*'c design-col'!$K$6)+(Q45*'c design-col'!$K$7)+Q46*'c design-col'!$K$8+Q47*'c design-col'!$K$9+Q48*'c design-col'!$K$10+Q49*'c design-col'!$K$11","v":773.51683391899996}]
["ECO2/tonne",{"$f":"B51/B50","v":5.0276746910686926E-2},{"$f":"C51/C50","v":5.5944664231929085E-2},6.1556724996934806E-2,6.7142124096052677E-2,7.2705230788643119E-2,8.1167860106892975E-2,9.1828299704255656E-2,9.8796257045535449E-2,0.10652352308605267,0.11493267451188405,0.12807639047381061,0.14521497927697274,0.17180441337649544,0.20625819762762701,0.25282880690160536,0.31992589706303248]
["ECO2 / m3 / Mpa",{"$f":"B51/B43","v":15.177921432999998},{"$f":"C51/C43","v":11.254667826858332},9.2881403429749998,8.1050615102550001,7.0215803686439981,6.5353655362733329,6.3377268790171417,5.9665529536224993,5.7162889677377784,5.5512481789239994,5.6239507387872729,5.8458710157599993,5.9289703056228564,6.2320914413187491,6.7892962279977764,7.7351683391899995]
["ECO2 / tonne / Mpa",{"$f":"B52/B43","v":6.2845933638358657E-3},{"$f":"C52/C43","v":4.6620553526607574E-3},3.8472953123084254E-3,3.3571062048026339E-3,2.9082092315457246E-3,2.7055953368964325E-3,2.6236657058358757E-3,2.4699064261383863E-3,2.3671894019122817E-3,2.2986534902376811E-3,2.3286616449783746E-3,2.4202496546162126E-3,2.4543487625213632E-3,2.5782274703453375E-3,2.809208965573393E-3,3.1992589706303248E-3]
[]
["40% PFA, No SP"]
["0-10",8,12,16,20,25,30,35,40,45,50,55,60,70,80,90,100]
["Water content",115,115,115,115,115,115,115,115,115,115,115,115,115,115,115,115]
["Cement content",105,119,132,146,160,181,208,226,245,266,298,342,409,495,613,782]
["PFA content",70,79,88,97,107,121,138,150,163,177,199,228,272,330,408,522]
["Fine Agg",825,774,732,697,665,627,588,565,543,522,493,459,415,366,308,233]
["Coarse Agg",1295,1324,1343,1356,1363,1367,1362,1355,1345,1331,1306,1267,1200,1105,967,759]
["Plasticiser dosage"]
["Concrete",{"$f":"B58+B59+B60+B61+B62","v":2410},{"$f":"C58+C59+C60+C61+C62","v":2411},2410,2411,2410,2411,2411,2411,2411,2411,2411,2411,2411,2411,2411,2411]
["ECO2 / m3",{"$f":"(B58*'c design-col'!$K$6)+(B59*'c design-col'!$K$7)+B60*'c design-col'!$K$8+B61*'c design-col'!$K$9+B62*'c design-col'!$K$10+B63*'c design-col'!$K$11","v":113.36375796749998},{"$f":"(C58*'c design-col'!$K$6)+(C59*'c design-col'!$K$7)+C60*'c design-col'!$K$8+C61*'c design-col'!$K$9+C62*'c design-col'!$K$10+C63*'c design-col'!$K$11","v":126.23595974979997},{"$f":"(D58*'c design-col'!$K$6)+(D59*'c design-col'!$K$7)+D60*'c design-col'!$K$8+D61*'c design-col'!$K$9+D62*'c design-col'!$K$10+D63*'c design-col'!$K$11","v":138.11655576839999},{"$f":"(E58*'c design-col'!$K$6)+(E59*'c design-col'!$K$7)+E60*'c design-col'!$K$8+E61*'c design-col'!$K$9+E62*'c design-col'!$K$10+E63*'c design-col'!$K$11","v":150.82009928989999},{"$f":"(F58*'c design-col'!$K$6)+(F59*'c design-col'!$K$7)+F60*'c design-col'!$K$8+F61*'c design-col'!$K$9+F62*'c design-col'!$K$10+F63*'c design-col'!$K$11","v":163.4804616115},{"$f":"(G58*'c design-col'!$K$6)+(G59*'c design-col'!$K$7)+G60*'c design-col'!$K$8+G61*'c design-col'!$K$9+G62*'c design-col'!$K$10+G63*'c design-col'!$K$11","v":182.38357775289998},{"$f":"(H58*'c design-col'!$K$6)+(H59*'c design-col'!$K$7)+H60*'c design-col'!$K$8+H61*'c design-col'!$K$9+H62*'c design-col'!$K$10+H63*'c design-col'!$K$11","v":206.5530065156},{"$f":"(I58*'c design-col'!$K$6)+(I59*'c design-col'!$K$7)+I60*'c design-col'!$K$8+I61*'c design-col'!$K$9+I62*'c design-col'!$K$10+I63*'c design-col'!$K$11","v":222.64376720550001},{"$f":"(J58*'c design-col'!$K$6)+(J59*'c design-col'!$K$7)+J60*'c design-col'!$K$8+J61*'c design-col'!$K$9+J62*'c design-col'!$K$10+J63*'c design-col'!$K$11","v":239.60916447010001},{"$f":"(K58*'c design-col'!$K$6)+(K59*'c design-col'!$K$7)+K60*'c design-col'!$K$8+K61*'c design-col'!$K$9+K62*'c design-col'!$K$10+K63*'c design-col'!$K$11","v":258.32022861740001},{"$f":"(L58*'c design-col'!$K$6)+(L59*'c design-col'!$K$7)+L60*'c design-col'!$K$8+L61*'c design-col'!$K$9+L62*'c design-col'!$K$10+L63*'c design-col'!$K$11","v":286.81013454710001},{"$f":"(M58*'c design-col'!$K$6)+(M59*'c design-col'!$K$7)+M60*'c design-col'!$K$8+M61*'c design-col'!$K$9+M62*'c design-col'!$K$10+M63*'c design-col'!$K$11","v":325.90414173529996},{"$f":"(N58*'c design-col'!$K$6)+(N59*'c design-col'!$K$7)+N60*'c design-col'!$K$8+N61*'c design-col'!$K$9+N62*'c design-col'!$K$10+N63*'c design-col'!$K$11","v":385.34946854049997},{"$f":"(O58*'c design-col'!$K$6)+(O59*'c design-col'!$K$7)+O60*'c design-col'!$K$8+O61*'c design-col'!$K$9+O62*'c design-col'!$K$10+O63*'c design-col'!$K$11","v":461.59514061620001},{"$f":"(P58*'c design-col'!$K$6)+(P59*'c design-col'!$K$7)+P60*'c design-col'!$K$8+P61*'c design-col'!$K$9+P62*'c design-col'!$K$10+P63*'c design-col'!$K$11","v":566.09160097959989},{"$f":"(Q58*'c design-col'!$K$6)+(Q59*'c design-col'!$K$7)+Q60*'c design-col'!$K$8+Q61*'c design-col'!$K$9+Q62*'c design-col'!$K$10+Q63*'c design-col'!$K$11","v":715.69911314109993}]
["ECO2/tonne",{"$f":"B65/B64","v":4.7038903720954345E-2},{"$f":"C65/C64","v":5.2358340833596008E-2},5.7309774177759329E-2,6.2554997631646611E-2,6.7834216436307063E-2,7.5646444526296139E-2,8.5671093536126092E-2,9.2344988471795939E-2,9.9381652621360436E-2,0.10714235944313563,0.11895899400543343,0.13517384559738696,0.15982972564931563,0.19145381195197014,0.23479535503094148,0.2968474131651182]
["ECO2 / m3 / Mpa",{"$f":"B65/B57","v":14.170469745937497},{"$f":"C65/C57","v":10.519663312483331},8.6322847355249994,7.5410049644949995,6.5392184644600002,6.0794525917633324,5.901514471874286,5.5660941801375001,5.3246480993355556,5.1664045723480001,5.2147297190381821,5.4317356955883325,5.5049924077214278,5.7699392577025002,6.2899066775511097,7.1569911314109991]
["ECO2 / tonne / Mpa",{"$f":"B66/B57","v":5.8798629651192931E-3},{"$f":"C66/C57","v":4.363195069466334E-3},3.5818608861099581E-3,3.1277498815823306E-3,2.7133686574522826E-3,2.521548150876538E-3,2.4477455296036026E-3,2.3086247117948986E-3,2.2084811693635653E-3,2.1428471888627126E-3,2.1628908000987895E-3,2.252897426623116E-3,2.2832817949902232E-3,2.3931726493996268E-3,2.6088372781215719E-3,2.9684741316511822E-3]
[]
["40% PFA, SP"]
["0-10",8,12,16,20,25,30,35,40,45,50,55,60,70,80,90,100]
["Water content",103.5,103.5,103.5,103.5,103.5,103.5,103.5,103.5,103.5,103.5,103.5,103.5,103.5,103.5,103.5,103.5]
["Cement content",95,107,119,132,144,163,187,203,220,239,269,308,368,446,551,704]
["PFA content",63,71,79,88,96,109,125,135,147,159,179,205,245,297,368,469]
["Fine Agg",842,790,749,713,682,644,606,583,562,541,513,481,439,393,339,270]
["Coarse Agg",1321,1352,1373,1388,1398,1404,1403,1399,1391,1381,1360,1327,1269,1185,1063,877]
["Plasticiser dosage",0.6,0.7,0.8,0.9,1,1.1000000000000001,1.2,1.4,1.5,1.6,1.8,2.1,2.5,3,3.7,4.7]
["Concrete",{"$f":"B72+B73+B74+B75+B76+B77","v":2425.1},{"$f":"C72+C73+C74+C75+C76","v":2423.5},2423.5,2424.5,2423.5,2423.5,2424.5,2423.5,2423.5,2423.5,2424.5,2424.5,2424.5,2424.5,2424.5,2423.5]
["ECO2 / m3",{"$f":"(B72*'c design-col'!$K$6)+(B73*'c design-col'!$K$7)+B74*'c design-col'!$K$8+B75*'c design-col'!$K$9+B76*'c design-col'!$K$10+B77*'c design-col'!$K$11","v":104.69789414139998},{"$f":"(C72*'c design-col'!$K$6)+(C73*'c design-col'!$K$7)+C74*'c design-col'!$K$8+C75*'c design-col'!$K$9+C76*'c design-col'!$K$10+C77*'c design-col'!$K$11","v":115.798724377},{"$f":"(D72*'c design-col'!$K$6)+(D73*'c design-col'!$K$7)+D74*'c design-col'!$K$8+D75*'c design-col'!$K$9+D76*'c design-col'!$K$10+D77*'c design-col'!$K$11","v":126.79645465029998},{"$f":"(E72*'c design-col'!$K$6)+(E73*'c design-col'!$K$7)+E74*'c design-col'!$K$8+E75*'c design-col'!$K$9+E76*'c design-col'!$K$10+E77*'c design-col'!$K$11","v":138.63950952509998},{"$f":"(F72*'c design-col'!$K$6)+(F73*'c design-col'!$K$7)+F74*'c design-col'!$K$8+F75*'c design-col'!$K$9+F76*'c design-col'!$K$10+F77*'c design-col'!$K$11","v":149.51897579340002},{"$f":"(G72*'c design-col'!$K$6)+(G73*'c design-col'!$K$7)+G74*'c design-col'!$K$8+G75*'c design-col'!$K$9+G76*'c design-col'!$K$10+G77*'c design-col'!$K$11","v":166.65303183879999},{"$f":"(H72*'c design-col'!$K$6)+(H73*'c design-col'!$K$7)+H74*'c design-col'!$K$8+H75*'c design-col'!$K$9+H76*'c design-col'!$K$10+H77*'c design-col'!$K$11","v":188.19753424019996},{"$f":"(I72*'c design-col'!$K$6)+(I73*'c design-col'!$K$7)+I74*'c design-col'!$K$8+I75*'c design-col'!$K$9+I76*'c design-col'!$K$10+I77*'c design-col'!$K$11","v":202.50508794609999},{"$f":"(J72*'c design-col'!$K$6)+(J73*'c design-col'!$K$7)+J74*'c design-col'!$K$8+J75*'c design-col'!$K$9+J76*'c design-col'!$K$10+J77*'c design-col'!$K$11","v":217.70373656539996},{"$f":"(K72*'c design-col'!$K$6)+(K73*'c design-col'!$K$7)+K74*'c design-col'!$K$8+K75*'c design-col'!$K$9+K76*'c design-col'!$K$10+K77*'c design-col'!$K$11","v":234.6444458007},{"$f":"(L72*'c design-col'!$K$6)+(L73*'c design-col'!$K$7)+L74*'c design-col'!$K$8+L75*'c design-col'!$K$9+L76*'c design-col'!$K$10+L77*'c design-col'!$K$11","v":261.36630878909995},{"$f":"(M72*'c design-col'!$K$6)+(M73*'c design-col'!$K$7)+M74*'c design-col'!$K$8+M75*'c design-col'!$K$9+M76*'c design-col'!$K$10+M77*'c design-col'!$K$11","v":296.04164149070004},{"$f":"(N72*'c design-col'!$K$6)+(N73*'c design-col'!$K$7)+N74*'c design-col'!$K$8+N75*'c design-col'!$K$9+N76*'c design-col'!$K$10+N77*'c design-col'!$K$11","v":349.31208630529994},{"$f":"(O72*'c design-col'!$K$6)+(O73*'c design-col'!$K$7)+O74*'c design-col'!$K$8+O75*'c design-col'!$K$9+O76*'c design-col'!$K$10+O77*'c design-col'!$K$11","v":418.47301064509998},{"$f":"(P72*'c design-col'!$K$6)+(P73*'c design-col'!$K$7)+P74*'c design-col'!$K$8+P75*'c design-col'!$K$9+P76*'c design-col'!$K$10+P77*'c design-col'!$K$11","v":511.50488422329994},{"$f":"(Q72*'c design-col'!$K$6)+(Q73*'c design-col'!$K$7)+Q74*'c design-col'!$K$8+Q75*'c design-col'!$K$9+Q76*'c design-col'!$K$10+Q77*'c design-col'!$K$11","v":646.91590091299997}]
["ECO2/tonne",{"$f":"B79/B78","v":4.3172609022885652E-2},{"$f":"C79/C78","v":4.7781606922632558E-2},5.2319560408623879E-2,5.7182722014889657E-2,6.1695471753001864E-2,6.8765435047988446E-2,7.7623235405320665E-2,8.355893870274396E-2,8.9830301863173076E-2,9.6820485166370956E-2,0.10780214839723652,0.1221042035432873,0.14407592753363577,0.17260177795219631,0.2109733488237987,0.26693455783494946]
["ECO2 / m3 / Mpa",{"$f":"B79/B71","v":13.087236767674998},{"$f":"C79/C71","v":9.6498936980833339},7.9247784156437486,6.9319754762549994,5.9807590317360004,5.5551010612933327,5.3770724068628555,5.0626271986524998,4.8378608125644433,4.6928889160139997,4.7521147052563624,4.9340273581783345,4.9901726615042845,5.2309126330637499,5.6833876024811101,6.4691590091299993]
["ECO2 / tonne / Mpa",{"$f":"B80/B71","v":5.3965761278607065E-3},{"$f":"C80/C71","v":3.9818005768860465E-3},3.2699725255389924E-3,2.859136100744483E-3,2.4678188701200746E-3,2.2921811682662815E-3,2.2178067258663047E-3,2.0889734675685989E-3,1.9962289302927348E-3,1.9364097033274191E-3,1.9600390617679369E-3,2.0350700590547883E-3,2.0582275361947966E-3,2.1575222244024539E-3,2.3441483202644299E-3,2.6693455783494946E-3]
[]
["0% PFA, No SP"]
["10-30",8,12,16,20,25,30,35,40,45,50,55,60,70,80,90,100]
["Water content",160,160,160,160,160,160,160,160,160,160,160,160,160,160,160,160]
["Cement content",176,199,221,244,268,303,347,376,409,444,498,571,682,827,1023,1306]
["ECO2 / m3",0,0,0,0,0,0,0,0,0,0,0,0,0,0,0,0]
["ECO2/tonne",835,783,741,706,674,635,595,572,550,528,498,463,417,366,305,225]
["ECO2 / m3 / Mpa",1188,1217,1237,1250,1258,1261,1257,1250,1241,1227,1203,1165,1100,1006,871,668]
["ECO2 / tonne / Mpa",0,0,0,0,0,0,0,0,0,0,0,0,0,0,0,0]
["Concrete",{"$f":"SUM(B86:B91)","v":2359},2359,2359,2360,2360,2359,2359,2358,2360,2359,2359,2359,2359,2359,2359,2359]
["ECO2 / m3",{"$f":"(B86*'c design-col'!$K$6)+(B87*'c design-col'!$K$7)+B88*'c design-col'!$K$8+B89*'c design-col'!$K$9+B90*'c design-col'!$K$10+B91*'c design-col'!$K$11","v":172.92233103049998},{"$f":"(C86*'c design-col'!$K$6)+(C87*'c design-col'!$K$7)+C88*'c design-col'!$K$8+C89*'c design-col'!$K$9+C90*'c design-col'!$K$10+C91*'c design-col'!$K$11","v":193.50416746209999},{"$f":"(D86*'c design-col'!$K$6)+(D87*'c design-col'!$K$7)+D88*'c design-col'!$K$8+D89*'c design-col'!$K$9+D90*'c design-col'!$K$10+D91*'c design-col'!$K$11","v":213.10956217269995},{"$f":"(E86*'c design-col'!$K$6)+(E87*'c design-col'!$K$7)+E88*'c design-col'!$K$8+E89*'c design-col'!$K$9+E90*'c design-col'!$K$10+E91*'c design-col'!$K$11","v":233.52505179419998},{"$f":"(F86*'c design-col'!$K$6)+(F87*'c design-col'!$K$7)+F88*'c design-col'!$K$8+F89*'c design-col'!$K$9+F90*'c design-col'!$K$10+F91*'c design-col'!$K$11","v":254.76709570779997},{"$f":"(G86*'c design-col'!$K$6)+(G87*'c design-col'!$K$7)+G88*'c design-col'!$K$8+G89*'c design-col'!$K$9+G90*'c design-col'!$K$10+G91*'c design-col'!$K$11","v":285.65140840650002},{"$f":"(H86*'c design-col'!$K$6)+(H87*'c design-col'!$K$7)+H88*'c design-col'!$K$8+H89*'c design-col'!$K$9+H90*'c design-col'!$K$10+H91*'c design-col'!$K$11","v":324.39838761050004},{"$f":"(I86*'c design-col'!$K$6)+(I87*'c design-col'!$K$7)+I88*'c design-col'!$K$8+I89*'c design-col'!$K$9+I90*'c design-col'!$K$10+I91*'c design-col'!$K$11","v":349.88786020039998},{"$f":"(J86*'c design-col'!$K$6)+(J87*'c design-col'!$K$7)+J88*'c design-col'!$K$8+J89*'c design-col'!$K$9+J90*'c design-col'!$K$10+J91*'c design-col'!$K$11","v":378.889470657},{"$f":"(K86*'c design-col'!$K$6)+(K87*'c design-col'!$K$7)+K88*'c design-col'!$K$8+K89*'c design-col'!$K$9+K90*'c design-col'!$K$10+K91*'c design-col'!$K$11","v":409.59458395360002},{"$f":"(L86*'c design-col'!$K$6)+(L87*'c design-col'!$K$7)+L88*'c design-col'!$K$8+L89*'c design-col'!$K$9+L90*'c design-col'!$K$10+L91*'c design-col'!$K$11","v":456.94645482459998},{"$f":"(M86*'c design-col'!$K$6)+(M87*'c design-col'!$K$7)+M88*'c design-col'!$K$8+M89*'c design-col'!$K$9+M90*'c design-col'!$K$10+M91*'c design-col'!$K$11","v":520.90060725410001},{"$f":"(N86*'c design-col'!$K$6)+(N87*'c design-col'!$K$7)+N88*'c design-col'!$K$8+N89*'c design-col'!$K$9+N90*'c design-col'!$K$10+N91*'c design-col'!$K$11","v":618.06986394189994},{"$f":"(O86*'c design-col'!$K$6)+(O87*'c design-col'!$K$7)+O88*'c design-col'!$K$8+O89*'c design-col'!$K$9+O90*'c design-col'!$K$10+O91*'c design-col'!$K$11","v":744.9068568081999},{"$f":"(P86*'c design-col'!$K$6)+(P87*'c design-col'!$K$7)+P88*'c design-col'!$K$8+P89*'c design-col'!$K$9+P90*'c design-col'!$K$10+P91*'c design-col'!$K$11","v":916.27180679549997},{"$f":"(Q86*'c design-col'!$K$6)+(Q87*'c design-col'!$K$7)+Q88*'c design-col'!$K$8+Q89*'c design-col'!$K$9+Q90*'c design-col'!$K$10+Q91*'c design-col'!$K$11","v":1163.6166752634999}]
["ECO2/tonne",{"$f":"B93/B92","v":7.3303234858202615E-2},{"$f":"C93/C92","v":8.2028048945358201E-2},9.0338941149936389E-2,9.8951293133135582E-2,0.10795215919822032,0.1210900417153455,0.13751521306083087,0.14838331645479219,0.16054638587161016,0.17363059938685885,0.19370345689894022,0.22081416161682918,0.26200502922505298,0.31577230046977528,0.38841534836604491,0.49326692465599825]
["ECO2 / m3 / Mpa",{"$f":"B93/B85","v":21.615291378812497},{"$f":"C93/C85","v":16.125347288508333},13.319347635793747,11.67625258971,10.190683828311998,9.5217136135500002,9.2685253603000017,8.7471965050099989,8.4197660146000004,8.1918916790720004,8.3081173604472731,8.6816767875683336,8.8295694848842849,9.3113357101024992,10.180797853283334,11.636166752634999]
["ECO2 / tonne / Mpa",{"$f":"B94/B85","v":9.1629043572753269E-3},{"$f":"C94/C85","v":6.8356707454465164E-3},5.6461838218710243E-3,4.9475646566567791E-3,4.3180863679288129E-3,4.0363347238448503E-3,3.9290060874523107E-3,3.7095829113698046E-3,3.5676974638135591E-3,3.4726119877371768E-3,3.5218810345261859E-3,3.6802360269471532E-3,3.7429289889293282E-3,3.9471537558721913E-3,4.3157260929560549E-3,4.9326692465599823E-3]
[]
["0% PFA, SP"]
["10-30",8,12,16,20,25,30,35,40,45,50,55,60,70,80,90,100]
["Water content",144,144,144,144,144,144,144,144,144,144,144,144,144,144,144,144]
["Cement content",158,179,199,220,241,273,312,339,368,399,448,514,614,744,921,1176]
["PFA content",0,0,0,0,0,0,0,0,0,0,0,0,0,0,0,0]
["Fine Agg",857,805,762,727,695,657,618,595,573,552,523,489,446,397,340,267]
["Coarse Agg",1219,1250,1272,1287,1297,1304,1304,1300,1293,1282,1262,1231,1174,1092,973,791]
["Plasticiser dosage",0.6,0.7,0.8,0.9,1,1.1000000000000001,1.2,1.4,1.5,1.6,1.8,2.1,2.5,3,3.7,4.7]
["Concrete",{"$f":"B100+B101+B102+B103+B104+B105","v":2378.6},2378.6999999999998,2377.8000000000002,2378.9,2378,2379.1,2379.1999999999998,2379.4,2379.5,2378.6,2378.8000000000002,2380.1,2380.5,2380,2381.6999999999998,2382.6999999999998]
["ECO2 / m3",{"$f":"(B100*'c design-col'!$K$6)+(B101*'c design-col'!$K$7)+B102*'c design-col'!$K$8+B103*'c design-col'!$K$9+B104*'c design-col'!$K$10+B105*'c design-col'!$K$11","v":157.44572421789999},{"$f":"(C100*'c design-col'!$K$6)+(C101*'c design-col'!$K$7)+C102*'c design-col'!$K$8+C103*'c design-col'!$K$9+C104*'c design-col'!$K$10+C105*'c design-col'!$K$11","v":176.28550055349999},{"$f":"(D100*'c design-col'!$K$6)+(D101*'c design-col'!$K$7)+D102*'c design-col'!$K$8+D103*'c design-col'!$K$9+D104*'c design-col'!$K$10+D105*'c design-col'!$K$11","v":194.14652371740002},{"$f":"(E100*'c design-col'!$K$6)+(E101*'c design-col'!$K$7)+E102*'c design-col'!$K$8+E103*'c design-col'!$K$9+E104*'c design-col'!$K$10+E105*'c design-col'!$K$11","v":212.81995324289997},{"$f":"(F100*'c design-col'!$K$6)+(F101*'c design-col'!$K$7)+F102*'c design-col'!$K$8+F103*'c design-col'!$K$9+F104*'c design-col'!$K$10+F105*'c design-col'!$K$11","v":231.43605416049999},{"$f":"(G100*'c design-col'!$K$6)+(G101*'c design-col'!$K$7)+G102*'c design-col'!$K$8+G103*'c design-col'!$K$9+G104*'c design-col'!$K$10+G105*'c design-col'!$K$11","v":259.72244049789998},{"$f":"(H100*'c design-col'!$K$6)+(H101*'c design-col'!$K$7)+H102*'c design-col'!$K$8+H103*'c design-col'!$K$9+H104*'c design-col'!$K$10+H105*'c design-col'!$K$11","v":294.10372754059995},{"$f":"(I100*'c design-col'!$K$6)+(I101*'c design-col'!$K$7)+I102*'c design-col'!$K$8+I103*'c design-col'!$K$9+I104*'c design-col'!$K$10+I105*'c design-col'!$K$11","v":317.86399314649998},{"$f":"(J100*'c design-col'!$K$6)+(J101*'c design-col'!$K$7)+J102*'c design-col'!$K$8+J103*'c design-col'!$K$9+J104*'c design-col'!$K$10+J105*'c design-col'!$K$11","v":343.35577770709995},{"$f":"(K100*'c design-col'!$K$6)+(K101*'c design-col'!$K$7)+K102*'c design-col'!$K$8+K103*'c design-col'!$K$9+K104*'c design-col'!$K$10+K105*'c design-col'!$K$11","v":370.56622915039998},{"$f":"(L100*'c design-col'!$K$6)+(L101*'c design-col'!$K$7)+L102*'c design-col'!$K$8+L103*'c design-col'!$K$9+L104*'c design-col'!$K$10+L105*'c design-col'!$K$11","v":413.55240838009996},{"$f":"(M100*'c design-col'!$K$6)+(M101*'c design-col'!$K$7)+M102*'c design-col'!$K$8+M103*'c design-col'!$K$9+M104*'c design-col'!$K$10+M105*'c design-col'!$K$11","v":471.41166166429997},{"$f":"(N100*'c design-col'!$K$6)+(N101*'c design-col'!$K$7)+N102*'c design-col'!$K$8+N103*'c design-col'!$K$9+N104*'c design-col'!$K$10+N105*'c design-col'!$K$11","v":558.96796362019995},{"$f":"(O100*'c design-col'!$K$6)+(O101*'c design-col'!$K$7)+O102*'c design-col'!$K$8+O103*'c design-col'!$K$9+O104*'c design-col'!$K$10+O105*'c design-col'!$K$11","v":672.70556959189992},{"$f":"(P100*'c design-col'!$K$6)+(P101*'c design-col'!$K$7)+P102*'c design-col'!$K$8+P103*'c design-col'!$K$9+P104*'c design-col'!$K$10+P105*'c design-col'!$K$11","v":827.4916353939999},{"$f":"(Q100*'c design-col'!$K$6)+(Q101*'c design-col'!$K$7)+Q102*'c design-col'!$K$8+Q103*'c design-col'!$K$9+Q104*'c design-col'!$K$10+Q105*'c design-col'!$K$11","v":1050.3738724488999}]
["ECO2/tonne",{"$f":"B107/B106","v":6.6192602462751202E-2},{"$f":"C107/C106","v":7.4110018309791068E-2},8.1649644090083268E-2,8.9461496171718002E-2,9.7323824289529015E-2,0.10916835799163549,0.12361454587281438,0.13358997778704715,0.14429744808031097,0.15579173848078701,0.17384917117037998,0.1980638047411033,0.2348111588406637,0.28264939898819325,0.34743739152454128,0.44083345467280816]
["ECO2 / m3 / Mpa",{"$f":"B107/B99","v":19.680715527237499},{"$f":"C107/C99","v":14.690458379458333},12.134157732337501,10.640997662144999,9.2574421664199988,8.6574146832633332,8.4029636440171416,7.9465998286624995,7.6301283934911099,7.4113245830079997,7.5191346978199993,7.8568610277383328,7.9852566231457134,8.4088196198987486,9.1943515043777762,10.503738724488999]
["ECO2 / tonne / Mpa",{"$f":"B108/B99","v":8.2740753078439002E-3},{"$f":"C108/C99","v":6.1758348591492559E-3},5.1031027556302042E-3,4.4730748085859001E-3,3.8929529715811604E-3,3.6389452663878495E-3,3.5318441677946967E-3,3.3397494446761786E-3,3.206609957340244E-3,3.1158347696157401E-3,3.1608940212796361E-3,3.3010634123517217E-3,3.3544451262951958E-3,3.5331174873524155E-3,3.8604154613837921E-3,4.4083345467280819E-3]
[]
["20% PFA, No SP"]
["10-30",8,12,16,20,25,30,35,40,45,50,55,60,70,80,90,100]
["Water content",150,150,150,150,150,150,150,150,150,150,150,150,150,150,150,150]
["Cement content",153,173,193,213,234,264,302,328,356,387,435,498,595,721,892,1139]
["PFA content",38,43,48,53,58,66,76,82,89,97,109,124,149,180,223,285]
["Fine Agg",837,785,742,705,673,633,592,568,545,523,491,455,406,352,287,201]
["Coarse Agg",1192,1220,1238,1249,1255,1257,1251,1242,1230,1214,1186,1144,1071,967,819,596]
["Plasticiser dosage"]
["Concrete",{"$f":"B114+B115+B116+B117+B118","v":2370},2371,2371,2370,2370,2370,2371,2370,2370,2371,2371,2371,2371,2370,2371,2371]
["ECO2 / m3",{"$f":"(B114*'c design-col'!$K$6)+(B115*'c design-col'!$K$7)+B116*'c design-col'!$K$8+B117*'c design-col'!$K$9+B118*'c design-col'!$K$10+B119*'c design-col'!$K$11","v":153.6650575999},{"$f":"(C114*'c design-col'!$K$6)+(C115*'c design-col'!$K$7)+C116*'c design-col'!$K$8+C117*'c design-col'!$K$9+C118*'c design-col'!$K$10+C119*'c design-col'!$K$11","v":171.71739273949999},{"$f":"(D114*'c design-col'!$K$6)+(D115*'c design-col'!$K$7)+D116*'c design-col'!$K$8+D117*'c design-col'!$K$9+D118*'c design-col'!$K$10+D119*'c design-col'!$K$11","v":189.66200501539996},{"$f":"(E114*'c design-col'!$K$6)+(E115*'c design-col'!$K$7)+E116*'c design-col'!$K$8+E117*'c design-col'!$K$9+E118*'c design-col'!$K$10+E119*'c design-col'!$K$11","v":207.53051785150001},{"$f":"(F114*'c design-col'!$K$6)+(F115*'c design-col'!$K$7)+F116*'c design-col'!$K$8+F117*'c design-col'!$K$9+F118*'c design-col'!$K$10+F119*'c design-col'!$K$11","v":226.2302078811},{"$f":"(G114*'c design-col'!$K$6)+(G115*'c design-col'!$K$7)+G116*'c design-col'!$K$8+G117*'c design-col'!$K$9+G118*'c design-col'!$K$10+G119*'c design-col'!$K$11","v":252.89594203709999},{"$f":"(H114*'c design-col'!$K$6)+(H115*'c design-col'!$K$7)+H116*'c design-col'!$K$8+H117*'c design-col'!$K$9+H118*'c design-col'!$K$10+H119*'c design-col'!$K$11","v":286.58160720639995},{"$f":"(I114*'c design-col'!$K$6)+(I115*'c design-col'!$K$7)+I116*'c design-col'!$K$8+I117*'c design-col'!$K$9+I118*'c design-col'!$K$10+I119*'c design-col'!$K$11","v":309.55341446159997},{"$f":"(J114*'c design-col'!$K$6)+(J115*'c design-col'!$K$7)+J116*'c design-col'!$K$8+J117*'c design-col'!$K$9+J118*'c design-col'!$K$10+J119*'c design-col'!$K$11","v":334.28374119149993},{"$f":"(K114*'c design-col'!$K$6)+(K115*'c design-col'!$K$7)+K116*'c design-col'!$K$8+K117*'c design-col'!$K$9+K118*'c design-col'!$K$10+K119*'c design-col'!$K$11","v":361.64361770409988},{"$f":"(L114*'c design-col'!$K$6)+(L115*'c design-col'!$K$7)+L116*'c design-col'!$K$8+L117*'c design-col'!$K$9+L118*'c design-col'!$K$10+L119*'c design-col'!$K$11","v":403.96015790569999},{"$f":"(M114*'c design-col'!$K$6)+(M115*'c design-col'!$K$7)+M116*'c design-col'!$K$8+M117*'c design-col'!$K$9+M118*'c design-col'!$K$10+M119*'c design-col'!$K$11","v":459.42675951649994},{"$f":"(N114*'c design-col'!$K$6)+(N115*'c design-col'!$K$7)+N116*'c design-col'!$K$8+N117*'c design-col'!$K$9+N118*'c design-col'!$K$10+N119*'c design-col'!$K$11","v":544.78690051620003},{"$f":"(O114*'c design-col'!$K$6)+(O115*'c design-col'!$K$7)+O116*'c design-col'!$K$8+O117*'c design-col'!$K$9+O118*'c design-col'!$K$10+O119*'c design-col'!$K$11","v":655.53165801039995},{"$f":"(P114*'c design-col'!$K$6)+(P115*'c design-col'!$K$7)+P116*'c design-col'!$K$8+P117*'c design-col'!$K$9+P118*'c design-col'!$K$10+P119*'c design-col'!$K$11","v":805.78420599889989},{"$f":"(Q114*'c design-col'!$K$6)+(Q115*'c design-col'!$K$7)+Q116*'c design-col'!$K$8+Q117*'c design-col'!$K$9+Q118*'c design-col'!$K$10+Q119*'c design-col'!$K$11","v":1022.7123695227}]
["ECO2/tonne",{"$f":"B121/B120","v":6.4837577046371303E-2},{"$f":"C121/C120","v":7.2424037427035001E-2},7.9992410381864179E-2,8.7565619346624476E-2,9.5455783916075954E-2,0.10670714853886075,0.12086950957671866,0.13061325504708859,0.14104799206392402,0.15252788599919859,0.17037543564137494,0.1937691942288064,0.2297709407491354,0.27659563629130801,0.33984993926566842,0.43134220561902148]
["ECO2 / m3 / Mpa",{"$f":"B121/B113","v":19.208132199987499},{"$f":"C121/C113","v":14.309782728291665},11.853875313462497,10.376525892575,9.0492083152439999,8.4298647345699997,8.188045920182855,7.7388353615399996,7.4285275820333316,7.2328723540819979,7.3447301437399997,7.657112658608332,7.7826700073742865,8.1941457251299994,8.9531578444322211,10.227123695227]
["ECO2 / tonne / Mpa",{"$f":"B122/B113","v":8.1046971307964129E-3},{"$f":"C122/C113","v":6.0353364522529171E-3},4.9995256488665112E-3,4.3782809673312238E-3,3.8182313566430381E-3,3.5569049512953585E-3,3.4534145593348186E-3,3.265331376177215E-3,3.1343998236427559E-3,3.0505577199839719E-3,3.0977351934795444E-3,3.2294865704801065E-3,3.2824420107019341E-3,3.4574454536413501E-3,3.7761104362852046E-3,4.3134220561902147E-3]
[]
["20% PFA, SP"]
["10-30",8,12,16,20,25,30,35,40,45,50,55,60,70,80,90,100]
["Water content",135,135,135,135,135,135,135,135,135,135,135,135,135,135,135,135]
["Cement content",138,156,174,192,210,238,272,295,321,348,391,448,535,649,803,1025]
["PFA content",34,39,43,48,53,59,68,74,80,87,98,112,134,162,201,256]
["Fine Agg",859,806,763,727,695,655,615,591,569,547,516,482,436,385,324,245]
["Coarse Agg",1222,1252,1273,1287,1295,1301,1298,1292,1283,1271,1248,1211,1148,1057,925,726]
["Plasticiser dosage",0.7,0.8,0.9,1,1.1000000000000001,1.2,1.4,1.5,1.6,1.7,2,2.2000000000000002,2.7,3.2,4,5.0999999999999996]
["Concrete",{"$f":"SUM(B128:B133)","v":2388.6999999999998},2388.8000000000002,2388.9,2390,2389.1,2389.1999999999998,2389.4,2388.5,2389.6,2389.6999999999998,2390,2390.1999999999998,2390.6999999999998,2391.1999999999998,2392,2392.1]
["ECO2 / m3",{"$f":"(B128*'c design-col'!$K$6)+(B129*'c design-col'!$K$7)+B130*'c design-col'!$K$8+B131*'c design-col'!$K$9+B132*'c design-col'!$K$10+B133*'c design-col'!$K$11","v":140.72024741529998},{"$f":"(C128*'c design-col'!$K$6)+(C129*'c design-col'!$K$7)+C130*'c design-col'!$K$8+C131*'c design-col'!$K$9+C132*'c design-col'!$K$10+C133*'c design-col'!$K$11","v":157.0282110082},{"$f":"(D128*'c design-col'!$K$6)+(D129*'c design-col'!$K$7)+D130*'c design-col'!$K$8+D131*'c design-col'!$K$9+D132*'c design-col'!$K$10+D133*'c design-col'!$K$11","v":173.2166157801},{"$f":"(E128*'c design-col'!$K$6)+(E129*'c design-col'!$K$7)+E130*'c design-col'!$K$8+E131*'c design-col'!$K$9+E132*'c design-col'!$K$10+E133*'c design-col'!$K$11","v":189.35823256289999},{"$f":"(F128*'c design-col'!$K$6)+(F129*'c design-col'!$K$7)+F130*'c design-col'!$K$8+F131*'c design-col'!$K$9+F132*'c design-col'!$K$10+F133*'c design-col'!$K$11","v":205.43197959649996},{"$f":"(G128*'c design-col'!$K$6)+(G129*'c design-col'!$K$7)+G130*'c design-col'!$K$8+G131*'c design-col'!$K$9+G132*'c design-col'!$K$10+G133*'c design-col'!$K$11","v":230.32735884049995},{"$f":"(H128*'c design-col'!$K$6)+(H129*'c design-col'!$K$7)+H130*'c design-col'!$K$8+H131*'c design-col'!$K$9+H132*'c design-col'!$K$10+H133*'c design-col'!$K$11","v":260.49136267649999},{"$f":"(I128*'c design-col'!$K$6)+(I129*'c design-col'!$K$7)+I130*'c design-col'!$K$8+I131*'c design-col'!$K$9+I132*'c design-col'!$K$10+I133*'c design-col'!$K$11","v":280.85007952769996},{"$f":"(J128*'c design-col'!$K$6)+(J129*'c design-col'!$K$7)+J130*'c design-col'!$K$8+J131*'c design-col'!$K$9+J132*'c design-col'!$K$10+J133*'c design-col'!$K$11","v":303.82651020430001},{"$f":"(K128*'c design-col'!$K$6)+(K129*'c design-col'!$K$7)+K130*'c design-col'!$K$8+K131*'c design-col'!$K$9+K132*'c design-col'!$K$10+K133*'c design-col'!$K$11","v":327.67526600489998},{"$f":"(L128*'c design-col'!$K$6)+(L129*'c design-col'!$K$7)+L130*'c design-col'!$K$8+L131*'c design-col'!$K$9+L132*'c design-col'!$K$10+L133*'c design-col'!$K$11","v":365.61196767719997},{"$f":"(M128*'c design-col'!$K$6)+(M129*'c design-col'!$K$7)+M130*'c design-col'!$K$8+M131*'c design-col'!$K$9+M132*'c design-col'!$K$10+M133*'c design-col'!$K$11","v":415.81715878939997},{"$f":"(N128*'c design-col'!$K$6)+(N129*'c design-col'!$K$7)+N130*'c design-col'!$K$8+N131*'c design-col'!$K$9+N132*'c design-col'!$K$10+N133*'c design-col'!$K$11","v":492.39293366119995},{"$f":"(O128*'c design-col'!$K$6)+(O129*'c design-col'!$K$7)+O130*'c design-col'!$K$8+O131*'c design-col'!$K$9+O132*'c design-col'!$K$10+O133*'c design-col'!$K$11","v":592.62411700349992},{"$f":"(P128*'c design-col'!$K$6)+(P129*'c design-col'!$K$7)+P130*'c design-col'!$K$8+P131*'c design-col'!$K$9+P132*'c design-col'!$K$10+P133*'c design-col'!$K$11","v":727.95754712679991},{"$f":"(Q128*'c design-col'!$K$6)+(Q129*'c design-col'!$K$7)+Q130*'c design-col'!$K$8+Q131*'c design-col'!$K$9+Q132*'c design-col'!$K$10+Q133*'c design-col'!$K$11","v":922.92428623349997}]
["ECO2/tonne",{"$f":"B135/B134","v":5.8910808144723069E-2},{"$f":"C135/C134","v":6.5735185452193562E-2},7.2508943773326631E-2,7.9229386009581584E-2,8.5987183289313956E-2,9.6403548819897864E-2,0.10901957088662424,0.11758429119853463,0.12714534240220121,0.13711983345394821,0.15297571869338911,0.173967516856079,0.20596182442849373,0.24783544538453495,0.30433007823026753,0.38582178263178796]
["ECO2 / m3 / Mpa",{"$f":"B135/B127","v":17.590030926912497},{"$f":"C135/C127","v":13.085684250683334},10.82603848625625,9.467911628145,8.2172791838599988,7.6775786280166649,7.4426103621857136,7.0212519881924988,6.7517002267622228,6.553505320098,6.6474903214036356,6.9302859798233332,7.0341847665885711,7.4078014625437492,8.0884171902977773,9.2292428623349991]
["ECO2 / tonne / Mpa",{"$f":"B136/B127","v":7.3638510180903836E-3},{"$f":"C136/C127","v":5.4779321210161299E-3},4.5318089858329145E-3,3.9614693004790796E-3,3.4394873315725582E-3,3.2134516273299289E-3,3.1148448824749784E-3,2.9396072799633658E-3,2.8254520533822491E-3,2.7423966690789644E-3,2.7813767035161654E-3,2.8994586142679834E-3,2.9423117775499103E-3,3.0979430673066868E-3,3.3814453136696392E-3,3.8582178263178797E-3]
[]
["40% PFA, No SP"]
["10-30",8,12,16,20,25,30,35,40,45,50,55,60,70,80,90,100]
["Water content",140,140,140,140,140,140,140,140,140,140,140,140,140,140,140,140]
["Cement content",128,145,161,178,195,221,253,275,298,324,363,416,497,603,746,953]
["PFA content",85,96,107,119,130,147,169,183,199,216,242,278,332,402,497,635]
["Fine Agg",837,783,740,702,669,628,585,560,536,512,479,440,389,330,259,165]
["Coarse Agg",1191,1218,1234,1243,1248,1246,1236,1224,1209,1191,1157,1108,1024,907,740,489]
["Plasticiser dosage"]
["Concrete",{"$f":"B142+B143+B144+B145+B146","v":2381},2382,2382,2382,2382,2382,2383,2382,2382,2383,2381,2382,2382,2382,2382,2382]
["ECO2 / m3",{"$f":"(B142*'c design-col'!$K$6)+(B143*'c design-col'!$K$7)+B144*'c design-col'!$K$8+B145*'c design-col'!$K$9+B146*'c design-col'!$K$10+B147*'c design-col'!$K$11","v":132.81413250789998},{"$f":"(C142*'c design-col'!$K$6)+(C143*'c design-col'!$K$7)+C144*'c design-col'!$K$8+C145*'c design-col'!$K$9+C146*'c design-col'!$K$10+C147*'c design-col'!$K$11","v":148.35934345409999},{"$f":"(D142*'c design-col'!$K$6)+(D143*'c design-col'!$K$7)+D144*'c design-col'!$K$8+D145*'c design-col'!$K$9+D146*'c design-col'!$K$10+D147*'c design-col'!$K$11","v":162.90471894599997},{"$f":"(E142*'c design-col'!$K$6)+(E143*'c design-col'!$K$7)+E144*'c design-col'!$K$8+E145*'c design-col'!$K$9+E146*'c design-col'!$K$10+E147*'c design-col'!$K$11","v":178.28256644739994},{"$f":"(F142*'c design-col'!$K$6)+(F143*'c design-col'!$K$7)+F144*'c design-col'!$K$8+F145*'c design-col'!$K$9+F146*'c design-col'!$K$10+F147*'c design-col'!$K$11","v":193.59356083429995},{"$f":"(G142*'c design-col'!$K$6)+(G143*'c design-col'!$K$7)+G144*'c design-col'!$K$8+G145*'c design-col'!$K$9+G146*'c design-col'!$K$10+G147*'c design-col'!$K$11","v":216.91304157159996},{"$f":"(H142*'c design-col'!$K$6)+(H143*'c design-col'!$K$7)+H144*'c design-col'!$K$8+H145*'c design-col'!$K$9+H146*'c design-col'!$K$10+H147*'c design-col'!$K$11","v":245.56337607149996},{"$f":"(I142*'c design-col'!$K$6)+(I143*'c design-col'!$K$7)+I144*'c design-col'!$K$8+I145*'c design-col'!$K$9+I146*'c design-col'!$K$10+I147*'c design-col'!$K$11","v":265.17478249999999},{"$f":"(J142*'c design-col'!$K$6)+(J143*'c design-col'!$K$7)+J144*'c design-col'!$K$8+J145*'c design-col'!$K$9+J146*'c design-col'!$K$10+J147*'c design-col'!$K$11","v":285.68782550319997},{"$f":"(K142*'c design-col'!$K$6)+(K143*'c design-col'!$K$7)+K144*'c design-col'!$K$8+K145*'c design-col'!$K$9+K146*'c design-col'!$K$10+K147*'c design-col'!$K$11","v":308.84095943039995},{"$f":"(L142*'c design-col'!$K$6)+(L143*'c design-col'!$K$7)+L144*'c design-col'!$K$8+L145*'c design-col'!$K$9+L146*'c design-col'!$K$10+L147*'c design-col'!$K$11","v":343.50112652929994},{"$f":"(M142*'c design-col'!$K$6)+(M143*'c design-col'!$K$7)+M144*'c design-col'!$K$8+M145*'c design-col'!$K$9+M146*'c design-col'!$K$10+M147*'c design-col'!$K$11","v":390.59899664399995},{"$f":"(N142*'c design-col'!$K$6)+(N143*'c design-col'!$K$7)+N144*'c design-col'!$K$8+N145*'c design-col'!$K$9+N146*'c design-col'!$K$10+N147*'c design-col'!$K$11","v":462.45400983029992},{"$f":"(O142*'c design-col'!$K$6)+(O143*'c design-col'!$K$7)+O144*'c design-col'!$K$8+O145*'c design-col'!$K$9+O146*'c design-col'!$K$10+O147*'c design-col'!$K$11","v":556.39546837499995},{"$f":"(P142*'c design-col'!$K$6)+(P143*'c design-col'!$K$7)+P144*'c design-col'!$K$8+P145*'c design-col'!$K$9+P146*'c design-col'!$K$10+P147*'c design-col'!$K$11","v":683.0452272112999},{"$f":"(Q142*'c design-col'!$K$6)+(Q143*'c design-col'!$K$7)+Q144*'c design-col'!$K$8+Q145*'c design-col'!$K$9+Q146*'c design-col'!$K$10+Q147*'c design-col'!$K$11","v":866.29171055349991}]
["ECO2/tonne",{"$f":"B149/B148","v":5.5780820036917256E-2},{"$f":"C149/C148","v":6.2283519502141053E-2},6.8389890405541554E-2,7.4845745779764883E-2,8.1273535194920213E-2,9.1063409559865638E-2,0.1030479966728913,0.11132442590260286,0.11993611482082282,0.12960174545967265,0.14426758779055016,0.16397942764231735,0.1941452602142317,0.23358332005667504,0.28675282418610409,0.36368249813329129]
["ECO2 / m3 / Mpa",{"$f":"B149/B141","v":16.601766563487498},{"$f":"C149/C141","v":12.363278621174999},10.181544934124998,8.9141283223699972,7.743742433371998,7.2304347190533322,7.0160964591857136,6.6293695625,6.3486183445155548,6.1768191886079986,6.2454750278054538,6.509983277399999,6.6064858547185707,6.954943354687499,7.5893914134588876,8.6629171055349996]
["ECO2 / tonne / Mpa",{"$f":"B150/B141","v":6.972602504614657E-3},{"$f":"C150/C141","v":5.1902932918450875E-3},4.2743681503463471E-3,3.7422872889882443E-3,3.2509414077968087E-3,3.0354469853288548E-3,2.9442284763683229E-3,2.7831106475650715E-3,2.6652469960182848E-3,2.5920349091934532E-3,2.6230470507372754E-3,2.7329904607052893E-3,2.7735037173461674E-3,2.919791500708438E-3,3.1861424909567122E-3,3.6368249813329128E-3]
[]
["40% PFA, SP"]
["10-30",8,12,16,20,25,30,35,40,45,50,55,60,70,80,90,100]
["Water content",126,126,126,126,126,126,126,126,126,126,126,126,126,126,126,126]
["Cement content",115,130,145,160,176,199,227,247,268,291,327,375,448,542,671,857]
["PFA content",77,87,97,107,117,133,152,165,179,194,218,250,298,362,447,572]
["Fine Agg",858,805,761,724,691,650,608,584,561,538,506,469,420,365,299,213]
["Coarse Agg",1221,1250,1269,1282,1288,1291,1285,1276,1265,1249,1221,1179,1106,1003,854,631]
["Plasticiser dosage",0.8,0.9,1,1.1000000000000001,1.2,1.3,1.5,1.6,1.8,1.9,2.2000000000000002,2.5,3,3.6,4.5,5.7]
["Concrete",{"$f":"B156+B157+B158+B159+B160+B161","v":2397.8000000000002},2398.9,2399,2400.1,2399.1999999999998,2400.3000000000002,2399.5,2399.6,2400.8000000000002,2399.9,2400.1999999999998,2401.5,2401,2401.6,2401.5,2404.6999999999998]
["ECO2 / m3",{"$f":"(B156*'c design-col'!$K$6)+(B157*'c design-col'!$K$7)+B158*'c design-col'!$K$8+B159*'c design-col'!$K$9+B160*'c design-col'!$K$10+B161*'c design-col'!$K$11","v":121.5277771926},{"$f":"(C156*'c design-col'!$K$6)+(C157*'c design-col'!$K$7)+C158*'c design-col'!$K$8+C159*'c design-col'!$K$9+C160*'c design-col'!$K$10+C161*'c design-col'!$K$11","v":135.30623949349999},{"$f":"(D156*'c design-col'!$K$6)+(D157*'c design-col'!$K$7)+D158*'c design-col'!$K$8+D159*'c design-col'!$K$9+D160*'c design-col'!$K$10+D161*'c design-col'!$K$11","v":148.9769789307},{"$f":"(E156*'c design-col'!$K$6)+(E157*'c design-col'!$K$7)+E158*'c design-col'!$K$8+E159*'c design-col'!$K$9+E160*'c design-col'!$K$10+E161*'c design-col'!$K$11","v":162.58678297079999},{"$f":"(F156*'c design-col'!$K$6)+(F157*'c design-col'!$K$7)+F158*'c design-col'!$K$8+F159*'c design-col'!$K$9+F160*'c design-col'!$K$10+F161*'c design-col'!$K$11","v":176.99974756969999},{"$f":"(G156*'c design-col'!$K$6)+(G157*'c design-col'!$K$7)+G158*'c design-col'!$K$8+G159*'c design-col'!$K$9+G160*'c design-col'!$K$10+G161*'c design-col'!$K$11","v":197.704843087},{"$f":"(H156*'c design-col'!$K$6)+(H157*'c design-col'!$K$7)+H158*'c design-col'!$K$8+H159*'c design-col'!$K$9+H160*'c design-col'!$K$10+H161*'c design-col'!$K$11","v":222.79236884559998},{"$f":"(I156*'c design-col'!$K$6)+(I157*'c design-col'!$K$7)+I158*'c design-col'!$K$8+I159*'c design-col'!$K$9+I160*'c design-col'!$K$10+I161*'c design-col'!$K$11","v":240.64987922079999},{"$f":"(J156*'c design-col'!$K$6)+(J157*'c design-col'!$K$7)+J158*'c design-col'!$K$8+J159*'c design-col'!$K$9+J160*'c design-col'!$K$10+J161*'c design-col'!$K$11","v":259.39487928269995},{"$f":"(K156*'c design-col'!$K$6)+(K157*'c design-col'!$K$7)+K158*'c design-col'!$K$8+K159*'c design-col'!$K$9+K160*'c design-col'!$K$10+K161*'c design-col'!$K$11","v":279.87038166459996},{"$f":"(L156*'c design-col'!$K$6)+(L157*'c design-col'!$K$7)+L158*'c design-col'!$K$8+L159*'c design-col'!$K$9+L160*'c design-col'!$K$10+L161*'c design-col'!$K$11","v":311.90432862619997},{"$f":"(M156*'c design-col'!$K$6)+(M157*'c design-col'!$K$7)+M158*'c design-col'!$K$8+M159*'c design-col'!$K$9+M160*'c design-col'!$K$10+M161*'c design-col'!$K$11","v":354.56937684629997},{"$f":"(N156*'c design-col'!$K$6)+(N157*'c design-col'!$K$7)+N158*'c design-col'!$K$8+N159*'c design-col'!$K$9+N160*'c design-col'!$K$10+N161*'c design-col'!$K$11","v":419.33733084599993},{"$f":"(O156*'c design-col'!$K$6)+(O157*'c design-col'!$K$7)+O158*'c design-col'!$K$8+O159*'c design-col'!$K$9+O160*'c design-col'!$K$10+O161*'c design-col'!$K$11","v":502.69937980149996},{"$f":"(P156*'c design-col'!$K$6)+(P157*'c design-col'!$K$7)+P158*'c design-col'!$K$8+P159*'c design-col'!$K$9+P160*'c design-col'!$K$10+P161*'c design-col'!$K$11","v":616.94768662729984},{"$f":"(Q156*'c design-col'!$K$6)+(Q157*'c design-col'!$K$7)+Q158*'c design-col'!$K$8+Q159*'c design-col'!$K$9+Q160*'c design-col'!$K$10+Q161*'c design-col'!$K$11","v":781.65999949109982}]
["ECO2/tonne",{"$f":"B163/B162","v":5.0683033277420964E-2},{"$f":"C163/C162","v":5.6403451370836626E-2},6.2099616061150477E-2,6.7741670334902707E-2,7.3774486316147053E-2,8.2366722112652585E-2,9.2849497330943942E-2,0.10028749759159859,0.10804518463957845,0.1166175180901704,0.12994930781859845,0.14764496225121798,0.17465111655393584,0.20931852923113756,0.25690097298659165,0.32505510021670059]
["ECO2 / m3 / Mpa",{"$f":"B163/B155","v":15.190972149075},{"$f":"C163/C155","v":11.275519957791666},9.31106118316875,8.1293391485399997,7.0799899027879993,6.5901614362333332,6.3654962527314281,6.0162469805200001,5.7643306507266656,5.5974076332919989,5.6709877932036354,5.9094896141049995,5.990533297799999,6.2837422475187497,6.8549742958588871,7.8165999949109981]
["ECO2 / tonne / Mpa",{"$f":"B164/B155","v":6.3353791596776204E-3},{"$f":"C164/C155","v":4.7002876142363858E-3},3.8812260038219048E-3,3.3870835167451353E-3,2.950979452645882E-3,2.7455574037550863E-3,2.6528427808841125E-3,2.507187439789965E-3,2.4010041031017433E-3,2.3323503618034079E-3,2.3627146876108811E-3,2.4607493708536329E-3,2.495015950770512E-3,2.6164816153892195E-3,2.854455255406574E-3,3.2505510021670057E-3]
[]
["0% PFA, No SP"]
["30-60",8,12,16,20,25,30,35,40,45,50,55,60,70,80,90,100]
["Water content",180,180,180,180,180,180,180,180,180,180,180,180,180,180,180,180]
["Cement content",198,223,249,275,301,341,390,424,460,499,561,642,767,930,1151,1470]
["PFA content",0,0,0,0,0,0,0,0,0,0,0,0,0,0,0,0]
["Fine Agg",860,809,767,731,699,659,618,594,570,547,514,475,424,364,251,194]
["Coarse Agg",1098,1124,1141,1151,1156,1156,1148,1139,1126,1110,1082,1039,965,862,714,492]
["Plasticiser dosage",0,0,0,0,0,0,0,0,0,0,0,0,0,0,0,0]
["Concrete",{"$f":"SUM(B170:B175)","v":2336},2336,2337,2337,2336,2336,2336,2337,2336,2336,2337,2336,2336,2336,2296,2336]
["ECO2 / m3",{"$f":"(B170*'c design-col'!$K$6)+(B171*'c design-col'!$K$7)+B172*'c design-col'!$K$8+B173*'c design-col'!$K$9+B174*'c design-col'!$K$10+B175*'c design-col'!$K$11","v":191.28880781799998},{"$f":"(C170*'c design-col'!$K$6)+(C171*'c design-col'!$K$7)+C172*'c design-col'!$K$8+C173*'c design-col'!$K$9+C174*'c design-col'!$K$10+C175*'c design-col'!$K$11","v":213.6021637243},{"$f":"(D170*'c design-col'!$K$6)+(D171*'c design-col'!$K$7)+D172*'c design-col'!$K$8+D173*'c design-col'!$K$9+D174*'c design-col'!$K$10+D175*'c design-col'!$K$11","v":236.7045322589},{"$f":"(E170*'c design-col'!$K$6)+(E171*'c design-col'!$K$7)+E172*'c design-col'!$K$8+E173*'c design-col'!$K$9+E174*'c design-col'!$K$10+E175*'c design-col'!$K$11","v":259.73080135369997},{"$f":"(F170*'c design-col'!$K$6)+(F171*'c design-col'!$K$7)+F172*'c design-col'!$K$8+F173*'c design-col'!$K$9+F174*'c design-col'!$K$10+F175*'c design-col'!$K$11","v":282.70205329129993},{"$f":"(G170*'c design-col'!$K$6)+(G171*'c design-col'!$K$7)+G172*'c design-col'!$K$8+G173*'c design-col'!$K$9+G174*'c design-col'!$K$10+G175*'c design-col'!$K$11","v":317.96491126329994},{"$f":"(H170*'c design-col'!$K$6)+(H171*'c design-col'!$K$7)+H172*'c design-col'!$K$8+H173*'c design-col'!$K$9+H174*'c design-col'!$K$10+H175*'c design-col'!$K$11","v":361.07758314859996},{"$f":"(I170*'c design-col'!$K$6)+(I171*'c design-col'!$K$7)+I172*'c design-col'!$K$8+I173*'c design-col'!$K$9+I174*'c design-col'!$K$10+I175*'c design-col'!$K$11","v":390.95845360379997},{"$f":"(J170*'c design-col'!$K$6)+(J171*'c design-col'!$K$7)+J172*'c design-col'!$K$8+J173*'c design-col'!$K$9+J174*'c design-col'!$K$10+J175*'c design-col'!$K$11","v":422.55567949099992},{"$f":"(K170*'c design-col'!$K$6)+(K171*'c design-col'!$K$7)+K172*'c design-col'!$K$8+K173*'c design-col'!$K$9+K174*'c design-col'!$K$10+K175*'c design-col'!$K$11","v":456.7683077529},{"$f":"(L170*'c design-col'!$K$6)+(L171*'c design-col'!$K$7)+L172*'c design-col'!$K$8+L173*'c design-col'!$K$9+L174*'c design-col'!$K$10+L175*'c design-col'!$K$11","v":511.13289710379991},{"$f":"(M170*'c design-col'!$K$6)+(M171*'c design-col'!$K$7)+M172*'c design-col'!$K$8+M173*'c design-col'!$K$9+M174*'c design-col'!$K$10+M175*'c design-col'!$K$11","v":582.08460397049987},{"$f":"(N170*'c design-col'!$K$6)+(N171*'c design-col'!$K$7)+N172*'c design-col'!$K$8+N173*'c design-col'!$K$9+N174*'c design-col'!$K$10+N175*'c design-col'!$K$11","v":691.50099067679992},{"$f":"(O170*'c design-col'!$K$6)+(O171*'c design-col'!$K$7)+O172*'c design-col'!$K$8+O173*'c design-col'!$K$9+O174*'c design-col'!$K$10+O175*'c design-col'!$K$11","v":834.11139935879987},{"$f":"(P170*'c design-col'!$K$6)+(P171*'c design-col'!$K$7)+P172*'c design-col'!$K$8+P173*'c design-col'!$K$9+P174*'c design-col'!$K$10+P175*'c design-col'!$K$11","v":1027.2861427136997},{"$f":"(Q170*'c design-col'!$K$6)+(Q171*'c design-col'!$K$7)+Q172*'c design-col'!$K$8+Q173*'c design-col'!$K$9+Q174*'c design-col'!$K$10+Q175*'c design-col'!$K$11","v":1306.2597596997998}]
["ECO2/tonne",{"$f":"B177/B176","v":8.1887332113869851E-2},{"$f":"C177/C176","v":9.1439282416224316E-2},0.1012856363966196,0.11113855428057337,0.12101971459387839,0.13611511612298799,0.15457088319717463,0.1672907375283697,0.18088856142594176,0.19553437831887843,0.21871326363020963,0.24918005306956331,0.29601925970753423,0.35706823602688353,0.44742427818540931,0.55918654096738007]
["ECO2 / m3 / Mpa",{"$f":"B177/B169","v":23.911100977249998},{"$f":"C177/C169","v":17.800180310358332},14.79403326618125,12.986540067684999,11.308082131651997,10.598830375443331,10.316502375674284,9.7739613400949992,9.3901262109111094,9.1353661550579996,9.2933254018872713,9.7014100661749971,9.8785855810971412,10.426392491984998,11.414290474596664,13.062597596997998]
["ECO2 / tonne / Mpa",{"$f":"B178/B169","v":1.0235916514233731E-2},{"$f":"C178/C169","v":7.6199402013520266E-3},6.3303522747887248E-3,5.5569277140286684E-3,4.8407885837551358E-3,4.5371705374329333E-3,4.4163109484907041E-3,4.1822684382092426E-3,4.0197458094653723E-3,3.9106875663775685E-3,3.976604793276539E-3,4.1530008844927217E-3,4.2288465672504893E-3,4.4633529503360445E-3,4.9713808687267703E-3,5.5918654096738006E-3]
[]
["0% PFA, SP"]
["30-60",8,12,16,20,25,30,35,40,45,50,55,60,70,80,90,100]
["Water content",162,162,162,162,162,162,162,162,162,162,162,162,162,162,162,162]
["Cement content",178,201,224,247,271,307,351,381,414,449,505,578,691,837,1036,1323]
["PFA content",0,0,0,0,0,0,0,0,0,0,0,0,0,0,0,0]
["Fine Agg",886,834,792,757,725,686,645,622,592,576,545,508,459,403,336,247]
["Coarse Agg",1131,1160,1179,1191,1198,1202,1198,1192,1182,1170,1146,1109,1045,955,824,626]
["Plasticiser dosage",0.7,0.8,0.9,1,1.1000000000000001,1.2,1.4,1.5,1.7,1.8,2,2.2999999999999998,2.8,3.3,4.0999999999999996,5.3]
["Concrete",{"$f":"B184+B185+B186+B187+B188+B189","v":2357.6999999999998},2357.8000000000002,2357.9,2358,2357.1,2358.1999999999998,2357.4,2358.5,2351.6999999999998,2358.8000000000002,2360,2359.3000000000002,2359.8000000000002,2360.3000000000002,2362.1,2363.3000000000002]
["ECO2 / m3",{"$f":"(B184*'c design-col'!$K$6)+(B185*'c design-col'!$K$7)+B186*'c design-col'!$K$8+B187*'c design-col'!$K$9+B188*'c design-col'!$K$10+B189*'c design-col'!$K$11","v":174.07738671219997},{"$f":"(C184*'c design-col'!$K$6)+(C185*'c design-col'!$K$7)+C186*'c design-col'!$K$8+C187*'c design-col'!$K$9+C188*'c design-col'!$K$10+C189*'c design-col'!$K$11","v":194.65922366379999},{"$f":"(D184*'c design-col'!$K$6)+(D185*'c design-col'!$K$7)+D186*'c design-col'!$K$8+D187*'c design-col'!$K$9+D188*'c design-col'!$K$10+D189*'c design-col'!$K$11","v":215.1356492024},{"$f":"(E184*'c design-col'!$K$6)+(E185*'c design-col'!$K$7)+E186*'c design-col'!$K$8+E187*'c design-col'!$K$9+E188*'c design-col'!$K$10+E189*'c design-col'!$K$11","v":235.53828675189999},{"$f":"(F184*'c design-col'!$K$6)+(F185*'c design-col'!$K$7)+F186*'c design-col'!$K$8+F187*'c design-col'!$K$9+F188*'c design-col'!$K$10+F189*'c design-col'!$K$11","v":256.76747859349996},{"$f":"(G184*'c design-col'!$K$6)+(G185*'c design-col'!$K$7)+G186*'c design-col'!$K$8+G187*'c design-col'!$K$9+G188*'c design-col'!$K$10+G189*'c design-col'!$K$11","v":288.54852730419992},{"$f":"(H184*'c design-col'!$K$6)+(H185*'c design-col'!$K$7)+H186*'c design-col'!$K$8+H187*'c design-col'!$K$9+H188*'c design-col'!$K$10+H189*'c design-col'!$K$11","v":327.2931960974999},{"$f":"(I184*'c design-col'!$K$6)+(I185*'c design-col'!$K$7)+I186*'c design-col'!$K$8+I187*'c design-col'!$K$9+I188*'c design-col'!$K$10+I189*'c design-col'!$K$11","v":353.67940469939992},{"$f":"(J184*'c design-col'!$K$6)+(J185*'c design-col'!$K$7)+J186*'c design-col'!$K$8+J187*'c design-col'!$K$9+J188*'c design-col'!$K$10+J189*'c design-col'!$K$11","v":382.64967199839998},{"$f":"(K184*'c design-col'!$K$6)+(K185*'c design-col'!$K$7)+K186*'c design-col'!$K$8+K187*'c design-col'!$K$9+K188*'c design-col'!$K$10+K189*'c design-col'!$K$11","v":413.39435970319994},{"$f":"(L184*'c design-col'!$K$6)+(L185*'c design-col'!$K$7)+L186*'c design-col'!$K$8+L187*'c design-col'!$K$9+L188*'c design-col'!$K$10+L189*'c design-col'!$K$11","v":462.51168596349993},{"$f":"(M184*'c design-col'!$K$6)+(M185*'c design-col'!$K$7)+M186*'c design-col'!$K$8+M187*'c design-col'!$K$9+M188*'c design-col'!$K$10+M189*'c design-col'!$K$11","v":526.47406964359993},{"$f":"(N184*'c design-col'!$K$6)+(N185*'c design-col'!$K$7)+N186*'c design-col'!$K$8+N187*'c design-col'!$K$9+N188*'c design-col'!$K$10+N189*'c design-col'!$K$11","v":625.41701297129998},{"$f":"(O184*'c design-col'!$K$6)+(O185*'c design-col'!$K$7)+O186*'c design-col'!$K$8+O187*'c design-col'!$K$9+O188*'c design-col'!$K$10+O189*'c design-col'!$K$11","v":753.17774445209977},{"$f":"(P184*'c design-col'!$K$6)+(P185*'c design-col'!$K$7)+P186*'c design-col'!$K$8+P187*'c design-col'!$K$9+P188*'c design-col'!$K$10+P189*'c design-col'!$K$11","v":927.23188896319994},{"$f":"(Q184*'c design-col'!$K$6)+(Q185*'c design-col'!$K$7)+Q186*'c design-col'!$K$8+Q187*'c design-col'!$K$9+Q188*'c design-col'!$K$10+Q189*'c design-col'!$K$11","v":1178.1557551748999}]
["ECO2/tonne",{"$f":"B191/B190","v":7.383356097561182E-2},{"$f":"C191/C190","v":8.2559684309016876E-2},9.1240361848424448E-2,9.9889010496988964E-2,0.10893363819672477,0.122359650285896,0.13883651314902007,0.14995946775467456,0.16271194114827572,0.17525621489876203,0.19597952795063556,0.22314842099080232,0.26502966902758707,0.31910254817273215,0.39254556918132172,0.49852145524262675]
["ECO2 / m3 / Mpa",{"$f":"B191/B183","v":21.759673339024996},{"$f":"C191/C183","v":16.221601971983333},13.44597807515,11.776914337594999,10.270699143739998,9.6182842434733313,9.3512341742142837,8.8419851174849988,8.5033260444088885,8.2678871940639986,8.4093033811545439,8.7745678273933319,8.9345287567328562,9.4147218056512472,10.302576544035555,11.781557551749]
["ECO2 / tonne / Mpa",{"$f":"B192/B183","v":9.2291951219514775E-3},{"$f":"C192/C183","v":6.8799736924180727E-3},5.702522615526528E-3,4.9944505248494479E-3,4.357345527868991E-3,4.078655009529867E-3,3.9667575185434309E-3,3.7489866938668639E-3,3.6158209144061273E-3,3.5051242979752405E-3,3.56326414455701E-3,3.7191403498467051E-3,3.7861381289655293E-3,3.9887818521591517E-3,4.3616174353480188E-3,4.9852145524262679E-3]
[]
["20% PFA, No SP"]
["30-60",8,12,16,20,25,30,35,40,45,50,55,60,70,80,90,100]
["Water content",170,170,170,170,170,170,170,170,170,170,170,170,170,170,170,170]
["Cement content",174,196,219,241,265,299,343,372,404,439,493,564,674,817,1011,1291]
["PFA content",43,49,55,60,66,75,86,93,101,110,123,141,169,204,253,323]
["Fine Agg",861,809,766,729,696,655,612,587,562,538,503,464,407,343,265,159]
["Coarse Agg",1100,1124,1139,1147,1151,1148,1137,1126,1110,1092,1059,1010,928,813,649,404]
["Plasticiser dosage"]
["Concrete",{"$f":"B198+B199+B200+B201+B202","v":2348},2348,2349,2347,2348,2347,2348,2348,2347,2349,2348,2349,2348,2347,2348,2347]
["ECO2 / m3",{"$f":"(B198*'c design-col'!$K$6)+(B199*'c design-col'!$K$7)+B200*'c design-col'!$K$8+B201*'c design-col'!$K$9+B202*'c design-col'!$K$10+B203*'c design-col'!$K$11","v":171.25463485269998},{"$f":"(C198*'c design-col'!$K$6)+(C199*'c design-col'!$K$7)+C200*'c design-col'!$K$8+C201*'c design-col'!$K$9+C202*'c design-col'!$K$10+C203*'c design-col'!$K$11","v":191.05032542429998},{"$f":"(D198*'c design-col'!$K$6)+(D199*'c design-col'!$K$7)+D200*'c design-col'!$K$8+D201*'c design-col'!$K$9+D202*'c design-col'!$K$10+D203*'c design-col'!$K$11","v":211.63502862419998},{"$f":"(E198*'c design-col'!$K$6)+(E199*'c design-col'!$K$7)+E200*'c design-col'!$K$8+E201*'c design-col'!$K$9+E202*'c design-col'!$K$10+E203*'c design-col'!$K$11","v":231.23274948429997},{"$f":"(F198*'c design-col'!$K$6)+(F199*'c design-col'!$K$7)+F200*'c design-col'!$K$8+F201*'c design-col'!$K$9+F202*'c design-col'!$K$10+F203*'c design-col'!$K$11","v":252.58307157919998},{"$f":"(G198*'c design-col'!$K$6)+(G199*'c design-col'!$K$7)+G200*'c design-col'!$K$8+G201*'c design-col'!$K$9+G202*'c design-col'!$K$10+G203*'c design-col'!$K$11","v":282.74476292449998},{"$f":"(H198*'c design-col'!$K$6)+(H199*'c design-col'!$K$7)+H200*'c design-col'!$K$8+H201*'c design-col'!$K$9+H202*'c design-col'!$K$10+H203*'c design-col'!$K$11","v":321.69183963239999},{"$f":"(I198*'c design-col'!$K$6)+(I199*'c design-col'!$K$7)+I200*'c design-col'!$K$8+I201*'c design-col'!$K$9+I202*'c design-col'!$K$10+I203*'c design-col'!$K$11","v":347.3142789529},{"$f":"(J198*'c design-col'!$K$6)+(J199*'c design-col'!$K$7)+J200*'c design-col'!$K$8+J201*'c design-col'!$K$9+J202*'c design-col'!$K$10+J203*'c design-col'!$K$11","v":375.55110401339994},{"$f":"(K198*'c design-col'!$K$6)+(K199*'c design-col'!$K$7)+K200*'c design-col'!$K$8+K201*'c design-col'!$K$9+K202*'c design-col'!$K$10+K203*'c design-col'!$K$11","v":406.44318404059999},{"$f":"(L198*'c design-col'!$K$6)+(L199*'c design-col'!$K$7)+L200*'c design-col'!$K$8+L201*'c design-col'!$K$9+L202*'c design-col'!$K$10+L203*'c design-col'!$K$11","v":454.01882433009996},{"$f":"(M198*'c design-col'!$K$6)+(M199*'c design-col'!$K$7)+M200*'c design-col'!$K$8+M201*'c design-col'!$K$9+M202*'c design-col'!$K$10+M203*'c design-col'!$K$11","v":516.54058664479999},{"$f":"(N198*'c design-col'!$K$6)+(N199*'c design-col'!$K$7)+N200*'c design-col'!$K$8+N201*'c design-col'!$K$9+N202*'c design-col'!$K$10+N203*'c design-col'!$K$11","v":613.33804041089979},{"$f":"(O198*'c design-col'!$K$6)+(O199*'c design-col'!$K$7)+O200*'c design-col'!$K$8+O201*'c design-col'!$K$9+O202*'c design-col'!$K$10+O203*'c design-col'!$K$11","v":739.05231418609992},{"$f":"(P198*'c design-col'!$K$6)+(P199*'c design-col'!$K$7)+P200*'c design-col'!$K$8+P201*'c design-col'!$K$9+P202*'c design-col'!$K$10+P203*'c design-col'!$K$11","v":909.56047854349993},{"$f":"(Q198*'c design-col'!$K$6)+(Q199*'c design-col'!$K$7)+Q200*'c design-col'!$K$8+Q201*'c design-col'!$K$9+Q202*'c design-col'!$K$10+Q203*'c design-col'!$K$11","v":1155.5437917293}]
["ECO2/tonne",{"$f":"B205/B204","v":7.2936386223466765E-2},{"$f":"C205/C204","v":8.1367259550383292E-2},9.0095797626309052E-2,9.8522688318832541E-2,0.10757371021260646,0.1204707127927141,0.13700674601039181,0.14791919887261498,0.16001325266868341,0.17302817541106855,0.19336406487653321,0.21989807860570454,0.2612172233436541,0.31489233667920746,0.38737669443931,0.49234929345091605]
["ECO2 / m3 / Mpa",{"$f":"B205/B197","v":21.406829356587497},{"$f":"C205/C197","v":15.920860452024998},13.227189289012498,11.561637474214999,10.103322863168,9.4248254308166661,9.1911954180685704,8.6828569738224992,8.3455800891866652,8.1288636808119996,8.2548877150927265,8.6090097774133323,8.7619720058699979,9.2381539273262483,10.106227539372222,11.555437917293]
["ECO2 / tonne / Mpa",{"$f":"B206/B197","v":9.1170482779333456E-3},{"$f":"C206/C197","v":6.7806049625319413E-3},5.6309873516443157E-3,4.926134415941627E-3,4.3029484085042582E-3,4.0156904264238031E-3,3.9144784574397656E-3,3.6979799718153744E-3,3.5558500593040757E-3,3.4605635082213711E-3,3.5157102704824221E-3,3.6649679767617421E-3,3.7316746191950584E-3,3.9361542084900931E-3,4.304185493770111E-3,4.9234929345091608E-3]
[]
["20% PFA, SP"]
["30-60",8,12,16,20,25,30,35,40,45,50,55,60,70,80,90,100]
["Water content",153,153,153,153,153,153,153,153,153,153,153,153,153,153,153,153]
["Cement content",156,177,197,217,238,269,308,335,364,395,443,508,607,735,910,1162]
["PFA content",39,44,49,54,60,67,77,84,91,99,111,127,152,184,227,291]
["Fine Agg",886,834,791,755,723,682,640,615,592,568,535,496,444,384,312,215]
["Coarse Agg",1132,1159,1177,1188,1194,1195,1189,1180,1168,1153,1125,1083,1012,911,765,546]
["Plasticiser dosage",0.88,0.9,1,1.1000000000000001,1.2,1.3,1.5,1.7,1.8,2,2.2000000000000002,2.5,3,3.7,4.5,5.8]
["Concrete",{"$f":"B212+B213+B214+B215+B216+B217","v":2366.88},2367.9,2368,2368.1,2369.1999999999998,2367.3000000000002,2368.5,2368.6999999999998,2369.8000000000002,2370,2369.1999999999998,2369.5,2371,2370.6999999999998,2371.5,2372.8000000000002]
["ECO2 / m3",{"$f":"(B212*'c design-col'!$K$6)+(B213*'c design-col'!$K$7)+B214*'c design-col'!$K$8+B215*'c design-col'!$K$9+B216*'c design-col'!$K$10+B217*'c design-col'!$K$11","v":155.68881644019999},{"$f":"(C212*'c design-col'!$K$6)+(C213*'c design-col'!$K$7)+C214*'c design-col'!$K$8+C215*'c design-col'!$K$9+C216*'c design-col'!$K$10+C217*'c design-col'!$K$11","v":174.61218199179996},{"$f":"(D212*'c design-col'!$K$6)+(D213*'c design-col'!$K$7)+D214*'c design-col'!$K$8+D215*'c design-col'!$K$9+D216*'c design-col'!$K$10+D217*'c design-col'!$K$11","v":192.5567947877},{"$f":"(E212*'c design-col'!$K$6)+(E213*'c design-col'!$K$7)+E214*'c design-col'!$K$8+E215*'c design-col'!$K$9+E216*'c design-col'!$K$10+E217*'c design-col'!$K$11","v":210.42761959449996},{"$f":"(F212*'c design-col'!$K$6)+(F213*'c design-col'!$K$7)+F214*'c design-col'!$K$8+F215*'c design-col'!$K$9+F216*'c design-col'!$K$10+F217*'c design-col'!$K$11","v":229.15431014409998},{"$f":"(G212*'c design-col'!$K$6)+(G213*'c design-col'!$K$7)+G214*'c design-col'!$K$8+G215*'c design-col'!$K$9+G216*'c design-col'!$K$10+G217*'c design-col'!$K$11","v":256.66176367739996},{"$f":"(H212*'c design-col'!$K$6)+(H213*'c design-col'!$K$7)+H214*'c design-col'!$K$8+H215*'c design-col'!$K$9+H216*'c design-col'!$K$10+H217*'c design-col'!$K$11","v":291.22900133600001},{"$f":"(I212*'c design-col'!$K$6)+(I213*'c design-col'!$K$7)+I214*'c design-col'!$K$8+I215*'c design-col'!$K$9+I216*'c design-col'!$K$10+I217*'c design-col'!$K$11","v":315.10938108049999},{"$f":"(J212*'c design-col'!$K$6)+(J213*'c design-col'!$K$7)+J214*'c design-col'!$K$8+J215*'c design-col'!$K$9+J216*'c design-col'!$K$10+J217*'c design-col'!$K$11","v":340.72359123039996},{"$f":"(K212*'c design-col'!$K$6)+(K213*'c design-col'!$K$7)+K214*'c design-col'!$K$8+K215*'c design-col'!$K$9+K216*'c design-col'!$K$10+K217*'c design-col'!$K$11","v":368.09169847360005},{"$f":"(L212*'c design-col'!$K$6)+(L213*'c design-col'!$K$7)+L214*'c design-col'!$K$8+L215*'c design-col'!$K$9+L216*'c design-col'!$K$10+L217*'c design-col'!$K$11","v":410.40592826449995},{"$f":"(M212*'c design-col'!$K$6)+(M213*'c design-col'!$K$7)+M214*'c design-col'!$K$8+M215*'c design-col'!$K$9+M216*'c design-col'!$K$10+M217*'c design-col'!$K$11","v":467.66036288319992},{"$f":"(N212*'c design-col'!$K$6)+(N213*'c design-col'!$K$7)+N214*'c design-col'!$K$8+N215*'c design-col'!$K$9+N216*'c design-col'!$K$10+N217*'c design-col'!$K$11","v":554.80704311479997},{"$f":"(O212*'c design-col'!$K$6)+(O213*'c design-col'!$K$7)+O214*'c design-col'!$K$8+O215*'c design-col'!$K$9+O216*'c design-col'!$K$10+O217*'c design-col'!$K$11","v":667.37125912079989},{"$f":"(P212*'c design-col'!$K$6)+(P213*'c design-col'!$K$7)+P214*'c design-col'!$K$8+P215*'c design-col'!$K$9+P216*'c design-col'!$K$10+P217*'c design-col'!$K$11","v":821.16886789839998},{"$f":"(Q212*'c design-col'!$K$6)+(Q213*'c design-col'!$K$7)+Q214*'c design-col'!$K$8+Q215*'c design-col'!$K$9+Q216*'c design-col'!$K$10+Q217*'c design-col'!$K$11","v":1042.5964370925001}]
["ECO2/tonne",{"$f":"B219/B218","v":6.577807765505643E-2},{"$f":"C219/C218","v":7.3741366608302689E-2},8.1316214015076008E-2,8.8859262528820565E-2,9.6722231193694067E-2,0.10841961883893041,0.12295925747772853,0.1330305150844345,0.1437773614779306,0.15531295294244729,0.17322553109256289,0.19736668617142855,0.23399706584344157,0.28150810272105281,0.3462655989451402,0.43939499203156607]
["ECO2 / m3 / Mpa",{"$f":"B219/B211","v":19.461102055024998},{"$f":"C219/C211","v":14.55101516598333},12.03479967423125,10.521380979724999,9.1661724057639997,8.5553921225799989,8.3208286095999995,7.8777345270124997,7.5716353606755549,7.3618339694720012,7.4619259684454535,7.7943393813866653,7.9258149016399999,8.3421407390099986,9.1240985322044441,10.425964370925001]
["ECO2 / tonne / Mpa",{"$f":"B220/B211","v":8.2222597068820538E-3},{"$f":"C220/C211","v":6.1451138840252243E-3},5.0822633759422505E-3,4.4429631264410281E-3,3.8688892477477628E-3,3.6139872946310135E-3,3.5131216422208148E-3,3.3257628771108626E-3,3.1950524772873467E-3,3.1062590588489458E-3,3.1495551107738706E-3,3.2894447695238091E-3,3.3428152263348795E-3,3.5188512840131601E-3,3.8473955438348912E-3,4.3939499203156608E-3]
[]
["40% PFA, No SP"]
["30--60",8,12,16,20,25,30,35,40,45,50,55,60,70,80,90,100]
["Water content",155,155,155,155,155,155,155,155,155,155,155,155,155,155,155,155]
["Cement content",142,160,178,197,216,245,280,304,330,358,402,461,551,667,826,1055]
["PFA content",95,107,119,131,144,163,187,203,220,239,268,307,367,445,550,703]
["Fine Agg",867,813,769,731,697,655,610,584,558,532,496,453,394,326,241,128]
["Coarse Agg",1107,1130,1143,1150,1152,1148,1133,1119,1102,1081,1043,989,898,772,592,324]
["Plasticiser dosage"]
["Concrete",{"$f":"B226+B227+B228+B229+B230","v":2366},2365,2364,2364,2364,2366,2365,2365,2365,2365,2364,2365,2365,2365,2364,2365]
["ECO2 / m3",{"$f":"(B226*'c design-col'!$K$6)+(B227*'c design-col'!$K$7)+B228*'c design-col'!$K$8+B229*'c design-col'!$K$9+B230*'c design-col'!$K$10+B231*'c design-col'!$K$11","v":144.46321890090002},{"$f":"(C226*'c design-col'!$K$6)+(C227*'c design-col'!$K$7)+C228*'c design-col'!$K$8+C229*'c design-col'!$K$9+C230*'c design-col'!$K$10+C231*'c design-col'!$K$11","v":160.86790237909997},{"$f":"(D226*'c design-col'!$K$6)+(D227*'c design-col'!$K$7)+D228*'c design-col'!$K$8+D229*'c design-col'!$K$9+D230*'c design-col'!$K$10+D231*'c design-col'!$K$11","v":177.16717444429997},{"$f":"(E226*'c design-col'!$K$6)+(E227*'c design-col'!$K$7)+E228*'c design-col'!$K$8+E229*'c design-col'!$K$9+E230*'c design-col'!$K$10+E231*'c design-col'!$K$11","v":194.28708256169998},{"$f":"(F226*'c design-col'!$K$6)+(F227*'c design-col'!$K$7)+F228*'c design-col'!$K$8+F229*'c design-col'!$K$9+F230*'c design-col'!$K$10+F231*'c design-col'!$K$11","v":211.37897352189998},{"$f":"(G226*'c design-col'!$K$6)+(G227*'c design-col'!$K$7)+G228*'c design-col'!$K$8+G229*'c design-col'!$K$9+G230*'c design-col'!$K$10+G231*'c design-col'!$K$11","v":237.37608632449997},{"$f":"(H226*'c design-col'!$K$6)+(H227*'c design-col'!$K$7)+H228*'c design-col'!$K$8+H229*'c design-col'!$K$9+H230*'c design-col'!$K$10+H231*'c design-col'!$K$11","v":268.66318366299998},{"$f":"(I226*'c design-col'!$K$6)+(I227*'c design-col'!$K$7)+I228*'c design-col'!$K$8+I229*'c design-col'!$K$9+I230*'c design-col'!$K$10+I231*'c design-col'!$K$11","v":290.0683392567999},{"$f":"(J226*'c design-col'!$K$6)+(J227*'c design-col'!$K$7)+J228*'c design-col'!$K$8+J229*'c design-col'!$K$9+J230*'c design-col'!$K$10+J231*'c design-col'!$K$11","v":313.22970287459998},{"$f":"(K226*'c design-col'!$K$6)+(K227*'c design-col'!$K$7)+K228*'c design-col'!$K$8+K229*'c design-col'!$K$9+K230*'c design-col'!$K$10+K231*'c design-col'!$K$11","v":338.16142192439986},{"$f":"(L226*'c design-col'!$K$6)+(L227*'c design-col'!$K$7)+L228*'c design-col'!$K$8+L229*'c design-col'!$K$9+L230*'c design-col'!$K$10+L231*'c design-col'!$K$11","v":377.26365880319992},{"$f":"(M226*'c design-col'!$K$6)+(M227*'c design-col'!$K$7)+M228*'c design-col'!$K$8+M229*'c design-col'!$K$9+M230*'c design-col'!$K$10+M231*'c design-col'!$K$11","v":429.67231755509994},{"$f":"(N226*'c design-col'!$K$6)+(N227*'c design-col'!$K$7)+N228*'c design-col'!$K$8+N229*'c design-col'!$K$9+N230*'c design-col'!$K$10+N231*'c design-col'!$K$11","v":509.53581709179991},{"$f":"(O226*'c design-col'!$K$6)+(O227*'c design-col'!$K$7)+O228*'c design-col'!$K$8+O229*'c design-col'!$K$9+O230*'c design-col'!$K$10+O231*'c design-col'!$K$11","v":612.3956282521998},{"$f":"(P226*'c design-col'!$K$6)+(P227*'c design-col'!$K$7)+P228*'c design-col'!$K$8+P229*'c design-col'!$K$9+P230*'c design-col'!$K$10+P231*'c design-col'!$K$11","v":753.25806948269997},{"$f":"(Q226*'c design-col'!$K$6)+(Q227*'c design-col'!$K$7)+Q228*'c design-col'!$K$8+Q229*'c design-col'!$K$9+Q230*'c design-col'!$K$10+Q231*'c design-col'!$K$11","v":956.09256499759988}]
["ECO2/tonne",{"$f":"B233/B232","v":6.1057996154226551E-2},{"$f":"C233/C232","v":6.8020254705750516E-2},7.4943813216708954E-2,8.2185737124238573E-2,8.9415809442428079E-2,0.10032801619801351,0.1135996548257928,0.12265046057369974,0.13244384899560252,0.14298580208219866,0.15958699610964464,0.18167962687319236,0.21544854845319236,0.25894106902841429,0.31863708522956852,0.40426746934359403]
["ECO2 / m3 / Mpa",{"$f":"B233/B225","v":18.057902362612502},{"$f":"C233/C225","v":13.405658531591664},11.072948402768748,9.7143541280849988,8.4551589408759984,7.9125362108166657,7.6760909617999999,7.2517084814199979,6.9606600638799998,6.7632284384879968,6.8593392509672713,7.1612052925849987,7.2790831013114277,7.6549453531524971,8.3695341053633321,9.5609256499759994]
["ECO2 / tonne / Mpa",{"$f":"B234/B225","v":7.6322495192783189E-3},{"$f":"C234/C225","v":5.6683545588125427E-3},4.6839883260443096E-3,4.1092868562119288E-3,3.5766323776971233E-3,3.3442672066004504E-3,3.2457044235940802E-3,3.0662615143424938E-3,2.9431966443467226E-3,2.859716041643973E-3,2.9015817474480842E-3,3.0279937812198727E-3,3.0778364064741764E-3,3.2367633628551788E-3,3.5404120581063168E-3,4.0426746934359402E-3]
[]
["40% PFA, SP"]
["30--60",8,12,16,20,25,30,35,40,45,50,55,60,70,80,90,100]
["Water content",139.5,139.5,139.5,139.5,139.5,139.5,139.5,139.5,139.5,139.5,139.5,139.5,139.5,139.5,139.5,139.5]
["Cement content",128,144,161,177,195,220,252,274,297,322,362,415,496,601,743,949]
["PFA content",85,96,107,118,130,147,168,182,198,215,241,277,330,400,495,633]
["Fine Agg",892,836,794,757,723,682,638,613,588,563,528,487,432,369,291,187]
["Coarse Agg",1139,1165,1181,1191,1195,1195,1185,1185,1161,1143,1112,1065,985,873,714,474]
["Plasticiser dosage",0.9,1,1.1000000000000001,1.2,1.3,1.5,1.7,1.8,2,2.1,2.4,2.8,3.3,4,5,6.3]
["Concrete",{"$f":"B240+B241+B242+B243+B244+B245","v":2384.4},2381.5,2383.6,2383.6999999999998,2383.8000000000002,2385,2384.1999999999998,2395.3000000000002,2385.5,2384.6,2384.9,2386.3000000000002,2385.8000000000002,2386.5,2387.5,2388.8000000000002]
["ECO2 / m3",{"$f":"(B240*'c design-col'!$K$6)+(B241*'c design-col'!$K$7)+B242*'c design-col'!$K$8+B243*'c design-col'!$K$9+B244*'c design-col'!$K$10+B245*'c design-col'!$K$11","v":132.27243219239998},{"$f":"(C240*'c design-col'!$K$6)+(C241*'c design-col'!$K$7)+C242*'c design-col'!$K$8+C243*'c design-col'!$K$9+C244*'c design-col'!$K$10+C245*'c design-col'!$K$11","v":146.91628526519997},{"$f":"(D240*'c design-col'!$K$6)+(D241*'c design-col'!$K$7)+D242*'c design-col'!$K$8+D243*'c design-col'!$K$9+D244*'c design-col'!$K$10+D245*'c design-col'!$K$11","v":162.34785562779999},{"$f":"(E240*'c design-col'!$K$6)+(E241*'c design-col'!$K$7)+E242*'c design-col'!$K$8+E243*'c design-col'!$K$9+E244*'c design-col'!$K$10+E245*'c design-col'!$K$11","v":176.82998479189999},{"$f":"(F240*'c design-col'!$K$6)+(F241*'c design-col'!$K$7)+F242*'c design-col'!$K$8+F243*'c design-col'!$K$9+F244*'c design-col'!$K$10+F245*'c design-col'!$K$11","v":193.03669855609996},{"$f":"(G240*'c design-col'!$K$6)+(G241*'c design-col'!$K$7)+G242*'c design-col'!$K$8+G243*'c design-col'!$K$9+G244*'c design-col'!$K$10+G245*'c design-col'!$K$11","v":215.49800261739998},{"$f":"(H240*'c design-col'!$K$6)+(H241*'c design-col'!$K$7)+H242*'c design-col'!$K$8+H243*'c design-col'!$K$9+H244*'c design-col'!$K$10+H245*'c design-col'!$K$11","v":244.11902670659995},{"$f":"(I240*'c design-col'!$K$6)+(I241*'c design-col'!$K$7)+I242*'c design-col'!$K$8+I243*'c design-col'!$K$9+I244*'c design-col'!$K$10+I245*'c design-col'!$K$11","v":263.88466475909996},{"$f":"(J240*'c design-col'!$K$6)+(J241*'c design-col'!$K$7)+J242*'c design-col'!$K$8+J243*'c design-col'!$K$9+J244*'c design-col'!$K$10+J245*'c design-col'!$K$11","v":284.27972402360001},{"$f":"(K240*'c design-col'!$K$6)+(K241*'c design-col'!$K$7)+K242*'c design-col'!$K$8+K243*'c design-col'!$K$9+K244*'c design-col'!$K$10+K245*'c design-col'!$K$11","v":306.54666412009999},{"$f":"(L240*'c design-col'!$K$6)+(L241*'c design-col'!$K$7)+L242*'c design-col'!$K$8+L243*'c design-col'!$K$9+L244*'c design-col'!$K$10+L245*'c design-col'!$K$11","v":342.12465055360002},{"$f":"(M240*'c design-col'!$K$6)+(M241*'c design-col'!$K$7)+M242*'c design-col'!$K$8+M243*'c design-col'!$K$9+M244*'c design-col'!$K$10+M245*'c design-col'!$K$11","v":389.24360503089997},{"$f":"(N240*'c design-col'!$K$6)+(N241*'c design-col'!$K$7)+N242*'c design-col'!$K$8+N243*'c design-col'!$K$9+N244*'c design-col'!$K$10+N245*'c design-col'!$K$11","v":461.11378538240001},{"$f":"(O240*'c design-col'!$K$6)+(O241*'c design-col'!$K$7)+O242*'c design-col'!$K$8+O243*'c design-col'!$K$9+O244*'c design-col'!$K$10+O245*'c design-col'!$K$11","v":554.22638182429989},{"$f":"(P240*'c design-col'!$K$6)+(P241*'c design-col'!$K$7)+P242*'c design-col'!$K$8+P243*'c design-col'!$K$9+P244*'c design-col'!$K$10+P245*'c design-col'!$K$11","v":680.0789035416999},{"$f":"(Q240*'c design-col'!$K$6)+(Q241*'c design-col'!$K$7)+Q242*'c design-col'!$K$8+Q243*'c design-col'!$K$9+Q244*'c design-col'!$K$10+Q245*'c design-col'!$K$11","v":862.55977474889994}]
["ECO2/tonne",{"$f":"B247/B246","v":5.5474095031202805E-2},{"$f":"C247/C246","v":6.1690650961662805E-2},6.8110360642641379E-2,7.4182986446239038E-2,8.0978563032175502E-2,9.0355556652997895E-2,0.10239033080555321,0.11016768870667555,0.11916986963890171,0.12855265626105009,0.1434545056621242,0.16311595567652848,0.19327428341956576,0.23223397520398067,0.28484980253055492,0.3610849693356078]
["ECO2 / m3 / Mpa",{"$f":"B247/B239","v":16.534054024049997},{"$f":"C247/C239","v":12.243023772099997},10.146740976737499,8.8414992395949987,7.7214679422439989,7.1832667539133324,6.9748293344742844,6.5971166189774992,6.3173272005244447,6.1309332824020002,6.2204481918836363,6.4873934171816661,6.5873397911771434,6.927829772803749,7.556432261574443,8.6255977474889995]
["ECO2 / tonne / Mpa",{"$f":"B248/B239","v":6.9342618789003507E-3},{"$f":"C248/C239","v":5.1408875801385668E-3},4.2568975401650862E-3,3.709149322311952E-3,3.23914252128702E-3,3.011851888433263E-3,2.9254380230158061E-3,2.7541922176668888E-3,2.6482193253089268E-3,2.5710531252210018E-3,2.6082637393113491E-3,2.7185992612754747E-3,2.7610611917080821E-3,2.9029246900497585E-3,3.1649978058950548E-3,3.610849693356078E-3]
[]
[]
["0% PFA, No SP"]
["60-180",8,12,16,20,25,30,35,40,45,50,55,60,70,80,90,100]
["Water content",195,195,195,195,195,195,195,195,195,195,195,195,195,195,195,195]
["Cement content",214,242,269,297,326,369,422,459,498,541,607,696,831,1007,1247,1592]
["PFA content",0,0,0,0,0,0,0,0,0,0,0,0,0,0,0,0]
["Fine Agg",941,886,841,802,727,724,678,650,628,597,559,514,453,382,293,174]
["Coarse Agg",969,996,1014,1025,1030,1031,1024,1015,1002,986,957,914,839,735,584,358]
["Plasticiser dosage",0,0,0,0,0,0,0,0,0,0,0,0,0,0,0,0]
["Concrete",{"$f":"SUM(B255:B260)","v":2319},2319,2319,2319,2278,2319,2319,2319,2323,2319,2318,2319,2318,2319,2319,2319]
["ECO2 / m3",{"$f":"(B255*'c design-col'!$K$6)+(B256*'c design-col'!$K$7)+B257*'c design-col'!$K$8+B258*'c design-col'!$K$9+B259*'c design-col'!$K$10+B260*'c design-col'!$K$11","v":203.97517735669996},{"$f":"(C255*'c design-col'!$K$6)+(C256*'c design-col'!$K$7)+C257*'c design-col'!$K$8+C258*'c design-col'!$K$9+C259*'c design-col'!$K$10+C260*'c design-col'!$K$11","v":228.94378875219999},{"$f":"(D255*'c design-col'!$K$6)+(D256*'c design-col'!$K$7)+D257*'c design-col'!$K$8+D258*'c design-col'!$K$9+D259*'c design-col'!$K$10+D260*'c design-col'!$K$11","v":252.93595842669995},{"$f":"(E255*'c design-col'!$K$6)+(E256*'c design-col'!$K$7)+E257*'c design-col'!$K$8+E258*'c design-col'!$K$9+E259*'c design-col'!$K$10+E260*'c design-col'!$K$11","v":277.73591156139997},{"$f":"(F255*'c design-col'!$K$6)+(F256*'c design-col'!$K$7)+F257*'c design-col'!$K$8+F258*'c design-col'!$K$9+F259*'c design-col'!$K$10+F260*'c design-col'!$K$11","v":303.25941981889997},{"$f":"(G255*'c design-col'!$K$6)+(G256*'c design-col'!$K$7)+G257*'c design-col'!$K$8+G258*'c design-col'!$K$9+G259*'c design-col'!$K$10+G260*'c design-col'!$K$11","v":341.27230275879992},{"$f":"(H255*'c design-col'!$K$6)+(H256*'c design-col'!$K$7)+H257*'c design-col'!$K$8+H258*'c design-col'!$K$9+H259*'c design-col'!$K$10+H260*'c design-col'!$K$11","v":387.92180158259993},{"$f":"(I255*'c design-col'!$K$6)+(I256*'c design-col'!$K$7)+I257*'c design-col'!$K$8+I258*'c design-col'!$K$9+I259*'c design-col'!$K$10+I260*'c design-col'!$K$11","v":420.44507493499992},{"$f":"(J255*'c design-col'!$K$6)+(J256*'c design-col'!$K$7)+J257*'c design-col'!$K$8+J258*'c design-col'!$K$9+J259*'c design-col'!$K$10+J260*'c design-col'!$K$11","v":454.69857242359996},{"$f":"(K255*'c design-col'!$K$6)+(K256*'c design-col'!$K$7)+K257*'c design-col'!$K$8+K258*'c design-col'!$K$9+K259*'c design-col'!$K$10+K260*'c design-col'!$K$11","v":492.42824067989994},{"$f":"(L255*'c design-col'!$K$6)+(L256*'c design-col'!$K$7)+L257*'c design-col'!$K$8+L258*'c design-col'!$K$9+L259*'c design-col'!$K$10+L260*'c design-col'!$K$11","v":550.30395178529989},{"$f":"(M255*'c design-col'!$K$6)+(M256*'c design-col'!$K$7)+M257*'c design-col'!$K$8+M258*'c design-col'!$K$9+M259*'c design-col'!$K$10+M260*'c design-col'!$K$11","v":628.31285314780007},{"$f":"(N255*'c design-col'!$K$6)+(N256*'c design-col'!$K$7)+N257*'c design-col'!$K$8+N258*'c design-col'!$K$9+N259*'c design-col'!$K$10+N260*'c design-col'!$K$11","v":746.53210175510003},{"$f":"(O255*'c design-col'!$K$6)+(O256*'c design-col'!$K$7)+O257*'c design-col'!$K$8+O258*'c design-col'!$K$9+O259*'c design-col'!$K$10+O260*'c design-col'!$K$11","v":900.59470958739985},{"$f":"(P255*'c design-col'!$K$6)+(P256*'c design-col'!$K$7)+P257*'c design-col'!$K$8+P258*'c design-col'!$K$9+P259*'c design-col'!$K$10+P260*'c design-col'!$K$11","v":1110.5801450830998},{"$f":"(Q255*'c design-col'!$K$6)+(Q256*'c design-col'!$K$7)+Q257*'c design-col'!$K$8+Q258*'c design-col'!$K$9+Q259*'c design-col'!$K$10+Q260*'c design-col'!$K$11","v":1412.3399971577999}]
["ECO2/tonne",{"$f":"B262/B261","v":8.795824810551961E-2},{"$f":"C262/C261","v":9.8725221540405347E-2},0.10907113343109097,0.11976537799111685,0.13312529403814749,0.14716356306977141,0.16727977644786543,0.18130447388313925,0.19573765493913042,0.21234508006895211,0.23740463838882653,0.27094129070625272,0.3220587151661346,0.38835476911918926,0.47890476286463984,0.60902975297878392]
["ECO2 / m3 / Mpa",{"$f":"B262/B254","v":25.496897169587495},{"$f":"C262/C254","v":19.078649062683333},15.808497401668747,13.886795578069998,12.130376792756,11.375743425293331,11.08348004521714,10.511126873374998,10.104412720524444,9.8485648135979993,10.005526396096361,10.471880885796669,10.664744310787142,11.257433869842497,12.33977938981222,14.123399971577999]
["ECO2 / tonne / Mpa",{"$f":"B263/B254","v":1.0994781013189951E-2},{"$f":"C263/C254","v":8.2271017950337789E-3},6.8169458394431856E-3,5.9882688995558427E-3,5.3250117615258998E-3,4.9054521023257133E-3,4.7794221842247268E-3,4.5326118470784809E-3,4.3497256653140092E-3,4.246901601379042E-3,4.3164479707059368E-3,4.5156881784375455E-3,4.6008387880876371E-3,4.8544346139898654E-3,5.3211640318293315E-3,6.0902975297878392E-3]
[]
["0% PFA, SP"]
["60-180",8,12,16,20,25,30,35,40,45,50,55,60,70,80,90,100]
["Water content",175.5,175.5,175.5,175.5,175.5,175.5,175.5,175.5,175.5,175.5,175.5,175.5,175.5,175.5,175.5,175.5]
["Cement content",193,218,243,268,294,332,380,413,448,487,547,626,748,907,1122,1433]
["PFA content",0,0,0,0,0,0,0,0,0,0,0,0,0,0,0,0]
["Fine Agg",792,917,872,833,799,756,711,685,659,633,597,555,497,431,349,240]
["Coarse Agg",1001,1031,1051,1065,1073,1078,1074,1068,1059,1046,1022,985,921,829,695,493]
["Plasticiser dosage",0.8,0.9,1,1.1000000000000001,1.2,1.3,1.5,1.7,1.8,1.9,2.2000000000000002,2.5,3,3.6,4.5,5.7]
["Concrete",{"$f":"B269+B270+B271+B272+B273+B274","v":2162.3000000000002},2342.4,2342.5,2342.6,2342.6999999999998,2342.8000000000002,2342,2343.1999999999998,2343.3000000000002,2343.4,2343.6999999999998,2344,2344.5,2346.1,2346,2347.1999999999998]
["ECO2 / m3",{"$f":"(B269*'c design-col'!$K$6)+(B270*'c design-col'!$K$7)+B271*'c design-col'!$K$8+B272*'c design-col'!$K$9+B273*'c design-col'!$K$10+B274*'c design-col'!$K$11","v":185.46101740639998},{"$f":"(C269*'c design-col'!$K$6)+(C270*'c design-col'!$K$7)+C271*'c design-col'!$K$8+C272*'c design-col'!$K$9+C273*'c design-col'!$K$10+C274*'c design-col'!$K$11","v":208.23259952389998},{"$f":"(D269*'c design-col'!$K$6)+(D270*'c design-col'!$K$7)+D271*'c design-col'!$K$8+D272*'c design-col'!$K$9+D273*'c design-col'!$K$10+D274*'c design-col'!$K$11","v":230.48270910240001},{"$f":"(E269*'c design-col'!$K$6)+(E270*'c design-col'!$K$7)+E271*'c design-col'!$K$8+E272*'c design-col'!$K$9+E273*'c design-col'!$K$10+E274*'c design-col'!$K$11","v":252.66957183309998},{"$f":"(F269*'c design-col'!$K$6)+(F270*'c design-col'!$K$7)+F271*'c design-col'!$K$8+F272*'c design-col'!$K$9+F273*'c design-col'!$K$10+F274*'c design-col'!$K$11","v":275.67475916530003},{"$f":"(G269*'c design-col'!$K$6)+(G270*'c design-col'!$K$7)+G271*'c design-col'!$K$8+G272*'c design-col'!$K$9+G273*'c design-col'!$K$10+G274*'c design-col'!$K$11","v":309.22718046520004},{"$f":"(H269*'c design-col'!$K$6)+(H270*'c design-col'!$K$7)+H271*'c design-col'!$K$8+H272*'c design-col'!$K$9+H273*'c design-col'!$K$10+H274*'c design-col'!$K$11","v":351.4981350557},{"$f":"(I269*'c design-col'!$K$6)+(I270*'c design-col'!$K$7)+I271*'c design-col'!$K$8+I272*'c design-col'!$K$9+I273*'c design-col'!$K$10+I274*'c design-col'!$K$11","v":380.52905852549998},{"$f":"(J269*'c design-col'!$K$6)+(J270*'c design-col'!$K$7)+J271*'c design-col'!$K$8+J272*'c design-col'!$K$9+J273*'c design-col'!$K$10+J274*'c design-col'!$K$11","v":411.28918949929994},{"$f":"(K269*'c design-col'!$K$6)+(K270*'c design-col'!$K$7)+K271*'c design-col'!$K$8+K272*'c design-col'!$K$9+K273*'c design-col'!$K$10+K274*'c design-col'!$K$11","v":445.5334417050999},{"$f":"(L269*'c design-col'!$K$6)+(L270*'c design-col'!$K$7)+L271*'c design-col'!$K$8+L272*'c design-col'!$K$9+L273*'c design-col'!$K$10+L274*'c design-col'!$K$11","v":498.17474283189995},{"$f":"(M269*'c design-col'!$K$6)+(M270*'c design-col'!$K$7)+M271*'c design-col'!$K$8+M272*'c design-col'!$K$9+M273*'c design-col'!$K$10+M274*'c design-col'!$K$11","v":567.42886665850006},{"$f":"(N269*'c design-col'!$K$6)+(N270*'c design-col'!$K$7)+N271*'c design-col'!$K$8+N272*'c design-col'!$K$9+N273*'c design-col'!$K$10+N274*'c design-col'!$K$11","v":674.30595302990002},{"$f":"(O269*'c design-col'!$K$6)+(O270*'c design-col'!$K$7)+O271*'c design-col'!$K$8+O272*'c design-col'!$K$9+O273*'c design-col'!$K$10+O274*'c design-col'!$K$11","v":813.50834303969987},{"$f":"(P269*'c design-col'!$K$6)+(P270*'c design-col'!$K$7)+P271*'c design-col'!$K$8+P272*'c design-col'!$K$9+P273*'c design-col'!$K$10+P274*'c design-col'!$K$11","v":1001.6313849342999},{"$f":"(Q269*'c design-col'!$K$6)+(Q270*'c design-col'!$K$7)+Q271*'c design-col'!$K$8+Q272*'c design-col'!$K$9+Q273*'c design-col'!$K$10+Q274*'c design-col'!$K$11","v":1273.6708013640002}]
["ECO2/tonne",{"$f":"B276/B275","v":8.5770252696850555E-2},{"$f":"C276/C275","v":8.8897113867785163E-2},9.839176482493063E-2,0.1078586066050969,0.11767394850612543,0.13199043045296227,0.15008460079235697,0.1623971741744196,0.17551708680036696,0.19012266011141926,0.21255909153556343,0.24207716154372869,0.28761183750475583,0.346749219146541,0.42695284950311163,0.5426341178271985]
["ECO2 / m3 / Mpa",{"$f":"B276/B268","v":23.182627175799997},{"$f":"C276/C268","v":17.352716626991665},14.405169318900001,12.633478591654999,11.026990366612001,10.307572682173335,10.042803858734286,9.5132264631374994,9.1397597666511103,8.9106688341019975,9.0577225969436359,9.4571477776416675,9.6329421861414293,10.168854287996249,11.129237610381111,12.736708013640003]
["ECO2 / tonne / Mpa",{"$f":"B277/B268","v":1.0721281587106319E-2},{"$f":"C277/C268","v":7.40809282231543E-3},6.1494853015581644E-3,5.3929303302548449E-3,4.7069579402450176E-3,4.3996810150987425E-3,4.2881314512101991E-3,4.0599293543604901E-3,3.9003797066748213E-3,3.8024532022283854E-3,3.8647107551920625E-3,4.0346193590621452E-3,4.1087405357822264E-3,4.3343652393317625E-3,4.7439205500345739E-3,5.4263411782719852E-3]
[]
["20% PFA, No SP"]
["60-180",8,12,16,20,25,30,35,40,45,50,55,60,70,80,90,100]
["Water content",180,180,180,180,180,180,180,180,180,180,180,180,180,180,180,180]
["Cement content",184,208,231,255,280,317,363,394,428,464,521,597,714,865,1070,1367]
["PFA content",46,52,58,64,70,79,91,98,107,116,130,149,178,216,268,342]
["Fine Agg",949,893,847,807,771,726,678,650,622,594,555,508,443,368,273,146]
["Coarse Agg",977,1004,1020,1030,1035,1034,1025,1014,1000,982,950,902,821,707,545,301]
["Plasticiser dosage"]
["Concrete",{"$f":"B283+B284+B285+B286+B287","v":2336},2337,2336,2336,2336,2336,2337,2336,2337,2336,2336,2336,2336,2336,2336,2336]
["ECO2 / m3",{"$f":"(B283*'c design-col'!$K$6)+(B284*'c design-col'!$K$7)+B285*'c design-col'!$K$8+B286*'c design-col'!$K$9+B287*'c design-col'!$K$10+B288*'c design-col'!$K$11","v":178.80700269829998},{"$f":"(C283*'c design-col'!$K$6)+(C284*'c design-col'!$K$7)+C285*'c design-col'!$K$8+C286*'c design-col'!$K$9+C287*'c design-col'!$K$10+C288*'c design-col'!$K$11","v":200.3997710431},{"$f":"(D283*'c design-col'!$K$6)+(D284*'c design-col'!$K$7)+D285*'c design-col'!$K$8+D286*'c design-col'!$K$9+D287*'c design-col'!$K$10+D288*'c design-col'!$K$11","v":220.99039248289998},{"$f":"(E283*'c design-col'!$K$6)+(E284*'c design-col'!$K$7)+E285*'c design-col'!$K$8+E286*'c design-col'!$K$9+E287*'c design-col'!$K$10+E288*'c design-col'!$K$11","v":242.40164997489998},{"$f":"(F283*'c design-col'!$K$6)+(F284*'c design-col'!$K$7)+F285*'c design-col'!$K$8+F286*'c design-col'!$K$9+F287*'c design-col'!$K$10+F288*'c design-col'!$K$11","v":264.64177320969998},{"$f":"(G283*'c design-col'!$K$6)+(G284*'c design-col'!$K$7)+G285*'c design-col'!$K$8+G286*'c design-col'!$K$9+G287*'c design-col'!$K$10+G288*'c design-col'!$K$11","v":297.47157263619994},{"$f":"(H283*'c design-col'!$K$6)+(H284*'c design-col'!$K$7)+H285*'c design-col'!$K$8+H286*'c design-col'!$K$9+H287*'c design-col'!$K$10+H288*'c design-col'!$K$11","v":338.22756307459997},{"$f":"(I283*'c design-col'!$K$6)+(I284*'c design-col'!$K$7)+I285*'c design-col'!$K$8+I286*'c design-col'!$K$9+I287*'c design-col'!$K$10+I288*'c design-col'!$K$11","v":365.61083384299997},{"$f":"(J283*'c design-col'!$K$6)+(J284*'c design-col'!$K$7)+J285*'c design-col'!$K$8+J286*'c design-col'!$K$9+J287*'c design-col'!$K$10+J288*'c design-col'!$K$11","v":395.6611955354},{"$f":"(K283*'c design-col'!$K$6)+(K284*'c design-col'!$K$7)+K285*'c design-col'!$K$8+K286*'c design-col'!$K$9+K287*'c design-col'!$K$10+K288*'c design-col'!$K$11","v":427.42791265979997},{"$f":"(L283*'c design-col'!$K$6)+(L284*'c design-col'!$K$7)+L285*'c design-col'!$K$8+L286*'c design-col'!$K$9+L287*'c design-col'!$K$10+L288*'c design-col'!$K$11","v":477.68580843849992},{"$f":"(M283*'c design-col'!$K$6)+(M284*'c design-col'!$K$7)+M285*'c design-col'!$K$8+M286*'c design-col'!$K$9+M287*'c design-col'!$K$10+M288*'c design-col'!$K$11","v":544.64834623959996},{"$f":"(N283*'c design-col'!$K$6)+(N284*'c design-col'!$K$7)+N285*'c design-col'!$K$8+N286*'c design-col'!$K$9+N287*'c design-col'!$K$10+N288*'c design-col'!$K$11","v":647.65434129209984},{"$f":"(O283*'c design-col'!$K$6)+(O284*'c design-col'!$K$7)+O285*'c design-col'!$K$8+O286*'c design-col'!$K$9+O287*'c design-col'!$K$10+O288*'c design-col'!$K$11","v":780.50810490159995},{"$f":"(P283*'c design-col'!$K$6)+(P284*'c design-col'!$K$7)+P285*'c design-col'!$K$8+P286*'c design-col'!$K$9+P287*'c design-col'!$K$10+P288*'c design-col'!$K$11","v":960.80639168109985},{"$f":"(Q283*'c design-col'!$K$6)+(Q284*'c design-col'!$K$7)+Q285*'c design-col'!$K$8+Q286*'c design-col'!$K$9+Q287*'c design-col'!$K$10+Q288*'c design-col'!$K$11","v":1221.8880262941998}]
["ECO2/tonne",{"$f":"B290/B289","v":7.6544093620847589E-2},{"$f":"C290/C289","v":8.5750864802353444E-2},9.4602051576583898E-2,0.1037678296125428,0.11328843031237157,0.12734228280659243,0.14472724136696619,0.15651148709032534,0.16930303617261447,0.18297427767970889,0.20448878785894689,0.23315425780804794,0.27724928993668657,0.33412162024897257,0.4113041060278681,0.52306850440676356]
["ECO2 / m3 / Mpa",{"$f":"B290/B282","v":22.350875337287498},{"$f":"C290/C282","v":16.699980920258334},13.811899530181249,12.120082498744999,10.585670928388,9.915719087873331,9.6636446592742846,9.1402708460749995,8.7924710118977778,8.5485582531959992,8.685196517063634,9.0774724373266658,9.2522048756014268,9.7563513112699987,10.675626574234443,12.218880262941997]
["ECO2 / tonne / Mpa",{"$f":"B291/B282","v":9.5680117026059486E-3},{"$f":"C291/C282","v":7.1459054001961203E-3},5.9126282235364936E-3,5.1883914806271402E-3,4.5315372124948624E-3,4.2447427602197475E-3,4.1350640390561766E-3,3.9127871772581336E-3,3.7622896927247658E-3,3.659485553594178E-3,3.7179779610717616E-3,3.8859042968007991E-3,3.9607041419526656E-3,4.1765202531121575E-3,4.5700456225318681E-3,5.2306850440676355E-3]
[]
["20% PFA, SP"]
["60-180",8,12,16,20,25,30,35,40,45,50,55,60,70,80,90,100]
["Water content",162,162,162,162,162,162,162,162,162,162,162,162,162,162,162,162]
["Cement content",166,187,208,230,252,285,326,355,385,418,469,538,643,779,963,1230]
["PFA content",41,47,52,57,63,71,82,89,96,104,117,134,161,195,241,308]
["Fine Agg",979,923,877,838,802,758,712,684,657,631,593,548,488,418,331,215]
["Coarse Agg",1009,1038,1057,1070,1077,1080,1075,1067,1056,1042,1015,974,902,804,660,442]
["Plasticiser dosage",0.8,0.9,1,1.1000000000000001,1.3,1.4,1.6,1.8,1.9,2.1,2.2999999999999998,2.7,3.2,3.9,4.8,6.2]
["Concrete",{"$f":"B297+B298+B299+B300+B301+B302","v":2357.8000000000002},2357.9,2357,2358.1,2357.3000000000002,2357.4,2358.6,2358.8000000000002,2357.9,2359.1,2358.3000000000002,2358.6999999999998,2359.1999999999998,2361.9,2361.8000000000002,2363.1999999999998]
["ECO2 / m3",{"$f":"(B297*'c design-col'!$K$6)+(B298*'c design-col'!$K$7)+B299*'c design-col'!$K$8+B300*'c design-col'!$K$9+B301*'c design-col'!$K$10+B302*'c design-col'!$K$11","v":163.22474112330002},{"$f":"(C297*'c design-col'!$K$6)+(C298*'c design-col'!$K$7)+C299*'c design-col'!$K$8+C300*'c design-col'!$K$9+C301*'c design-col'!$K$10+C302*'c design-col'!$K$11","v":182.19156647209996},{"$f":"(D297*'c design-col'!$K$6)+(D298*'c design-col'!$K$7)+D299*'c design-col'!$K$8+D300*'c design-col'!$K$9+D301*'c design-col'!$K$10+D302*'c design-col'!$K$11","v":201.02598040789999},{"$f":"(E297*'c design-col'!$K$6)+(E298*'c design-col'!$K$7)+E299*'c design-col'!$K$8+E300*'c design-col'!$K$9+E301*'c design-col'!$K$10+E302*'c design-col'!$K$11","v":220.68334184659997},{"$f":"(F297*'c design-col'!$K$6)+(F298*'c design-col'!$K$7)+F299*'c design-col'!$K$8+F300*'c design-col'!$K$9+F301*'c design-col'!$K$10+F302*'c design-col'!$K$11","v":240.29752260539996},{"$f":"(G297*'c design-col'!$K$6)+(G298*'c design-col'!$K$7)+G299*'c design-col'!$K$8+G300*'c design-col'!$K$9+G301*'c design-col'!$K$10+G302*'c design-col'!$K$11","v":269.61851277059998},{"$f":"(H297*'c design-col'!$K$6)+(H298*'c design-col'!$K$7)+H299*'c design-col'!$K$8+H300*'c design-col'!$K$9+H301*'c design-col'!$K$10+H302*'c design-col'!$K$11","v":305.9841230184},{"$f":"(I297*'c design-col'!$K$6)+(I298*'c design-col'!$K$7)+I299*'c design-col'!$K$8+I300*'c design-col'!$K$9+I301*'c design-col'!$K$10+I302*'c design-col'!$K$11","v":331.63818680279996},{"$f":"(J297*'c design-col'!$K$6)+(J298*'c design-col'!$K$7)+J299*'c design-col'!$K$8+J300*'c design-col'!$K$9+J301*'c design-col'!$K$10+J302*'c design-col'!$K$11","v":358.13988664189986},{"$f":"(K297*'c design-col'!$K$6)+(K298*'c design-col'!$K$7)+K299*'c design-col'!$K$8+K300*'c design-col'!$K$9+K301*'c design-col'!$K$10+K302*'c design-col'!$K$11","v":387.2839893757},{"$f":"(L297*'c design-col'!$K$6)+(L298*'c design-col'!$K$7)+L299*'c design-col'!$K$8+L300*'c design-col'!$K$9+L301*'c design-col'!$K$10+L302*'c design-col'!$K$11","v":432.27816320509993},{"$f":"(M297*'c design-col'!$K$6)+(M298*'c design-col'!$K$7)+M299*'c design-col'!$K$8+M300*'c design-col'!$K$9+M301*'c design-col'!$K$10+M302*'c design-col'!$K$11","v":493.09411383159988},{"$f":"(N297*'c design-col'!$K$6)+(N298*'c design-col'!$K$7)+N299*'c design-col'!$K$8+N300*'c design-col'!$K$9+N301*'c design-col'!$K$10+N302*'c design-col'!$K$11","v":585.56674726560004},{"$f":"(O297*'c design-col'!$K$6)+(O298*'c design-col'!$K$7)+O299*'c design-col'!$K$8+O300*'c design-col'!$K$9+O301*'c design-col'!$K$10+O302*'c design-col'!$K$11","v":705.27146974059985},{"$f":"(P297*'c design-col'!$K$6)+(P298*'c design-col'!$K$7)+P299*'c design-col'!$K$8+P300*'c design-col'!$K$9+P301*'c design-col'!$K$10+P302*'c design-col'!$K$11","v":867.09605856169992},{"$f":"(Q297*'c design-col'!$K$6)+(Q298*'c design-col'!$K$7)+Q299*'c design-col'!$K$8+Q300*'c design-col'!$K$9+Q301*'c design-col'!$K$10+Q302*'c design-col'!$K$11","v":1101.8318068045}]
["ECO2/tonne",{"$f":"B304/B303","v":6.9227560065866486E-2},{"$f":"C304/C303","v":7.726857223465794E-2},8.5288918289308444E-2,9.358523465781772E-2,0.10193760768905101,0.11437113462738609,0.12973124862986518,0.14059614499016446,0.15188934502816059,0.16416599100322157,0.18330075189971584,0.20905334032797723,0.2482056405839268,0.29860344203420969,0.36713356700893379,0.46624568669790967]
["ECO2 / m3 / Mpa",{"$f":"B304/B296","v":20.403092640412503},{"$f":"C304/C296","v":15.182630539341664},12.56412377549375,11.034167092329998,9.6119009042159984,8.9872837590199985,8.7424035148114285,8.2909546700699988,7.9586641475977746,7.7456797875139998,7.8596029673654533,8.2182352305266644,8.3652392466514289,8.8158933717574985,9.6344006506855546,11.018318068045]
["ECO2 / tonne / Mpa",{"$f":"B305/B296","v":8.6534450082333108E-3},{"$f":"C305/C296","v":6.4390476862214953E-3},5.3305573930817777E-3,4.6792617328908857E-3,4.0775043075620401E-3,3.8123711542462028E-3,3.7066071037104337E-3,3.5149036247541115E-3,3.3753187784035686E-3,3.2833198200644315E-3,3.3327409436311973E-3,3.4842223387996207E-3,3.5457948654846684E-3,3.732543025427621E-3,4.0792618556548203E-3,4.6624568669790967E-3]
[]
["40% PFA, No SP"]
["60--180",8,12,16,20,25,30,35,40,45,50,55,60,70,80,90,100]
["Water content",170,170,170,170,170,170,170,170,170,170,170,170,170,170,170,170]
["Cement content",156,176,196,216,237,268,307,333,362,393,441,505,604,732,906,1157]
["PFA content",104,117,131,144,158,179,205,222,241,262,294,337,403,488,604,771]
["Fine Agg",945,887,839,798,761,714,664,634,604,574,532,481,410,328,223,82]
["Coarse Agg",973,998,1012,1019,1022,1017,1003,989,971,949,910,854,761,630,445,168]
["Plasticiser dosage"]
["Concrete",{"$f":"B311+B312+B313+B314+B315","v":2348},2348,2348,2347,2348,2348,2349,2348,2348,2348,2347,2347,2348,2348,2348,2348]
["ECO2 / m3",{"$f":"(B311*'c design-col'!$K$6)+(B312*'c design-col'!$K$7)+B313*'c design-col'!$K$8+B314*'c design-col'!$K$9+B315*'c design-col'!$K$10+B316*'c design-col'!$K$11","v":155.55362532749999},{"$f":"(C311*'c design-col'!$K$6)+(C312*'c design-col'!$K$7)+C313*'c design-col'!$K$8+C314*'c design-col'!$K$9+C315*'c design-col'!$K$10+C316*'c design-col'!$K$11","v":173.76953398689997},{"$f":"(D311*'c design-col'!$K$6)+(D312*'c design-col'!$K$7)+D313*'c design-col'!$K$8+D314*'c design-col'!$K$9+D315*'c design-col'!$K$10+D316*'c design-col'!$K$11","v":191.89417864129999},{"$f":"(E311*'c design-col'!$K$6)+(E312*'c design-col'!$K$7)+E313*'c design-col'!$K$8+E314*'c design-col'!$K$9+E315*'c design-col'!$K$10+E316*'c design-col'!$K$11","v":209.91803530659996},{"$f":"(F311*'c design-col'!$K$6)+(F312*'c design-col'!$K$7)+F313*'c design-col'!$K$8+F314*'c design-col'!$K$9+F315*'c design-col'!$K$10+F316*'c design-col'!$K$11","v":228.81061030669994},{"$f":"(G311*'c design-col'!$K$6)+(G312*'c design-col'!$K$7)+G313*'c design-col'!$K$8+G314*'c design-col'!$K$9+G315*'c design-col'!$K$10+G316*'c design-col'!$K$11","v":256.60507906379996},{"$f":"(H311*'c design-col'!$K$6)+(H312*'c design-col'!$K$7)+H313*'c design-col'!$K$8+H314*'c design-col'!$K$9+H315*'c design-col'!$K$10+H316*'c design-col'!$K$11","v":291.48300334080005},{"$f":"(I311*'c design-col'!$K$6)+(I312*'c design-col'!$K$7)+I313*'c design-col'!$K$8+I314*'c design-col'!$K$9+I315*'c design-col'!$K$10+I316*'c design-col'!$K$11","v":314.67367893179994},{"$f":"(J311*'c design-col'!$K$6)+(J312*'c design-col'!$K$7)+J313*'c design-col'!$K$8+J314*'c design-col'!$K$9+J315*'c design-col'!$K$10+J316*'c design-col'!$K$11","v":340.51859285479998},{"$f":"(K311*'c design-col'!$K$6)+(K312*'c design-col'!$K$7)+K313*'c design-col'!$K$8+K314*'c design-col'!$K$9+K315*'c design-col'!$K$10+K316*'c design-col'!$K$11","v":368.13386220979999},{"$f":"(L311*'c design-col'!$K$6)+(L312*'c design-col'!$K$7)+L313*'c design-col'!$K$8+L314*'c design-col'!$K$9+L315*'c design-col'!$K$10+L316*'c design-col'!$K$11","v":410.82590939239992},{"$f":"(M311*'c design-col'!$K$6)+(M312*'c design-col'!$K$7)+M313*'c design-col'!$K$8+M314*'c design-col'!$K$9+M315*'c design-col'!$K$10+M316*'c design-col'!$K$11","v":467.71778585469997},{"$f":"(N311*'c design-col'!$K$6)+(N312*'c design-col'!$K$7)+N313*'c design-col'!$K$8+N314*'c design-col'!$K$9+N315*'c design-col'!$K$10+N316*'c design-col'!$K$11","v":555.64478889899988},{"$f":"(O311*'c design-col'!$K$6)+(O312*'c design-col'!$K$7)+O313*'c design-col'!$K$8+O314*'c design-col'!$K$9+O315*'c design-col'!$K$10+O316*'c design-col'!$K$11","v":669.20357158959996},{"$f":"(P311*'c design-col'!$K$6)+(P312*'c design-col'!$K$7)+P313*'c design-col'!$K$8+P314*'c design-col'!$K$9+P315*'c design-col'!$K$10+P316*'c design-col'!$K$11","v":823.51076434609979},{"$f":"(Q311*'c design-col'!$K$6)+(Q312*'c design-col'!$K$7)+Q313*'c design-col'!$K$8+Q314*'c design-col'!$K$9+Q315*'c design-col'!$K$10+Q316*'c design-col'!$K$11","v":1045.9882897133998}]
["ECO2/tonne",{"$f":"B318/B317","v":6.624941453471038E-2},{"$f":"C318/C317","v":7.4007467626448026E-2},8.1726651891524699E-2,8.9441003539241573E-2,9.7449152600809177E-2,0.10928666058935263,0.12408812402758623,0.13401775082274273,0.14502495436746166,0.15678614233807495,0.17504299505428203,0.19928324919245843,0.23664599186499144,0.28501003900749572,0.35072860491741897,0.44548053224591133]
["ECO2 / m3 / Mpa",{"$f":"B318/B310","v":19.444203165937498},{"$f":"C318/C310","v":14.480794498908331},11.993386165081249,10.495901765329998,9.1524244122679974,8.5535026354599992,8.3280858097371446,7.8668419732949983,7.5670798412177769,7.362677244196,7.4695619889527256,7.7952964309116659,7.9377826985571414,8.3650446448700002,9.1501196038455532,10.459882897133998]
["ECO2 / tonne / Mpa",{"$f":"B319/B310","v":8.2811768168387975E-3},{"$f":"C319/C310","v":6.1672889688706685E-3},5.1079157432202937E-3,4.4720501769620787E-3,3.897966104032367E-3,3.6428886863117543E-3,3.5453749722167494E-3,3.350443770568568E-3,3.2227767637213701E-3,3.1357228467614991E-3,3.182599910077855E-3,3.321387486540974E-3,3.3806570266427349E-3,3.5626254875936966E-3,3.896984499082433E-3,4.4548053224591133E-3]
[]
["40% PFA, SP"]
["60-180",8,12,16,20,25,30,35,40,45,50,55,60,70,80,90,100]
["Water content",153,153,153,153,153,153,153,153,153,153,153,153,153,153,153,153]
["Cement content",140,158,176,194,213,241,276,300,326,354,397,455,544,659,815,1041]
["PFA content",93,105,117,130,142,161,184,200,217,236,265,303,362,439,543,694]
["Fine Agg",976,918,871,830,793,747,699,670,641,613,572,524,459,382,286,157]
["Coarse Agg",1005,1032,1050,1060,1065,1065,1055,1045,1030,1012,980,932,850,735,570,323]
["Plasticiser dosage",0.9,1.1000000000000001,1.2,1.3,1.4,1.6,1.8,2,2.2000000000000002,2.4,2.6,3,3.6,4.4000000000000004,5.4,6.9]
["Concrete",{"$f":"B325+B326+B327+B328+B329+B330","v":2367.9},2367.1,2368.1999999999998,2368.3000000000002,2367.4,2368.6,2368.8000000000002,2370,2369.1999999999998,2370.4,2369.6,2370,2371.6,2372.4,2372.4,2374.9]
["ECO2 / m3",{"$f":"(B325*'c design-col'!$K$6)+(B326*'c design-col'!$K$7)+B327*'c design-col'!$K$8+B328*'c design-col'!$K$9+B329*'c design-col'!$K$10+B330*'c design-col'!$K$11","v":141.58044152319997},{"$f":"(C325*'c design-col'!$K$6)+(C326*'c design-col'!$K$7)+C327*'c design-col'!$K$8+C328*'c design-col'!$K$9+C329*'c design-col'!$K$10+C330*'c design-col'!$K$11","v":158.02729060659996},{"$f":"(D325*'c design-col'!$K$6)+(D326*'c design-col'!$K$7)+D327*'c design-col'!$K$8+D328*'c design-col'!$K$9+D329*'c design-col'!$K$10+D330*'c design-col'!$K$11","v":174.38389179969997},{"$f":"(E325*'c design-col'!$K$6)+(E326*'c design-col'!$K$7)+E327*'c design-col'!$K$8+E328*'c design-col'!$K$9+E329*'c design-col'!$K$10+E330*'c design-col'!$K$11","v":190.67854096099995},{"$f":"(F325*'c design-col'!$K$6)+(F326*'c design-col'!$K$7)+F327*'c design-col'!$K$8+F328*'c design-col'!$K$9+F329*'c design-col'!$K$10+F330*'c design-col'!$K$11","v":207.77505586509997},{"$f":"(G325*'c design-col'!$K$6)+(G326*'c design-col'!$K$7)+G327*'c design-col'!$K$8+G328*'c design-col'!$K$9+G329*'c design-col'!$K$10+G330*'c design-col'!$K$11","v":232.9304513729},{"$f":"(H325*'c design-col'!$K$6)+(H326*'c design-col'!$K$7)+H327*'c design-col'!$K$8+H328*'c design-col'!$K$9+H329*'c design-col'!$K$10+H330*'c design-col'!$K$11","v":264.24787835929993},{"$f":"(I325*'c design-col'!$K$6)+(I326*'c design-col'!$K$7)+I327*'c design-col'!$K$8+I328*'c design-col'!$K$9+I329*'c design-col'!$K$10+I330*'c design-col'!$K$11","v":285.69751100899992},{"$f":"(J325*'c design-col'!$K$6)+(J326*'c design-col'!$K$7)+J327*'c design-col'!$K$8+J328*'c design-col'!$K$9+J329*'c design-col'!$K$10+J330*'c design-col'!$K$11","v":308.87764649869996},{"$f":"(K325*'c design-col'!$K$6)+(K326*'c design-col'!$K$7)+K327*'c design-col'!$K$8+K328*'c design-col'!$K$9+K329*'c design-col'!$K$10+K330*'c design-col'!$K$11","v":333.84330146309998},{"$f":"(L325*'c design-col'!$K$6)+(L326*'c design-col'!$K$7)+L327*'c design-col'!$K$8+L328*'c design-col'!$K$9+L329*'c design-col'!$K$10+L330*'c design-col'!$K$11","v":372.12721478039992},{"$f":"(M325*'c design-col'!$K$6)+(M326*'c design-col'!$K$7)+M327*'c design-col'!$K$8+M328*'c design-col'!$K$9+M329*'c design-col'!$K$10+M330*'c design-col'!$K$11","v":423.69055101079994},{"$f":"(N325*'c design-col'!$K$6)+(N326*'c design-col'!$K$7)+N327*'c design-col'!$K$8+N328*'c design-col'!$K$9+N329*'c design-col'!$K$10+N330*'c design-col'!$K$11","v":502.74497539129999},{"$f":"(O325*'c design-col'!$K$6)+(O326*'c design-col'!$K$7)+O327*'c design-col'!$K$8+O328*'c design-col'!$K$9+O329*'c design-col'!$K$10+O330*'c design-col'!$K$11","v":604.81448326739985},{"$f":"(P325*'c design-col'!$K$6)+(P326*'c design-col'!$K$7)+P327*'c design-col'!$K$8+P328*'c design-col'!$K$9+P329*'c design-col'!$K$10+P330*'c design-col'!$K$11","v":743.16564392019984},{"$f":"(Q325*'c design-col'!$K$6)+(Q326*'c design-col'!$K$7)+Q327*'c design-col'!$K$8+Q328*'c design-col'!$K$9+Q329*'c design-col'!$K$10+Q330*'c design-col'!$K$11","v":943.52741975589993}]
["ECO2/tonne",{"$f":"B332/B331","v":5.9791562786941997E-2},{"$f":"C332/C331","v":6.6759870984157824E-2},7.3635626973946447E-2,8.051283239496683E-2,8.7765082311861101E-2,9.8340982594317325E-2,0.11155347786191316,0.12054747299957803,0.13037212835501436,0.14083838232496623,0.15704220745290343,0.17877238439274259,0.21198556897929668,0.25493781962038436,0.31325478162207038,0.39729143111537324]
["ECO2 / m3 / Mpa",{"$f":"B332/B324","v":17.697555190399996},{"$f":"C332/C324","v":13.16894088388333},10.898993237481248,9.533927048049998,8.3110022346039987,7.7643483790966661,7.5499393816942835,7.1424377752249981,6.86394769997111,6.6768660292619995,6.7659493596436349,7.0615091835133326,7.1820710770185716,7.5601810408424983,8.257396043557776,9.435274197559]
["ECO2 / tonne / Mpa",{"$f":"B333/B324","v":7.4739453483677496E-3},{"$f":"C333/C324","v":5.563322582013152E-3},4.6022266858716529E-3,4.0256416197483411E-3,3.5106032924744441E-3,3.2780327531439107E-3,3.1872422246260906E-3,3.0136868249894507E-3,2.897158407889208E-3,2.8167676464993245E-3,2.8553128627800623E-3,2.9795397398790432E-3,3.0283652711328097E-3,3.1867227452548044E-3,3.4806086846896709E-3,3.9729143111537323E-3]
[]
[]
["Change in ECO2"]
["CEM I --> 40% PFA",{"$f":"B263-B319","v":2.170883357080923E-2},{"$f":"C263-C319","v":2.4717753913957322E-2},2.734448153956627E-2,3.0324374451875274E-2,3.5676141437338313E-2,3.7876902480418778E-2,4.3191652420279197E-2,4.7286723060396524E-2,5.0712700571668767E-2,5.5558937730877167E-2,6.2361643334544498E-2,7.1658041513794291E-2,8.5412723301143162E-2,0.10334473011169354,0.12817615794722087,0.16354922073287259]
["No SP --> SP",{"$f":"B263-B277","v":2.1879954086690551E-3},{"$f":"C263-C277","v":9.8281076726201844E-3},1.0679368606160339E-2,1.1906771386019949E-2,1.5451345532022057E-2,1.5173132616809137E-2,1.719517565550846E-2,1.8907299708719655E-2,2.0220568138763467E-2,2.2222419957532852E-2,2.4845546853263095E-2,2.8864129162524038E-2,3.4446877661378772E-2,4.1605549972648259E-2,5.1951913361528212E-2,6.6395635151585419E-2]
["wet --> dry mix",{"$f":"B263-B11","v":2.5386682104974995E-2},{"$f":"C263-C11","v":2.9753651478599236E-2},3.1897739224935204E-2,3.5511592387892407E-2,4.1444020830651684E-2,4.4376372162066233E-2,5.1154903129180904E-2,5.5642154653532894E-2,6.0138718815889225E-2,6.6024129659107145E-2,7.417878434131922E-2,8.5026876686277841E-2,0.10168094494682978,0.12354214231696892,0.15342351407770521,0.19591357013462812]
[]
[null,{"$f":"100*B339/B263","v":24.680838964375582},{"$f":"100*C339/C263","v":25.03691916643719},25.070319413928143,25.319816929166684,26.798920291672893,25.737962366717799,25.820008453765684,26.081387870701654,25.908505232393413,26.164457265897671,26.268081263183756,26.447811378991332,26.520854514706375,26.610907945352462,26.764435830730974,26.854060894882089]
[null,{"$f":"100*B340/B263","v":2.4875386399740638},{"$f":"100*C340/C263","v":9.9550120215205862},9.7911961398176519,9.9417474279612659,11.606618895124786,10.310386824227296,10.279291388739704,10.428479399193675,10.33044364665121,10.465238916916205,10.465485014058787,10.653278091089391,10.695837758530859,10.713284162059349,10.848067797607637,10.901870528794737]
[null,{"$f":"100*B341/B263","v":28.862196157567528},{"$f":"100*C341/C263","v":30.137842199140504},29.244895713023446,29.650966734748959,31.131590078423237,30.154456195809175,30.580446851041724,30.689896096771079,30.72414392345248,31.092846435466257,31.245718215424073,31.382029835556406,31.572176177371094,31.811671219377462,32.036330806146033,32.168144360174296]

{"sheet":"Sheet5","index":15,"n_rows":45,"n_cols":25,"rows_kept":45,"cut":false,"hidden":false,"merged":[[40,0,40,7],[34,0,34,7]]}
["lowest carbon mix"]
["WORKABILITY","0-10","0-10","0-10","0-10","0-10","0-10","10-30","10-30","10-30","10-30","10-30","10-30","30-60","30-60","30-60","30-60","30-60","30-60","60-180","60-180","60-180","60-180","60-180","60-180"]
["% PFA",{"$f":"B8/B7","v":0},{"$f":"C8/C7","v":0},{"$f":"D8/(D7+D8)","v":0.20099255583126552},{"$f":"E8/(E7+E8)","v":0.20110192837465565},0.39954853273137697,0.39949748743718594,{"$f":"H8/(H7+H8)","v":0},0,0.20041322314049587,0.2,0.4,0.4,0,0,0.20036429872495445,0.20040485829959515,0.40033500837520936,0.40037243947858475,0,0,0.2,0.19923371647509577,0.4,0.4]
["SP",{"$f":"IF(B11=0, 0, 1)","v":0},{"$f":"IF(C11=0, 0, 1)","v":1},{"$f":"IF(D11=0, 0, 1)","v":0},1,0,1,0,1,0,1,0,1,0,1,0,1,0,1,0,1,0,1,0,1]
["UCS",50,50,50,50,50,50,50,50,50,50,50,50,50,50,50,50,50,50,50,50,50,50,50,50]
["Water content",135,121.5,125,112.5,115,103.5,160,144,150,135,140,126,180,162,170,153,155,139.5,195,175.5,180,162,170,153]
["Cement content",374,337,322,290,266,239,444,399,387,348,324,291,499,449,439,395,358,322,541,487,464,418,393,354]
["PFA content",0,0,81,73,177,159,0,0,97,87,216,194,0,0,110,99,239,215,0,0,116,104,262,236]
["Fine Agg",529,548,527,546,522,541,528,552,523,547,512,538,547,576,538,568,532,563,597,633,594,631,574,613]
["Coarse Agg",1349,1397,1344,1392,1331,1381,1227,1282,1214,1271,1191,1249,1110,1170,1092,1153,1081,1143,986,1046,982,1042,949,1012]
["Plasticiser dosage",0,1.3,0,1.5,null,1.6,0,1.6,null,1.7,null,1.9,0,1.8,null,2,null,2.1,0,1.9,null,2.1,null,2.4]
["Concrete",{"$f":"SUM(B6:B11)","v":2387},{"$f":"C6+C7+C9+C10+C11","v":2404.8000000000002},{"$f":"D6+D7+D8+D9+D10+D11","v":2399},2415,{"$f":"F6+F7+F8+F9+F10","v":2411},2423.5,{"$f":"SUM(H6:H11)","v":2359},{"$f":"I6+I7+I8+I9+I10+I11","v":2378.6},{"$f":"J6+J7+J8+J9+J10","v":2371},{"$f":"SUM(K6:K11)","v":2389.6999999999998},{"$f":"L6+L7+L8+L9+L10","v":2383},{"$f":"M6+M7+M8+M9+M10+M11","v":2399.9},{"$f":"SUM(N6:N11)","v":2336},{"$f":"O6+O7+O8+O9+O10+O11","v":2358.8000000000002},{"$f":"P6+P7+P8+P9+P10","v":2349},{"$f":"Q6+Q7+Q8+Q9+Q10+Q11","v":2370},{"$f":"R6+R7+R8+R9+R10","v":2365},{"$f":"S6+S7+S8+S9+S10+S11","v":2384.6},{"$f":"SUM(T6:T11)","v":2319},{"$f":"U6+U7+U8+U9+U10+U11","v":2343.4},{"$f":"V6+V7+V8+V9+V10","v":2336},{"$f":"W6+W7+W8+W9+W10+W11","v":2359.1},{"$f":"X6+X7+X8+X9+X10","v":2348},{"$f":"Y6+Y7+Y8+Y9+Y10+Y11","v":2370.4}]
["ECO2 / m3",{"$f":"(B6*'c design-col'!$K$6)+(B7*'c design-col'!$K$7)+B8*'c design-col'!$K$8+B9*'c design-col'!$K$9+B10*'c design-col'!$K$10+B11*'c design-col'!$K$11","v":349.26810862829996},{"$f":"(C6*'c design-col'!$K$6)+(C7*'c design-col'!$K$7)+C8*'c design-col'!$K$8+C9*'c design-col'!$K$9+C10*'c design-col'!$K$10+C11*'c design-col'!$K$11","v":317.21179006760002},{"$f":"(D6*'c design-col'!$K$6)+(D7*'c design-col'!$K$7)+D8*'c design-col'!$K$8+D9*'c design-col'!$K$9+D10*'c design-col'!$K$10+D11*'c design-col'!$K$11","v":305.41431196689996},{"$f":"(E6*'c design-col'!$K$6)+(E7*'c design-col'!$K$7)+E8*'c design-col'!$K$8+E9*'c design-col'!$K$9+E10*'c design-col'!$K$10+E11*'c design-col'!$K$11","v":277.56240894619998},{"$f":"(F6*'c design-col'!$K$6)+(F7*'c design-col'!$K$7)+F8*'c design-col'!$K$8+F9*'c design-col'!$K$9+F10*'c design-col'!$K$10+F11*'c design-col'!$K$11","v":258.32022861740001},{"$f":"(G6*'c design-col'!$K$6)+(G7*'c design-col'!$K$7)+G8*'c design-col'!$K$8+G9*'c design-col'!$K$9+G10*'c design-col'!$K$10+G11*'c design-col'!$K$11","v":234.6444458007},{"$f":"(H6*'c design-col'!$K$6)+(H7*'c design-col'!$K$7)+H8*'c design-col'!$K$8+H9*'c design-col'!$K$9+H10*'c design-col'!$K$10+H11*'c design-col'!$K$11","v":409.59458395360002},{"$f":"(I6*'c design-col'!$K$6)+(I7*'c design-col'!$K$7)+I8*'c design-col'!$K$8+I9*'c design-col'!$K$9+I10*'c design-col'!$K$10+I11*'c design-col'!$K$11","v":370.56622915039998},{"$f":"(J6*'c design-col'!$K$6)+(J7*'c design-col'!$K$7)+J8*'c design-col'!$K$8+J9*'c design-col'!$K$9+J10*'c design-col'!$K$10+J11*'c design-col'!$K$11","v":361.64361770409988},{"$f":"(K6*'c design-col'!$K$6)+(K7*'c design-col'!$K$7)+K8*'c design-col'!$K$8+K9*'c design-col'!$K$9+K10*'c design-col'!$K$10+K11*'c design-col'!$K$11","v":327.67526600489998},{"$f":"(L6*'c design-col'!$K$6)+(L7*'c design-col'!$K$7)+L8*'c design-col'!$K$8+L9*'c design-col'!$K$9+L10*'c design-col'!$K$10+L11*'c design-col'!$K$11","v":308.84095943039995},{"$f":"(M6*'c design-col'!$K$6)+(M7*'c design-col'!$K$7)+M8*'c design-col'!$K$8+M9*'c design-col'!$K$9+M10*'c design-col'!$K$10+M11*'c design-col'!$K$11","v":279.87038166459996},{"$f":"(N6*'c design-col'!$K$6)+(N7*'c design-col'!$K$7)+N8*'c design-col'!$K$8+N9*'c design-col'!$K$9+N10*'c design-col'!$K$10+N11*'c design-col'!$K$11","v":456.7683077529},{"$f":"(O6*'c design-col'!$K$6)+(O7*'c design-col'!$K$7)+O8*'c design-col'!$K$8+O9*'c design-col'!$K$9+O10*'c design-col'!$K$10+O11*'c design-col'!$K$11","v":413.39435970319994},{"$f":"(P6*'c design-col'!$K$6)+(P7*'c design-col'!$K$7)+P8*'c design-col'!$K$8+P9*'c design-col'!$K$9+P10*'c design-col'!$K$10+P11*'c design-col'!$K$11","v":406.44318404059999},{"$f":"(Q6*'c design-col'!$K$6)+(Q7*'c design-col'!$K$7)+Q8*'c design-col'!$K$8+Q9*'c design-col'!$K$9+Q10*'c design-col'!$K$10+Q11*'c design-col'!$K$11","v":368.09169847360005},{"$f":"(R6*'c design-col'!$K$6)+(R7*'c design-col'!$K$7)+R8*'c design-col'!$K$8+R9*'c design-col'!$K$9+R10*'c design-col'!$K$10+R11*'c design-col'!$K$11","v":338.16142192439986},{"$f":"(S6*'c design-col'!$K$6)+(S7*'c design-col'!$K$7)+S8*'c design-col'!$K$8+S9*'c design-col'!$K$9+S10*'c design-col'!$K$10+S11*'c design-col'!$K$11","v":306.54666412009999},{"$f":"(T6*'c design-col'!$K$6)+(T7*'c design-col'!$K$7)+T8*'c design-col'!$K$8+T9*'c design-col'!$K$9+T10*'c design-col'!$K$10+T11*'c design-col'!$K$11","v":492.42824067989994},{"$f":"(U6*'c design-col'!$K$6)+(U7*'c design-col'!$K$7)+U8*'c design-col'!$K$8+U9*'c design-col'!$K$9+U10*'c design-col'!$K$10+U11*'c design-col'!$K$11","v":445.5334417050999},{"$f":"(V6*'c design-col'!$K$6)+(V7*'c design-col'!$K$7)+V8*'c design-col'!$K$8+V9*'c design-col'!$K$9+V10*'c design-col'!$K$10+V11*'c design-col'!$K$11","v":427.42791265979997},{"$f":"(W6*'c design-col'!$K$6)+(W7*'c design-col'!$K$7)+W8*'c design-col'!$K$8+W9*'c design-col'!$K$9+W10*'c design-col'!$K$10+W11*'c design-col'!$K$11","v":387.2839893757},{"$f":"(X6*'c design-col'!$K$6)+(X7*'c design-col'!$K$7)+X8*'c design-col'!$K$8+X9*'c design-col'!$K$9+X10*'c design-col'!$K$10+X11*'c design-col'!$K$11","v":368.13386220979999},{"$f":"(Y6*'c design-col'!$K$6)+(Y7*'c design-col'!$K$7)+Y8*'c design-col'!$K$8+Y9*'c design-col'!$K$9+Y10*'c design-col'!$K$10+Y11*'c design-col'!$K$11","v":333.84330146309998}]
["ECO2/tonne",{"$f":"B13/B12","v":0.14632095040984497},0.13190776366749835,0.12730900873984993,0.11493267451188405,0.10714235944313563,9.6820485166370956E-2,0.17363059938685885,0.15579173848078701,0.15252788599919859,0.13711983345394821,0.12960174545967265,0.1166175180901704,0.19553437831887843,0.17525621489876203,0.17302817541106855,0.15531295294244729,0.14298580208219866,0.12855265626105009,0.21234508006895211,0.19012266011141926,0.18297427767970889,0.16416599100322157,0.15678614233807495,0.14083838232496623]
["ECO2 / m3 / Mpa",{"$f":"B13/B5","v":6.9853621725659991},6.3442358013520002,6.1082862393379989,5.5512481789239994,5.1664045723480001,4.6928889160139997,8.1918916790720004,7.4113245830079997,7.2328723540819979,6.553505320098,6.1768191886079986,5.5974076332919989,9.1353661550579996,8.2678871940639986,8.1288636808119996,7.3618339694720012,6.7632284384879968,6.1309332824020002,9.8485648135979993,8.9106688341019975,8.5485582531959992,7.7456797875139998,7.362677244196,6.6768660292619995]
["ECO2 / tonne / Mpa",{"$f":"B14/B5","v":2.9264190081968993E-3},2.6381552733499669E-3,2.5461801747969988E-3,2.2986534902376811E-3,2.1428471888627126E-3,1.9364097033274191E-3,3.4726119877371768E-3,3.1158347696157401E-3,3.0505577199839719E-3,2.7423966690789644E-3,2.5920349091934532E-3,2.3323503618034079E-3,3.9106875663775685E-3,3.5051242979752405E-3,3.4605635082213711E-3,3.1062590588489458E-3,2.859716041643973E-3,2.5710531252210018E-3,4.246901601379042E-3,3.8024532022283854E-3,3.659485553594178E-3,3.2833198200644315E-3,3.1357228467614991E-3,2.8167676464993245E-3]
[]
["Cheapest Mix"]
["WORKABILITY","0-10","0-10","0-10","0-10","0-10","0-10","10-30","10-30","10-30","10-30","10-30","10-30","30-60","30-60","30-60","30-60","30-60","30-60","60-180","60-180","60-180","60-180","60-180","60-180"]
["% PFA",{"$f":"B25/B24","v":0},{"$f":"C25/C24","v":0},{"$f":"D25/(D24+D25)","v":0.20021528525296017},{"$f":"E25/(E24+E25)","v":0.19976076555023922},0.39960822722820766,0.40043525571273125,0,0,0.1997780244173141,0.1997533908754624,0.4,0.40044247787610621,0,0,0.19980411361410383,0.20021762785636563,0.40017985611510792,0.39960039960039961,0,0,0.19981498612395929,0.20020533880903491,0.4,0.39981785063752279]
["SP",{"$f":"IF(B28=0, 0, 1)","v":0},{"$f":"IF(C28=0, 0, 1)","v":1},{"$f":"IF(D28=0, 0, 1)","v":0},1,0,1,0,1,0,1,0,1,0,1,0,1,0,1,0,1,0,1,0,1]
["UCS",90,90,90,90,90,90,80,80,80,80,80,80,80,80,80,80,80,80,80,80,80,80,80,80]
["Water content",135,121.5,125,112.5,115,103.5,160,144,150,135,140,126,180,162,170,153,155,139.5,195,175.5,180,162,170,153]
["Cement content",863,777,743,669,613,551,827,744,721,649,603,542,930,837,817,735,667,601,1007,907,865,779,732,659]
["PFA content",0,0,186,167,408,368,0,0,180,162,402,362,0,0,204,184,445,400,0,0,216,195,488,439]
["Fine Agg",336,364,325,354,308,339,366,397,352,385,330,365,364,403,343,384,326,369,382,431,368,418,328,382]
["Coarse Agg",1054,1141,1020,1111,967,1063,1006,1092,967,1057,907,1003,862,955,813,911,772,873,735,829,707,804,630,735]
["Plasticiser dosage",0,3.1,0,3.3,0,3.7,0,3,0,3.2,0,3.6,0,3.3,0,3.7,0,4,0,3.6,0,3.9,0,4.4000000000000004]
["Concrete",{"$f":"SUM(B23:B28)","v":2388},{"$f":"C23+C24+C26+C27+C28","v":2406.6},{"$f":"D23+D24+D25+D26+D27+D28","v":2399},{"$f":"E23+E24+E25+E26+E27+E28","v":2416.8000000000002},{"$f":"F23+F24+F25+F26+F27","v":2411},{"$f":"G23+G24+G25+G26+G27","v":2424.5},{"$f":"SUM(H23:H28)","v":2359},{"$f":"I23+I24+I25+I26+I27+I28","v":2380},{"$f":"J23+J24+J25+J26+J27","v":2370},{"$f":"SUM(K23:K28)","v":2391.1999999999998},{"$f":"L23+L24+L25+L26+L27","v":2382},{"$f":"M23+M24+M25+M26+M27+M28","v":2401.6},{"$f":"SUM(N23:N28)","v":2336},{"$f":"O23+O24+O25+O26+O27+O28","v":2360.3000000000002},{"$f":"P23+P24+P25+P26+P27","v":2347},{"$f":"Q23+Q24+Q25+Q26+Q27+Q28","v":2370.6999999999998},{"$f":"R23+R24+R25+R26+R27","v":2365},{"$f":"S23+S24+S25+S26+S27+S28","v":2386.5},{"$f":"SUM(T23:T28)","v":2319},{"$f":"U23+U24+U25+U26+U27+U28","v":2346.1},{"$f":"V23+V24+V25+V26+V27","v":2336},{"$f":"W23+W24+W25+W26+W27+W28","v":2361.9},{"$f":"X23+X24+X25+X26+X27","v":2348},{"$f":"Y23+Y24+Y25+Y26+Y27+Y28","v":2372.4}]
["ECO2 / m3",{"$f":"(B23*'c design-col'!$K$6)+(B24*'c design-col'!$K$7)+B25*'c design-col'!$K$8+B26*'c design-col'!$K$9+B27*'c design-col'!$K$10+B28*'c design-col'!$K$11","v":777.24922210319994},{"$f":"(C23*'c design-col'!$K$6)+(C24*'c design-col'!$K$7)+C25*'c design-col'!$K$8+C26*'c design-col'!$K$9+C27*'c design-col'!$K$10+C28*'c design-col'!$K$11","v":702.40470494679994},{"$f":"(D23*'c design-col'!$K$6)+(D24*'c design-col'!$K$7)+D25*'c design-col'!$K$8+D26*'c design-col'!$K$9+D27*'c design-col'!$K$10+D28*'c design-col'!$K$11","v":675.7328600175},{"$f":"(E23*'c design-col'!$K$6)+(E24*'c design-col'!$K$7)+E25*'c design-col'!$K$8+E26*'c design-col'!$K$9+E27*'c design-col'!$K$10+E28*'c design-col'!$K$11","v":611.03666051979985},{"$f":"(F23*'c design-col'!$K$6)+(F24*'c design-col'!$K$7)+F25*'c design-col'!$K$8+F26*'c design-col'!$K$9+F27*'c design-col'!$K$10+F28*'c design-col'!$K$11","v":566.09160097959989},{"$f":"(G23*'c design-col'!$K$6)+(G24*'c design-col'!$K$7)+G25*'c design-col'!$K$8+G26*'c design-col'!$K$9+G27*'c design-col'!$K$10+G28*'c design-col'!$K$11","v":511.50488422329994},{"$f":"(H23*'c design-col'!$K$6)+(H24*'c design-col'!$K$7)+H25*'c design-col'!$K$8+H26*'c design-col'!$K$9+H27*'c design-col'!$K$10+H28*'c design-col'!$K$11","v":744.9068568081999},{"$f":"(I23*'c design-col'!$K$6)+(I24*'c design-col'!$K$7)+I25*'c design-col'!$K$8+I26*'c design-col'!$K$9+I27*'c design-col'!$K$10+I28*'c design-col'!$K$11","v":672.70556959189992},{"$f":"(J23*'c design-col'!$K$6)+(J24*'c design-col'!$K$7)+J25*'c design-col'!$K$8+J26*'c design-col'!$K$9+J27*'c design-col'!$K$10+J28*'c design-col'!$K$11","v":655.53165801039995},{"$f":"(K23*'c design-col'!$K$6)+(K24*'c design-col'!$K$7)+K25*'c design-col'!$K$8+K26*'c design-col'!$K$9+K27*'c design-col'!$K$10+K28*'c design-col'!$K$11","v":592.62411700349992},{"$f":"(L23*'c design-col'!$K$6)+(L24*'c design-col'!$K$7)+L25*'c design-col'!$K$8+L26*'c design-col'!$K$9+L27*'c design-col'!$K$10+L28*'c design-col'!$K$11","v":556.39546837499995},{"$f":"(M23*'c design-col'!$K$6)+(M24*'c design-col'!$K$7)+M25*'c design-col'!$K$8+M26*'c design-col'!$K$9+M27*'c design-col'!$K$10+M28*'c design-col'!$K$11","v":502.69937980149996},{"$f":"(N23*'c design-col'!$K$6)+(N24*'c design-col'!$K$7)+N25*'c design-col'!$K$8+N26*'c design-col'!$K$9+N27*'c design-col'!$K$10+N28*'c design-col'!$K$11","v":834.11139935879987},{"$f":"(O23*'c design-col'!$K$6)+(O24*'c design-col'!$K$7)+O25*'c design-col'!$K$8+O26*'c design-col'!$K$9+O27*'c design-col'!$K$10+O28*'c design-col'!$K$11","v":753.17774445209977},{"$f":"(P23*'c design-col'!$K$6)+(P24*'c design-col'!$K$7)+P25*'c design-col'!$K$8+P26*'c design-col'!$K$9+P27*'c design-col'!$K$10+P28*'c design-col'!$K$11","v":739.05231418609992},{"$f":"(Q23*'c design-col'!$K$6)+(Q24*'c design-col'!$K$7)+Q25*'c design-col'!$K$8+Q26*'c design-col'!$K$9+Q27*'c design-col'!$K$10+Q28*'c design-col'!$K$11","v":667.37125912079989},{"$f":"(R23*'c design-col'!$K$6)+(R24*'c design-col'!$K$7)+R25*'c design-col'!$K$8+R26*'c design-col'!$K$9+R27*'c design-col'!$K$10+R28*'c design-col'!$K$11","v":612.3956282521998},{"$f":"(S23*'c design-col'!$K$6)+(S24*'c design-col'!$K$7)+S25*'c design-col'!$K$8+S26*'c design-col'!$K$9+S27*'c design-col'!$K$10+S28*'c design-col'!$K$11","v":554.22638182429989},{"$f":"(T23*'c design-col'!$K$6)+(T24*'c design-col'!$K$7)+T25*'c design-col'!$K$8+T26*'c design-col'!$K$9+T27*'c design-col'!$K$10+T28*'c design-col'!$K$11","v":900.59470958739985},{"$f":"(U23*'c design-col'!$K$6)+(U24*'c design-col'!$K$7)+U25*'c design-col'!$K$8+U26*'c design-col'!$K$9+U27*'c design-col'!$K$10+U28*'c design-col'!$K$11","v":813.50834303969987},{"$f":"(V23*'c design-col'!$K$6)+(V24*'c design-col'!$K$7)+V25*'c design-col'!$K$8+V26*'c design-col'!$K$9+V27*'c design-col'!$K$10+V28*'c design-col'!$K$11","v":780.50810490159995},{"$f":"(W23*'c design-col'!$K$6)+(W24*'c design-col'!$K$7)+W25*'c design-col'!$K$8+W26*'c design-col'!$K$9+W27*'c design-col'!$K$10+W28*'c design-col'!$K$11","v":705.27146974059985},{"$f":"(X23*'c design-col'!$K$6)+(X24*'c design-col'!$K$7)+X25*'c design-col'!$K$8+X26*'c design-col'!$K$9+X27*'c design-col'!$K$10+X28*'c design-col'!$K$11","v":669.20357158959996},{"$f":"(Y23*'c design-col'!$K$6)+(Y24*'c design-col'!$K$7)+Y25*'c design-col'!$K$8+Y26*'c design-col'!$K$9+Y27*'c design-col'!$K$10+Y28*'c design-col'!$K$11","v":604.81448326739985}]
["ECO2/tonne",{"$f":"B30/B29","v":0.32548124878693463},{"$f":"C30/C29","v":0.29186599557333998},0.28167272197478116,0.25282880690160536,0.23479535503094148,0.2109733488237987,0.31577230046977528,0.28264939898819325,0.27659563629130801,0.24783544538453495,0.23358332005667504,0.20931852923113756,0.35706823602688353,0.31910254817273215,0.31489233667920746,0.28150810272105281,0.25894106902841429,0.23223397520398067,0.38835476911918926,0.346749219146541,0.33412162024897257,0.29860344203420969,0.28501003900749572,0.25493781962038436]
["ECO2 / m3 / Mpa",{"$f":"B30/B22","v":8.6361024678133322},{"$f":"C30/C22","v":7.8044967216311107},7.5081428890833335,6.7892962279977764,6.2899066775511097,5.6833876024811101,9.3113357101024992,8.4088196198987486,8.1941457251299994,7.4078014625437492,6.954943354687499,6.2837422475187497,10.426392491984998,9.4147218056512472,9.2381539273262483,8.3421407390099986,7.6549453531524971,6.927829772803749,11.257433869842497,10.168854287996249,9.7563513112699987,8.8158933717574985,8.3650446448700002,7.5601810408424983]
["ECO2 / tonne / Mpa",{"$f":"B31/B22","v":3.6164583198548292E-3},3.2429555063704443E-3,3.129696910830902E-3,2.809208965573393E-3,2.6088372781215719E-3,2.3441483202644299E-3,3.9471537558721913E-3,3.5331174873524155E-3,3.4574454536413501E-3,3.0979430673066868E-3,2.919791500708438E-3,2.6164816153892195E-3,4.4633529503360445E-3,3.9887818521591517E-3,3.9361542084900931E-3,3.5188512840131601E-3,3.2367633628551788E-3,2.9029246900497585E-3,4.8544346139898654E-3,4.3343652393317625E-3,4.1765202531121575E-3,3.732543025427621E-3,3.5626254875936966E-3,3.1867227452548044E-3]
[]
["CO2 increase from cheapest per m3 per MPa to lowest carbon per m3 per MPa "]
["ECO2 / m3",{"$f":"(B30-B13)","v":427.98111347489998},{"$f":"(C30-C13)","v":385.19291487919992},370.31854805060004,333.47425157359987,307.77137236219988,276.86043842259994,335.31227285459988,302.13934044149994,293.88804030630007,264.94885099859994,247.5545089446,222.8289981369,377.34309160589987,339.78338474889983,332.60913014549993,299.27956064719984,274.23420632779994,247.6797177041999,408.1664689074999,367.97490133459996,353.08019224179998,317.98748036489985,301.06970937979997,270.97118180429987]
["ECO2/tonne",{"$f":"(B31-B14)","v":0.17916029837708966},0.15995823190584163,0.15436371323493123,0.13789613238972132,0.12765299558780585,0.11415286365742774,0.14214170108291643,0.12685766050740624,0.12406775029210942,0.11071561193058674,0.10398157459700239,9.2701011140967154E-2,0.1615338577080051,0.14384633327397012,0.14186416126813892,0.12619514977860552,0.11595526694621563,0.10368131894293059,0.17600968905023714,0.15662655903512174,0.15114734256926368,0.13443745103098811,0.12822389666942077,0.11409943729541813]
["ECO2 / m3 / Mpa",1.6507402952473331,1.4602609202791106,1.3998566497453346,1.2380480490737771,1.1235021052031096,0.99049868646711037,1.1194440310304987,0.99749503689074892,0.96127337104800148,0.85429614244574914,0.77812416607950041,0.68633461422675079,1.2910263369269988,1.1468346115872485,1.1092902465142487,0.98030676953799745,0.89171691466450032,0.79689649040174881,1.4088690562444981,1.2581854538942512,1.2077930580739995,1.0702135842434988,1.0023674006740002,0.88331501158049885]
["ECO2 / tonne / Mpa",6.9003931165792986E-4,6.0480023302047744E-4,5.8351673603390317E-4,5.1055547533571197E-4,4.6599008925885931E-4,4.0773861693701075E-4,4.7454176813501456E-4,4.1728271773667537E-4,4.0688773365737821E-4,3.5554639822772249E-4,3.2775659151498479E-4,2.841312535858116E-4,5.5266538395847605E-4,4.8365755418391118E-4,4.7559070026872204E-4,4.1259222516421435E-4,3.7704732121120578E-4,3.3187156482875676E-4,6.0753301261082335E-4,5.3191203710337706E-4,5.1703469951797955E-4,4.4922320536318946E-4,4.2690264083219747E-4,3.6995509875547986E-4]
[]
["% CO2 increase from cheapest per m3 per MPa to lowest carbon per m3 per MPa "]
["ECO2 / m3",{"$f":"(B30-B13)/B13","v":1.2253655655986857},{"$f":"(C30-C13)/C13","v":1.2143083168412896},1.2125120976345543,1.2014388145703019,1.1914334932632873,1.1799147321720838,0.81864430339387728,0.81534504947797626,0.81264544960603169,0.80857140738427891,0.80155983649697415,0.79618642319908273,0.82611487093371827,0.82193522183720713,0.81834102085046967,0.81305707759302948,0.8109565093711617,0.80796742125747945,0.82888517592723954,0.82591982304700662,0.82605787264722907,0.82107055568574938,0.81782672089051112,0.81167176521662388]
["ECO2/tonne",{"$f":"(B31-B14)/B14","v":1.2244336704707131},1.2126521400897257,1.212512097634554,1.1997992126726578,1.1914334932632873,1.1790156128764877,0.81864430339387728,0.81427719944887156,0.81341027890966311,0.80743689035890387,0.80231615884646912,0.79491497211670503,0.82611487093371827,0.82077735934822027,0.81989052321165445,0.81252173362107372,0.81095650937116193,0.80652801706707933,0.82888517592723954,0.82381847036714351,0.82605787264722896,0.81891170156156112,0.81782672089051112,0.81014447490705011]
["ECO2 / m3 / Mpa",0.2363142031103809,0.23017128713404994,0.2291733875747525,0.22302156365016784,0.21746305181293735,0.21106374009560203,0.13665268962117336,0.13459065592373506,0.13290340600376974,0.13035712961517426,0.12597489781060883,0.12261651449942683,0.14132179433357395,0.13870951364825446,0.1364631380315435,0.13316067349564339,0.13184781835697607,0.12997963828592465,0.14305323495452457,0.14119988940437928,0.1412861704045181,0.13816909730359345,0.13614170055656952,0.13229485326038998]
["ECO2 / tonne / Mpa",0.23579648359484059,0.22925118893873656,0.22917338757475231,0.22211067370703205,0.2174630518129374,0.21056422937582644,0.13665268962117344,0.1339232496555447,0.13338142431853939,0.12964805647431485,0.12644759927904317,0.12182185757294076,0.14132179433357409,0.13798584959263765,0.13743157700728395,0.1328260835131711,0.13184781835697629,0.12908001066692462,0.14305323495452471,0.13988654397946459,0.14128617040451819,0.13681981347597566,0.13614170055656943,0.13134029681690629]

{"sheet":"Sheet4","index":16,"n_rows":119,"n_cols":17,"rows_kept":119,"cut":false,"hidden":false,"merged":[]}
["0% PFA, No SP"]
["0-10",8,12,16,20,25,30,35,40,45,50,55,60,70,80,90,100]
["ECO2/tonne",6.2571566000544615E-2,6.8971570061806112E-2,7.7173394206155765E-2,8.425378560322444E-2,9.1681273207495806E-2,0.10278719090770518,0.11612487331868453,0.12566231922960636,0.1355989361232412,0.14632095040984497,0.16322585404750731,0.18591441401997488,0.22037777021930482,0.26481262680222034,0.32548124878693463,0.4131161828441558]
["ECO2 / tonne / Mpa",7.8214457500680769E-3,5.7476308384838424E-3,4.8233371378847353E-3,4.2126892801612218E-3,3.6672509282998323E-3,3.4262396969235056E-3,3.3178535233909863E-3,3.1415579807401589E-3,3.0133096916275821E-3,2.9264190081968993E-3,2.9677428008637692E-3,3.0985735669995813E-3,3.1482538602757831E-3,3.3101578350277542E-3,3.6164583198548292E-3,4.1311618284415579E-3]
[]
["0% PFA, SP"]
["0-10",8,12,16,20,25,30,35,40,45,50,55,60,70,80,90,100]
["ECO2/tonne",5.6792718181106934E-2,6.3512897762239506E-2,6.9844654736793924E-2,7.6152746426420406E-2,8.2802151670507002E-2,9.2742078824446822E-2,0.10488859426094191,0.11327378308612658,0.12209545157669428,0.13190776366749835,0.1469200465718386,0.16719511617006072,0.19781746275320089,0.23778687080315872,0.29186599557333998,0.37145394833867823]
["ECO2 / tonne / Mpa",7.0990897726383667E-3,5.2927414801866258E-3,4.3652909210496202E-3,3.8076373213210201E-3,3.3120860668202799E-3,3.0914026274815607E-3,2.9968169788840543E-3,2.8318445771531647E-3,2.713232257259873E-3,2.6381552733499669E-3,2.6712735740334293E-3,2.7865852695010121E-3,2.8259637536171556E-3,2.972335885039484E-3,3.2429555063704443E-3,3.7145394833867822E-3]
["20% PFA, No SP"]
["0-10",8,12,16,20,25,30,35,40,45,50,55,60,70,80,90,100]
["ECO2/tonne",5.528179716469362E-2,6.1338767888453521E-2,6.7714879460483532E-2,7.369715264272611E-2,8.0370158227583324E-2,8.9673277003042937E-2,0.10146906525487498,0.10957961064012499,0.1180545879315,0.12730900873984993,0.14196041788137501,0.16141285086037499,0.19118679471258856,0.2296657056954147,0.28167272197478116,0.35707126303593162]
["ECO2 / tonne / Mpa",6.9102246455867026E-3,5.1115639907044598E-3,4.2321799662802207E-3,3.6848576321363057E-3,3.2148063291033329E-3,2.9891092334347644E-3,2.8991161501392853E-3,2.7394902660031247E-3,2.6234352873666668E-3,2.5461801747969988E-3,2.581098506934091E-3,2.6902141810062497E-3,2.7312399244655509E-3,2.8708213211926835E-3,3.129696910830902E-3,3.5707126303593162E-3]
[]
["20% PFA, SP"]
["0-10",8,12,16,20,25,30,35,40,45,50,55,60,70,80,90,100]
["ECO2/tonne",5.0276746910686926E-2,5.5944664231929085E-2,6.1556724996934806E-2,6.7142124096052677E-2,7.2705230788643119E-2,8.1167860106892975E-2,9.1828299704255656E-2,9.8796257045535449E-2,0.10652352308605267,0.11493267451188405,0.12807639047381061,0.14521497927697274,0.17180441337649544,0.20625819762762701,0.25282880690160536,0.31992589706303248]
["ECO2 / tonne / Mpa",6.2845933638358657E-3,4.6620553526607574E-3,3.8472953123084254E-3,3.3571062048026339E-3,2.9082092315457246E-3,2.7055953368964325E-3,2.6236657058358757E-3,2.4699064261383863E-3,2.3671894019122817E-3,2.2986534902376811E-3,2.3286616449783746E-3,2.4202496546162126E-3,2.4543487625213632E-3,2.5782274703453375E-3,2.809208965573393E-3,3.1992589706303248E-3]
[]
["40% PFA, No SP"]
["0-10",8,12,16,20,25,30,35,40,45,50,55,60,70,80,90,100]
["ECO2/tonne",4.7038903720954345E-2,5.2358340833596008E-2,5.7309774177759329E-2,6.2554997631646611E-2,6.7834216436307063E-2,7.5646444526296139E-2,8.5671093536126092E-2,9.2344988471795939E-2,9.9381652621360436E-2,0.10714235944313563,0.11895899400543343,0.13517384559738696,0.15982972564931563,0.19145381195197014,0.23479535503094148,0.2968474131651182]
["ECO2 / tonne / Mpa",5.8798629651192931E-3,4.363195069466334E-3,3.5818608861099581E-3,3.1277498815823306E-3,2.7133686574522826E-3,2.521548150876538E-3,2.4477455296036026E-3,2.3086247117948986E-3,2.2084811693635653E-3,2.1428471888627126E-3,2.1628908000987895E-3,2.252897426623116E-3,2.2832817949902232E-3,2.3931726493996268E-3,2.6088372781215719E-3,2.9684741316511822E-3]
[]
["40% PFA, SP"]
["0-10",8,12,16,20,25,30,35,40,45,50,55,60,70,80,90,100]
["ECO2/tonne",4.3172609022885652E-2,4.7781606922632558E-2,5.2319560408623879E-2,5.7182722014889657E-2,6.1695471753001864E-2,6.8765435047988446E-2,7.7623235405320665E-2,8.355893870274396E-2,8.9830301863173076E-2,9.6820485166370956E-2,0.10780214839723652,0.1221042035432873,0.14407592753363577,0.17260177795219631,0.2109733488237987,0.26693455783494946]
["ECO2 / tonne / Mpa",5.3965761278607065E-3,3.9818005768860465E-3,3.2699725255389924E-3,2.859136100744483E-3,2.4678188701200746E-3,2.2921811682662815E-3,2.2178067258663047E-3,2.0889734675685989E-3,1.9962289302927348E-3,1.9364097033274191E-3,1.9600390617679369E-3,2.0350700590547883E-3,2.0582275361947966E-3,2.1575222244024539E-3,2.3441483202644299E-3,2.6693455783494946E-3]
[]
["0% PFA, No SP"]
["10-30",8,12,16,20,25,30,35,40,45,50,55,60,70,80,90,100]
["ECO2/tonne",7.3303234858202615E-2,8.2028048945358201E-2,9.0338941149936389E-2,9.8951293133135582E-2,0.10795215919822032,0.1210900417153455,0.13751521306083087,0.14838331645479219,0.16054638587161016,0.17363059938685885,0.19370345689894022,0.22081416161682918,0.26200502922505298,0.31577230046977528,0.38841534836604491,0.49326692465599825]
["ECO2 / tonne / Mpa",9.1629043572753269E-3,6.8356707454465164E-3,5.6461838218710243E-3,4.9475646566567791E-3,4.3180863679288129E-3,4.0363347238448503E-3,3.9290060874523107E-3,3.7095829113698046E-3,3.5676974638135591E-3,3.4726119877371768E-3,3.5218810345261859E-3,3.6802360269471532E-3,3.7429289889293282E-3,3.9471537558721913E-3,4.3157260929560549E-3,4.9326692465599823E-3]
[]
["0% PFA, SP"]
["10-30",8,12,16,20,25,30,35,40,45,50,55,60,70,80,90,100]
["ECO2/tonne",6.6192602462751202E-2,7.4110018309791068E-2,8.1649644090083268E-2,8.9461496171718002E-2,9.7323824289529015E-2,0.10916835799163549,0.12361454587281438,0.13358997778704715,0.14429744808031097,0.15579173848078701,0.17384917117037998,0.1980638047411033,0.2348111588406637,0.28264939898819325,0.34743739152454128,0.44083345467280816]
["ECO2 / tonne / Mpa",8.2740753078439002E-3,6.1758348591492559E-3,5.1031027556302042E-3,4.4730748085859001E-3,3.8929529715811604E-3,3.6389452663878495E-3,3.5318441677946967E-3,3.3397494446761786E-3,3.206609957340244E-3,3.1158347696157401E-3,3.1608940212796361E-3,3.3010634123517217E-3,3.3544451262951958E-3,3.5331174873524155E-3,3.8604154613837921E-3,4.4083345467280819E-3]
[]
["20% PFA, No SP"]
["10-30",8,12,16,20,25,30,35,40,45,50,55,60,70,80,90,100]
["ECO2/tonne",6.4837577046371303E-2,7.2424037427035001E-2,7.9992410381864179E-2,8.7565619346624476E-2,9.5455783916075954E-2,0.10670714853886075,0.12086950957671866,0.13061325504708859,0.14104799206392402,0.15252788599919859,0.17037543564137494,0.1937691942288064,0.2297709407491354,0.27659563629130801,0.33984993926566842,0.43134220561902148]
["ECO2 / tonne / Mpa",8.1046971307964129E-3,6.0353364522529171E-3,4.9995256488665112E-3,4.3782809673312238E-3,3.8182313566430381E-3,3.5569049512953585E-3,3.4534145593348186E-3,3.265331376177215E-3,3.1343998236427559E-3,3.0505577199839719E-3,3.0977351934795444E-3,3.2294865704801065E-3,3.2824420107019341E-3,3.4574454536413501E-3,3.7761104362852046E-3,4.3134220561902147E-3]
[]
["20% PFA, SP"]
["10-30",8,12,16,20,25,30,35,40,45,50,55,60,70,80,90,100]
["ECO2/tonne",5.8910808144723069E-2,6.5735185452193562E-2,7.2508943773326631E-2,7.9229386009581584E-2,8.5987183289313956E-2,9.6403548819897864E-2,0.10901957088662424,0.11758429119853463,0.12714534240220121,0.13711983345394821,0.15297571869338911,0.173967516856079,0.20596182442849373,0.24783544538453495,0.30433007823026753,0.38582178263178796]
["ECO2 / tonne / Mpa",7.3638510180903836E-3,5.4779321210161299E-3,4.5318089858329145E-3,3.9614693004790796E-3,3.4394873315725582E-3,3.2134516273299289E-3,3.1148448824749784E-3,2.9396072799633658E-3,2.8254520533822491E-3,2.7423966690789644E-3,2.7813767035161654E-3,2.8994586142679834E-3,2.9423117775499103E-3,3.0979430673066868E-3,3.3814453136696392E-3,3.8582178263178797E-3]
[]
["40% PFA, No SP"]
["10-30",8,12,16,20,25,30,35,40,45,50,55,60,70,80,90,100]
["ECO2/tonne",5.5780820036917256E-2,6.2283519502141053E-2,6.8389890405541554E-2,7.4845745779764883E-2,8.1273535194920213E-2,9.1063409559865638E-2,0.1030479966728913,0.11132442590260286,0.11993611482082282,0.12960174545967265,0.14426758779055016,0.16397942764231735,0.1941452602142317,0.23358332005667504,0.28675282418610409,0.36368249813329129]
["ECO2 / tonne / Mpa",6.972602504614657E-3,5.1902932918450875E-3,4.2743681503463471E-3,3.7422872889882443E-3,3.2509414077968087E-3,3.0354469853288548E-3,2.9442284763683229E-3,2.7831106475650715E-3,2.6652469960182848E-3,2.5920349091934532E-3,2.6230470507372754E-3,2.7329904607052893E-3,2.7735037173461674E-3,2.919791500708438E-3,3.1861424909567122E-3,3.6368249813329128E-3]
[]
["40% PFA, SP"]
["10-30",8,12,16,20,25,30,35,40,45,50,55,60,70,80,90,100]
["ECO2/tonne",5.0683033277420964E-2,5.6403451370836626E-2,6.2099616061150477E-2,6.7741670334902707E-2,7.3774486316147053E-2,8.2366722112652585E-2,9.2849497330943942E-2,0.10028749759159859,0.10804518463957845,0.1166175180901704,0.12994930781859845,0.14764496225121798,0.17465111655393584,0.20931852923113756,0.25690097298659165,0.32505510021670059]
["ECO2 / tonne / Mpa",6.3353791596776204E-3,4.7002876142363858E-3,3.8812260038219048E-3,3.3870835167451353E-3,2.950979452645882E-3,2.7455574037550863E-3,2.6528427808841125E-3,2.507187439789965E-3,2.4010041031017433E-3,2.3323503618034079E-3,2.3627146876108811E-3,2.4607493708536329E-3,2.495015950770512E-3,2.6164816153892195E-3,2.854455255406574E-3,3.2505510021670057E-3]
[]
["0% PFA, No SP"]
["30-60",8,12,16,20,25,30,35,40,45,50,55,60,70,80,90,100]
["ECO2/tonne",8.1887332113869851E-2,9.1439282416224316E-2,0.1012856363966196,0.11113855428057337,0.12101971459387839,0.13611511612298799,0.15457088319717463,0.1672907375283697,0.18088856142594176,0.19553437831887843,0.21871326363020963,0.24918005306956331,0.29601925970753423,0.35706823602688353,0.44742427818540931,0.55918654096738007]
["ECO2 / tonne / Mpa",1.0235916514233731E-2,7.6199402013520266E-3,6.3303522747887248E-3,5.5569277140286684E-3,4.8407885837551358E-3,4.5371705374329333E-3,4.4163109484907041E-3,4.1822684382092426E-3,4.0197458094653723E-3,3.9106875663775685E-3,3.976604793276539E-3,4.1530008844927217E-3,4.2288465672504893E-3,4.4633529503360445E-3,4.9713808687267703E-3,5.5918654096738006E-3]
[]
["0% PFA, SP"]
["30-60",8,12,16,20,25,30,35,40,45,50,55,60,70,80,90,100]
["ECO2/tonne",7.383356097561182E-2,8.2559684309016876E-2,9.1240361848424448E-2,9.9889010496988964E-2,0.10893363819672477,0.122359650285896,0.13883651314902007,0.14995946775467456,0.16271194114827572,0.17525621489876203,0.19597952795063556,0.22314842099080232,0.26502966902758707,0.31910254817273215,0.39254556918132172,0.49852145524262675]
["ECO2 / tonne / Mpa",9.2291951219514775E-3,6.8799736924180727E-3,5.702522615526528E-3,4.9944505248494479E-3,4.357345527868991E-3,4.078655009529867E-3,3.9667575185434309E-3,3.7489866938668639E-3,3.6158209144061273E-3,3.5051242979752405E-3,3.56326414455701E-3,3.7191403498467051E-3,3.7861381289655293E-3,3.9887818521591517E-3,4.3616174353480188E-3,4.9852145524262679E-3]
[]
["20% PFA, No SP"]
["30-60",8,12,16,20,25,30,35,40,45,50,55,60,70,80,90,100]
["ECO2/tonne",7.2936386223466765E-2,8.1367259550383292E-2,9.0095797626309052E-2,9.8522688318832541E-2,0.10757371021260646,0.1204707127927141,0.13700674601039181,0.14791919887261498,0.16001325266868341,0.17302817541106855,0.19336406487653321,0.21989807860570454,0.2612172233436541,0.31489233667920746,0.38737669443931,0.49234929345091605]
["ECO2 / tonne / Mpa",9.1170482779333456E-3,6.7806049625319413E-3,5.6309873516443157E-3,4.926134415941627E-3,4.3029484085042582E-3,4.0156904264238031E-3,3.9144784574397656E-3,3.6979799718153744E-3,3.5558500593040757E-3,3.4605635082213711E-3,3.5157102704824221E-3,3.6649679767617421E-3,3.7316746191950584E-3,3.9361542084900931E-3,4.304185493770111E-3,4.9234929345091608E-3]
[]
["20% PFA, SP"]
["30-60",8,12,16,20,25,30,35,40,45,50,55,60,70,80,90,100]
["ECO2/tonne",6.577807765505643E-2,7.3741366608302689E-2,8.1316214015076008E-2,8.8859262528820565E-2,9.6722231193694067E-2,0.10841961883893041,0.12295925747772853,0.1330305150844345,0.1437773614779306,0.15531295294244729,0.17322553109256289,0.19736668617142855,0.23399706584344157,0.28150810272105281,0.3462655989451402,0.43939499203156607]
["ECO2 / tonne / Mpa",8.2222597068820538E-3,6.1451138840252243E-3,5.0822633759422505E-3,4.4429631264410281E-3,3.8688892477477628E-3,3.6139872946310135E-3,3.5131216422208148E-3,3.3257628771108626E-3,3.1950524772873467E-3,3.1062590588489458E-3,3.1495551107738706E-3,3.2894447695238091E-3,3.3428152263348795E-3,3.5188512840131601E-3,3.8473955438348912E-3,4.3939499203156608E-3]
[]
["40% PFA, No SP"]
["30--60",8,12,16,20,25,30,35,40,45,50,55,60,70,80,90,100]
["ECO2/tonne",6.1057996154226551E-2,6.8020254705750516E-2,7.4943813216708954E-2,8.2185737124238573E-2,8.9415809442428079E-2,0.10032801619801351,0.1135996548257928,0.12265046057369974,0.13244384899560252,0.14298580208219866,0.15958699610964464,0.18167962687319236,0.21544854845319236,0.25894106902841429,0.31863708522956852,0.40426746934359403]
["ECO2 / tonne / Mpa",7.6322495192783189E-3,5.6683545588125427E-3,4.6839883260443096E-3,4.1092868562119288E-3,3.5766323776971233E-3,3.3442672066004504E-3,3.2457044235940802E-3,3.0662615143424938E-3,2.9431966443467226E-3,2.859716041643973E-3,2.9015817474480842E-3,3.0279937812198727E-3,3.0778364064741764E-3,3.2367633628551788E-3,3.5404120581063168E-3,4.0426746934359402E-3]
[]
["40% PFA, SP"]
["30--60",8,12,16,20,25,30,35,40,45,50,55,60,70,80,90,100]
["ECO2/tonne",5.5474095031202805E-2,6.1690650961662805E-2,6.8110360642641379E-2,7.4182986446239038E-2,8.0978563032175502E-2,9.0355556652997895E-2,0.10239033080555321,0.11016768870667555,0.11916986963890171,0.12855265626105009,0.1434545056621242,0.16311595567652848,0.19327428341956576,0.23223397520398067,0.28484980253055492,0.3610849693356078]
["ECO2 / tonne / Mpa",6.9342618789003507E-3,5.1408875801385668E-3,4.2568975401650862E-3,3.709149322311952E-3,3.23914252128702E-3,3.011851888433263E-3,2.9254380230158061E-3,2.7541922176668888E-3,2.6482193253089268E-3,2.5710531252210018E-3,2.6082637393113491E-3,2.7185992612754747E-3,2.7610611917080821E-3,2.9029246900497585E-3,3.1649978058950548E-3,3.610849693356078E-3]
[]
[]
["0% PFA, No SP"]
["60-180",8,12,16,20,25,30,35,40,45,50,55,60,70,80,90,100]
["ECO2/tonne",8.795824810551961E-2,9.8725221540405347E-2,0.10907113343109097,0.11976537799111685,0.13312529403814749,0.14716356306977141,0.16727977644786543,0.18130447388313925,0.19573765493913042,0.21234508006895211,0.23740463838882653,0.27094129070625272,0.3220587151661346,0.38835476911918926,0.47890476286463984,0.60902975297878392]
["ECO2 / tonne / Mpa",1.0994781013189951E-2,8.2271017950337789E-3,6.8169458394431856E-3,5.9882688995558427E-3,5.3250117615258998E-3,4.9054521023257133E-3,4.7794221842247268E-3,4.5326118470784809E-3,4.3497256653140092E-3,4.246901601379042E-3,4.3164479707059368E-3,4.5156881784375455E-3,4.6008387880876371E-3,4.8544346139898654E-3,5.3211640318293315E-3,6.0902975297878392E-3]
[]
["0% PFA, SP"]
["60-180",8,12,16,20,25,30,35,40,45,50,55,60,70,80,90,100]
["ECO2/tonne",8.5770252696850555E-2,8.8897113867785163E-2,9.839176482493063E-2,0.1078586066050969,0.11767394850612543,0.13199043045296227,0.15008460079235697,0.1623971741744196,0.17551708680036696,0.19012266011141926,0.21255909153556343,0.24207716154372869,0.28761183750475583,0.346749219146541,0.42695284950311163,0.5426341178271985]
["ECO2 / tonne / Mpa",1.0721281587106319E-2,7.40809282231543E-3,6.1494853015581644E-3,5.3929303302548449E-3,4.7069579402450176E-3,4.3996810150987425E-3,4.2881314512101991E-3,4.0599293543604901E-3,3.9003797066748213E-3,3.8024532022283854E-3,3.8647107551920625E-3,4.0346193590621452E-3,4.1087405357822264E-3,4.3343652393317625E-3,4.7439205500345739E-3,5.4263411782719852E-3]
[]
["20% PFA, No SP"]
["60-180",8,12,16,20,25,30,35,40,45,50,55,60,70,80,90,100]
["ECO2/tonne",7.6544093620847589E-2,8.5750864802353444E-2,9.4602051576583898E-2,0.1037678296125428,0.11328843031237157,0.12734228280659243,0.14472724136696619,0.15651148709032534,0.16930303617261447,0.18297427767970889,0.20448878785894689,0.23315425780804794,0.27724928993668657,0.33412162024897257,0.4113041060278681,0.52306850440676356]
["ECO2 / tonne / Mpa",9.5680117026059486E-3,7.1459054001961203E-3,5.9126282235364936E-3,5.1883914806271402E-3,4.5315372124948624E-3,4.2447427602197475E-3,4.1350640390561766E-3,3.9127871772581336E-3,3.7622896927247658E-3,3.659485553594178E-3,3.7179779610717616E-3,3.8859042968007991E-3,3.9607041419526656E-3,4.1765202531121575E-3,4.5700456225318681E-3,5.2306850440676355E-3]
[]
["20% PFA, SP"]
["60-180",8,12,16,20,25,30,35,40,45,50,55,60,70,80,90,100]
["ECO2/tonne",6.9227560065866486E-2,7.726857223465794E-2,8.5288918289308444E-2,9.358523465781772E-2,0.10193760768905101,0.11437113462738609,0.12973124862986518,0.14059614499016446,0.15188934502816059,0.16416599100322157,0.18330075189971584,0.20905334032797723,0.2482056405839268,0.29860344203420969,0.36713356700893379,0.46624568669790967]
["ECO2 / tonne / Mpa",8.6534450082333108E-3,6.4390476862214953E-3,5.3305573930817777E-3,4.6792617328908857E-3,4.0775043075620401E-3,3.8123711542462028E-3,3.7066071037104337E-3,3.5149036247541115E-3,3.3753187784035686E-3,3.2833198200644315E-3,3.3327409436311973E-3,3.4842223387996207E-3,3.5457948654846684E-3,3.732543025427621E-3,4.0792618556548203E-3,4.6624568669790967E-3]
[]
["40% PFA, No SP"]
["60--180",8,12,16,20,25,30,35,40,45,50,55,60,70,80,90,100]
["ECO2/tonne",6.624941453471038E-2,7.4007467626448026E-2,8.1726651891524699E-2,8.9441003539241573E-2,9.7449152600809177E-2,0.10928666058935263,0.12408812402758623,0.13401775082274273,0.14502495436746166,0.15678614233807495,0.17504299505428203,0.19928324919245843,0.23664599186499144,0.28501003900749572,0.35072860491741897,0.44548053224591133]
["ECO2 / tonne / Mpa",8.2811768168387975E-3,6.1672889688706685E-3,5.1079157432202937E-3,4.4720501769620787E-3,3.897966104032367E-3,3.6428886863117543E-3,3.5453749722167494E-3,3.350443770568568E-3,3.2227767637213701E-3,3.1357228467614991E-3,3.182599910077855E-3,3.321387486540974E-3,3.3806570266427349E-3,3.5626254875936966E-3,3.896984499082433E-3,4.4548053224591133E-3]
[]
["40% PFA, SP"]
["60-180",8,12,16,20,25,30,35,40,45,50,55,60,70,80,90,100]
["ECO2/tonne",5.9791562786941997E-2,6.6759870984157824E-2,7.3635626973946447E-2,8.051283239496683E-2,8.7765082311861101E-2,9.8340982594317325E-2,0.11155347786191316,0.12054747299957803,0.13037212835501436,0.14083838232496623,0.15704220745290343,0.17877238439274259,0.21198556897929668,0.25493781962038436,0.31325478162207038,0.39729143111537324]
["ECO2 / tonne / Mpa",7.4739453483677496E-3,5.563322582013152E-3,4.6022266858716529E-3,4.0256416197483411E-3,3.5106032924744441E-3,3.2780327531439107E-3,3.1872422246260906E-3,3.0136868249894507E-3,2.897158407889208E-3,2.8167676464993245E-3,2.8553128627800623E-3,2.9795397398790432E-3,3.0283652711328097E-3,3.1867227452548044E-3,3.4806086846896709E-3,3.9729143111537323E-3]